BEGIN:VCALENDAR
VERSION:2.0
PRODID:-//Friends of Moreau Lake State Park, Inc. - ECPv6.15.20//NONSGML v1.0//EN
CALSCALE:GREGORIAN
METHOD:PUBLISH
X-ORIGINAL-URL:https://friendsofmoreaulake.org
X-WR-CALDESC:Events for Friends of Moreau Lake State Park, Inc.
REFRESH-INTERVAL;VALUE=DURATION:PT1H
X-Robots-Tag:noindex
X-PUBLISHED-TTL:PT1H
BEGIN:VTIMEZONE
TZID:America/New_York
BEGIN:DAYLIGHT
TZOFFSETFROM:-0500
TZOFFSETTO:-0400
TZNAME:EDT
DTSTART:20240310T070000
END:DAYLIGHT
BEGIN:STANDARD
TZOFFSETFROM:-0400
TZOFFSETTO:-0500
TZNAME:EST
DTSTART:20241103T060000
END:STANDARD
BEGIN:DAYLIGHT
TZOFFSETFROM:-0500
TZOFFSETTO:-0400
TZNAME:EDT
DTSTART:20250309T070000
END:DAYLIGHT
BEGIN:STANDARD
TZOFFSETFROM:-0400
TZOFFSETTO:-0500
TZNAME:EST
DTSTART:20251102T060000
END:STANDARD
BEGIN:DAYLIGHT
TZOFFSETFROM:-0500
TZOFFSETTO:-0400
TZNAME:EDT
DTSTART:20260308T070000
END:DAYLIGHT
BEGIN:STANDARD
TZOFFSETFROM:-0400
TZOFFSETTO:-0500
TZNAME:EST
DTSTART:20261101T060000
END:STANDARD
END:VTIMEZONE
BEGIN:VEVENT
DTSTART;TZID=America/New_York:20250601T110000
DTEND;TZID=America/New_York:20250601T120000
DTSTAMP:20260419T134429
CREATED:20250429T155552Z
LAST-MODIFIED:20250429T155552Z
UID:10018860-1748775600-1748779200@friendsofmoreaulake.org
SUMMARY:Science of Rainbows
DESCRIPTION:What is a rainbow? Why do they appear? How long do they stretch? (Spoiler: they don’t actually have a length) Join a nature center employee to uncover the scientific secrets of rainbows! Open to all ages. Please reserve your spot in advance by calling the office at 518-793-0511.
URL:https://friendsofmoreaulake.org/event/science-of-rainbows/
END:VEVENT
BEGIN:VEVENT
DTSTART;TZID=America/New_York:20250607T090000
DTEND;TZID=America/New_York:20250607T110000
DTSTAMP:20260419T134429
CREATED:20250531T151158Z
LAST-MODIFIED:20250531T151158Z
UID:10018960-1749286800-1749294000@friendsofmoreaulake.org
SUMMARY:Moreau Lake Kayak and Birding
DESCRIPTION:Bring your binoculars and join an educator on a peaceful morning paddle around Moreau Lake and look for birds! Limited rentals are available or bring your own kayak. This program is for people aged 18 and older if you need to rent a kayak or 13+ if you have your own kayak. Please tell the toll booth operator that you are there for a program. Registration is required by calling 518-793-0511\, limited to 6 rentals.
URL:https://friendsofmoreaulake.org/event/moreau-lake-kayak-and-birding/
END:VEVENT
BEGIN:VEVENT
DTSTART;TZID=America/New_York:20250608T093000
DTEND;TZID=America/New_York:20250608T113000
DTSTAMP:20260419T134429
CREATED:20250531T151243Z
LAST-MODIFIED:20250531T151243Z
UID:10018961-1749375000-1749382200@friendsofmoreaulake.org
SUMMARY:Monthly Hiking Challenge
DESCRIPTION:Join the monthly hiking challenge where we will explore the wide variety of trails at Moreau Lake State Park\, if you make it to all the hikes you will get a prize! This month we will be doing our new Spring Overlook Trail that is approximately 3.2 miles with an elevation gain/loss of about 690 feet. The trails will be muddy so please wear the appropriate attire for the weather with water-resistant hiking shoes\, and trekking poles if you need them. Bring a snack and plenty of water or a lunch for the overlook. As always\, we will meet at the park office and caravan to the trailhead. This is a free hike and for ages 13+. Please tell the toll booth operator that you are there for a program. We have a limit of 25 people\, please register in advance by calling the office at 518-793-0511.
URL:https://friendsofmoreaulake.org/event/monthly-hiking-challenge-3/
END:VEVENT
BEGIN:VEVENT
DTSTART;TZID=America/New_York:20250611T200000
DTEND;TZID=America/New_York:20250611T213000
DTSTAMP:20260419T134429
CREATED:20250531T151335Z
LAST-MODIFIED:20250531T151335Z
UID:10018962-1749672000-1749677400@friendsofmoreaulake.org
SUMMARY:Full Moon and Bug Hike
DESCRIPTION:Join a park educator and bug expert on a beginner hike and if the clouds cooperate\, we’ll get to enjoy the splendor of the full “Strawberry Moon” rising above the mountains! This hike is free\, is family friendly and well-behaved dogs on a 6 foot or shorter leash are welcome. This hike will not go the full 3.5 miles\, we will be going closer to 2 miles on flat terrain. We will also be setting up a station to observe insects and learn about them as we go. Wear the appropriate clothing for muddy conditions. We will meet at the park office and caravan to the Big Bend trailhead. Please tell the toll booth operator that you are there for a program. Please register in advance by calling 518-793-0511 the earlier the better as this is a popular program and it fills up quickly.
URL:https://friendsofmoreaulake.org/event/full-moon-and-bug-hike/
END:VEVENT
BEGIN:VEVENT
DTSTART;TZID=America/New_York:20250614T100000
DTEND;TZID=America/New_York:20250614T163000
DTSTAMP:20260419T134429
CREATED:20250531T152933Z
LAST-MODIFIED:20250531T152933Z
UID:10018971-1749895200-1749918600@friendsofmoreaulake.org
SUMMARY:Community Day at Grant Cottage
DESCRIPTION:
URL:https://friendsofmoreaulake.org/event/community-day-at-grant-cottage/
END:VEVENT
BEGIN:VEVENT
DTSTART;TZID=America/New_York:20250615T083000
DTEND;TZID=America/New_York:20250615T103000
DTSTAMP:20260419T134429
CREATED:20250531T151547Z
LAST-MODIFIED:20250531T151547Z
UID:10018963-1749976200-1749983400@friendsofmoreaulake.org
SUMMARY:Birding at Big Bend
DESCRIPTION:Bring your binoculars if you have them and we will check out what birds are around this time of year at Big Bend. This will be a short start-and-stop hike. We will meet at the park office and caravan to Big Bend. Big Bend is a great place to bird from beginners to experts. This is free and geared toward ages 13+. Please register in advance by calling the office at 518-793-0511. When you arrive\, please tell the toll booth operator that you are there for a program
URL:https://friendsofmoreaulake.org/event/birding-at-big-bend/
END:VEVENT
BEGIN:VEVENT
DTSTART;TZID=America/New_York:20250617T160000
DTEND;TZID=America/New_York:20250617T170000
DTSTAMP:20260419T134429
CREATED:20250531T151630Z
LAST-MODIFIED:20250531T151630Z
UID:10018964-1750176000-1750179600@friendsofmoreaulake.org
SUMMARY:Reptile Profile at Crandall Public Library
DESCRIPTION:Follow Moreau Lake State Park’s turtles down the road to Crandall library for a short talk on reptiles! This is free and for all ages. Please register with Crandall Library.
URL:https://friendsofmoreaulake.org/event/reptile-profile-at-crandall-public-library/
END:VEVENT
BEGIN:VEVENT
DTSTART;TZID=America/New_York:20250619T100000
DTEND;TZID=America/New_York:20250619T120000
DTSTAMP:20260419T134429
CREATED:20250531T151710Z
LAST-MODIFIED:20250531T151710Z
UID:10018965-1750327200-1750334400@friendsofmoreaulake.org
SUMMARY:Big Bend Walk
DESCRIPTION:Join an educator on this flat hike with great birding and wildlife viewing\, and gorgeous views of mountains and the Hudson River. This walk is for all ages\, so we will determine how far we will go when we get there (up to 3 miles). Please dress appropriately for the weather with hiking shoes\, plenty of water and a snack. We will meet at the park office and caravan to the new trailhead. When you arrive\, please tell the toll booth operator that you are there for a program. This program is free and for all ages. Please register in advance by calling the office at 518-793-0511.
URL:https://friendsofmoreaulake.org/event/big-bend-walk/
END:VEVENT
BEGIN:VEVENT
DTSTART;TZID=America/New_York:20250621T110000
DTEND;TZID=America/New_York:20250621T130000
DTSTAMP:20260419T134429
CREATED:20250531T151757Z
LAST-MODIFIED:20250531T151757Z
UID:10018966-1750503600-1750510800@friendsofmoreaulake.org
SUMMARY:Basket Weaving
DESCRIPTION:Let’s give new purpose to an invasive plant! Join our nature center employees in a tutorial on weaving your own mini baskets. Geared toward ages 10+ and limited to 15 people. When you arrive\, please tell the toll booth operator that you are there for a program. Please register in advance by calling the office at 518-793-0511.
URL:https://friendsofmoreaulake.org/event/basket-weaving/
END:VEVENT
BEGIN:VEVENT
DTSTART;TZID=America/New_York:20250622T090000
DTEND;TZID=America/New_York:20250622T110000
DTSTAMP:20260419T134429
CREATED:20250531T151915Z
LAST-MODIFIED:20250531T151915Z
UID:10018967-1750582800-1750590000@friendsofmoreaulake.org
SUMMARY:Volunteer: Invasive Plant Removal Project
DESCRIPTION:Come and accompany our educator in starting our monthly invasive pull. We will be learning about our park’s invasives and where the priority areas are. Then we will be pulling invasives so please be prepared with gloves and safety glasses if you have them\, as well as clothes and boots that can get dirty. Free and geared toward ages 13+. When you arrive\, please tell the toll booth operator that you are there for a program. Please register in advance by calling the office at 518-793-0511.
URL:https://friendsofmoreaulake.org/event/volunteer-invasive-plant-removal-project/
END:VEVENT
BEGIN:VEVENT
DTSTART;TZID=America/New_York:20250627T200000
DTEND;TZID=America/New_York:20250627T220000
DTSTAMP:20260419T134429
CREATED:20250531T152008Z
LAST-MODIFIED:20250531T152008Z
UID:10018968-1751054400-1751061600@friendsofmoreaulake.org
SUMMARY:Luminary Walk
DESCRIPTION:Join us at the park for an illuminated walk down at the beach\, the observatory will be open to look at the night sky. This event for all ages. No registration required. **We will have a rain date of Saturday\, June 28th.** More information will be posted on our Facebook page in the future. https://www.facebook.com/MoreauLakeStatePark/
URL:https://friendsofmoreaulake.org/event/luminary-walk-2/
END:VEVENT
BEGIN:VEVENT
DTSTART;TZID=America/New_York:20250628T090000
DTEND;TZID=America/New_York:20250628T110000
DTSTAMP:20260419T134429
CREATED:20250429T155352Z
LAST-MODIFIED:20250531T152521Z
UID:10018970-1751101200-1751108400@friendsofmoreaulake.org
SUMMARY:Moreau Lake Kayak
DESCRIPTION:Join an educator on a peaceful morning paddle around Moreau Lake. You can bring your own kayak\, or we have limited kayak rentals and life jackets available for free and are first come\, first served. This program is for people aged 18 and older if you need to borrow a kayak or 13+ if you have your own kayak. Limited to 10 participants. Please register in advance by calling the office at 518-793-0511.
URL:https://friendsofmoreaulake.org/event/moreau-lake-kayak-6/2025-06-28/
END:VEVENT
BEGIN:VEVENT
DTSTART;TZID=America/New_York:20250630T100000
DTEND;TZID=America/New_York:20250630T120000
DTSTAMP:20260419T134429
CREATED:20250429T154340Z
LAST-MODIFIED:20250531T152206Z
UID:10018969-1751277600-1751284800@friendsofmoreaulake.org
SUMMARY:Knee High Naturalist
DESCRIPTION:This is a nature-themed children’s story time where we’ll read fun\, educational books that spark curiosity about the world around us. Designed for our younger friends\, each session includes interactive reading with added facts and discussion from the educator. Stories will highlight wildlife\, the seasons\, conservation\, and more\, all geared towards inspiring young naturalists. If we are able\, we can go on a short walk to apply our new knowledge. Blankets and stuffies welcome! Free and geared toward ages 6+ or if you’re naturalist can listen to a book being read by an educator. Please register in advance by calling 518-793-0511.
URL:https://friendsofmoreaulake.org/event/knee-high-naturalist/2025-06-30/
END:VEVENT
END:VCALENDAR