BEGIN:VCALENDAR
VERSION:2.0
PRODID:-//Friends of Moreau Lake State Park, Inc. - ECPv6.15.20//NONSGML v1.0//EN
CALSCALE:GREGORIAN
METHOD:PUBLISH
X-ORIGINAL-URL:https://friendsofmoreaulake.org
X-WR-CALDESC:Events for Friends of Moreau Lake State Park, Inc.
REFRESH-INTERVAL;VALUE=DURATION:PT1H
X-Robots-Tag:noindex
X-PUBLISHED-TTL:PT1H
BEGIN:VTIMEZONE
TZID:America/New_York
BEGIN:DAYLIGHT
TZOFFSETFROM:-0500
TZOFFSETTO:-0400
TZNAME:EDT
DTSTART:20230312T070000
END:DAYLIGHT
BEGIN:STANDARD
TZOFFSETFROM:-0400
TZOFFSETTO:-0500
TZNAME:EST
DTSTART:20231105T060000
END:STANDARD
BEGIN:DAYLIGHT
TZOFFSETFROM:-0500
TZOFFSETTO:-0400
TZNAME:EDT
DTSTART:20240310T070000
END:DAYLIGHT
BEGIN:STANDARD
TZOFFSETFROM:-0400
TZOFFSETTO:-0500
TZNAME:EST
DTSTART:20241103T060000
END:STANDARD
BEGIN:DAYLIGHT
TZOFFSETFROM:-0500
TZOFFSETTO:-0400
TZNAME:EDT
DTSTART:20250309T070000
END:DAYLIGHT
BEGIN:STANDARD
TZOFFSETFROM:-0400
TZOFFSETTO:-0500
TZNAME:EST
DTSTART:20251102T060000
END:STANDARD
END:VTIMEZONE
BEGIN:VEVENT
DTSTART;TZID=America/New_York:20240801T100000
DTEND;TZID=America/New_York:20240801T150000
DTSTAMP:20260422T180856
CREATED:20240529T135639Z
LAST-MODIFIED:20240820T140242Z
UID:10011081-1722506400-1722524400@friendsofmoreaulake.org
SUMMARY:Nature Center Open
DESCRIPTION:
URL:https://friendsofmoreaulake.org/event/nature-center-open-2/2024-08-01/
END:VEVENT
BEGIN:VEVENT
DTSTART;TZID=America/New_York:20240802T100000
DTEND;TZID=America/New_York:20240802T150000
DTSTAMP:20260422T180856
CREATED:20240529T135639Z
LAST-MODIFIED:20240820T140242Z
UID:10005182-1722592800-1722610800@friendsofmoreaulake.org
SUMMARY:Nature Center Open
DESCRIPTION:
URL:https://friendsofmoreaulake.org/event/nature-center-open-2/2024-08-02/
END:VEVENT
BEGIN:VEVENT
DTSTART;TZID=America/New_York:20240803T100000
DTEND;TZID=America/New_York:20240803T150000
DTSTAMP:20260422T180856
CREATED:20240529T135639Z
LAST-MODIFIED:20240820T140242Z
UID:10005183-1722679200-1722697200@friendsofmoreaulake.org
SUMMARY:Nature Center Open
DESCRIPTION:
URL:https://friendsofmoreaulake.org/event/nature-center-open-2/2024-08-03/
END:VEVENT
BEGIN:VEVENT
DTSTART;TZID=America/New_York:20240804T090000
DTEND;TZID=America/New_York:20240804T110000
DTSTAMP:20260422T180856
CREATED:20240730T150011Z
LAST-MODIFIED:20240730T150029Z
UID:10012297-1722762000-1722769200@friendsofmoreaulake.org
SUMMARY:100 Boat Float
DESCRIPTION:Join us for our centennial boat float! *We are trying to get 100 boats on the lake by 10:00am for an airial photo to celebrate 100 years of parks. *\nBring your own kayak\, canoe\, or paddleboard to Moreau Lake Sunday August 4th at 9:00am to start launching **No Motor Boats Allowed**.\nPlease register on the Friends of Moreau Lake Website: https://friendsofmoreaulake.org/2024/07/23/centennial-boat-float-aug-4-100-boats-to-float/\nPark entry fees still apply.
URL:https://friendsofmoreaulake.org/event/100-boat-float/
END:VEVENT
BEGIN:VEVENT
DTSTART;TZID=America/New_York:20240804T100000
DTEND;TZID=America/New_York:20240804T150000
DTSTAMP:20260422T180856
CREATED:20240529T135639Z
LAST-MODIFIED:20240820T140242Z
UID:10005184-1722765600-1722783600@friendsofmoreaulake.org
SUMMARY:Nature Center Open
DESCRIPTION:
URL:https://friendsofmoreaulake.org/event/nature-center-open-2/2024-08-04/
END:VEVENT
BEGIN:VEVENT
DTSTART;TZID=America/New_York:20240805T100000
DTEND;TZID=America/New_York:20240805T110000
DTSTAMP:20260422T180856
CREATED:20240629T144159Z
LAST-MODIFIED:20240730T150203Z
UID:10012298-1722852000-1722855600@friendsofmoreaulake.org
SUMMARY:iNaturalist Tutorial
DESCRIPTION:iNaturalist\, do YOU naturalist? Join an educator at the nature center for a lesson on how to set up and use an iNaturalist account\, followed by a brief walk to test our your skills and kick-start your new account.\niNaturalist is a community science app for those who have a love for the outdoors. Users photograph\, identify\, and learn about the life around them. Observations are reviewed to ensure accuracy in IDs so that they can be used in scientific research characterizing migration/seasonal patterns and ecology on a large scale. Geared for ages 14+. Class is $5 per adult\, $1 for under 18 (cash or check). Park tollbooth fees are waved in lieu of program fees\, be sure to call 24-hours in advance to reserve your spot by calling the office at 518-793-0511.
URL:https://friendsofmoreaulake.org/event/inaturalist-tutorial/2024-08-05/
END:VEVENT
BEGIN:VEVENT
DTSTART;TZID=America/New_York:20240805T100000
DTEND;TZID=America/New_York:20240805T150000
DTSTAMP:20260422T180856
CREATED:20240529T135639Z
LAST-MODIFIED:20240820T140242Z
UID:10011082-1722852000-1722870000@friendsofmoreaulake.org
SUMMARY:Nature Center Open
DESCRIPTION:
URL:https://friendsofmoreaulake.org/event/nature-center-open-2/2024-08-05/
END:VEVENT
BEGIN:VEVENT
DTSTART;TZID=America/New_York:20240806T093000
DTEND;TZID=America/New_York:20240806T113000
DTSTAMP:20260422T180856
CREATED:20240629T143942Z
LAST-MODIFIED:20240730T152547Z
UID:10012299-1722936600-1722943800@friendsofmoreaulake.org
SUMMARY:Moreau Lake Kayak
DESCRIPTION:Join an educator on a peaceful morning paddle around Moreau Lake. Limited rentals are available or bring your own kayak. This program is for people aged 18 and older if you need to rent a kayak or 13+ if you have your own kayak. The cost is $5 (or $15 including kayak rental). Check in and pay (cash or check) at the office upon arrival. Park tollbooth fees are waved in lieu of program fees\, be sure to call 24-hours in advance to reserve your spot by calling the office at 518-793-0511.
URL:https://friendsofmoreaulake.org/event/moreau-lake-kayak-4/2024-08-06/
END:VEVENT
BEGIN:VEVENT
DTSTART;TZID=America/New_York:20240806T100000
DTEND;TZID=America/New_York:20240806T150000
DTSTAMP:20260422T180856
CREATED:20240529T135639Z
LAST-MODIFIED:20240820T140242Z
UID:10011083-1722938400-1722956400@friendsofmoreaulake.org
SUMMARY:Nature Center Open
DESCRIPTION:
URL:https://friendsofmoreaulake.org/event/nature-center-open-2/2024-08-06/
END:VEVENT
BEGIN:VEVENT
DTSTART;TZID=America/New_York:20240807T083000
DTEND;TZID=America/New_York:20240807T120000
DTSTAMP:20260422T180856
CREATED:20240730T150441Z
LAST-MODIFIED:20240730T151425Z
UID:10012300-1723019400-1723032000@friendsofmoreaulake.org
SUMMARY:Big Bend Birding\, 8:30am and 10:15am
DESCRIPTION:Big Bend is an 860-acre addition to our park is now officially open to the public! The preserve features over 6 miles of hiking and equestrian trails\, great birding and wildlife viewing\, and gorgeous views of mountains and the Hudson River. Bring your binoculars if you have them and we will go out to check out the wide variety of 100 species of birds that we have identified at our new land.\n8:30am for ages 13+ we will get into identifying birds. \n10:15- Ages 6-12 we will talk about distinguishing birds from their colors and where they are usually found in their environment.\nWe will meet at the park office and caravan to the new trailhead\, tell the booth operator you are there for a guided hike at Big Bend. The program is $5 per adult and $1 per child (cash or check) at the park office when you arrive. PLEASE RESERVE your spot 24-hours in advance by calling the office at 518-793-0511.
URL:https://friendsofmoreaulake.org/event/big-bend-birding-830am-and-1015am/
END:VEVENT
BEGIN:VEVENT
DTSTART;TZID=America/New_York:20240807T130000
DTEND;TZID=America/New_York:20240807T140000
DTSTAMP:20260422T180856
CREATED:20240730T151522Z
LAST-MODIFIED:20240730T151554Z
UID:10012301-1723035600-1723039200@friendsofmoreaulake.org
SUMMARY:Perseid Meteor Shower Hour
DESCRIPTION:The Perseid (Per-see-id) meteor shower is going to be a very cool thing to see in the night sky between July and August because it will be very bright and visible to us on Earth. In 2024 the Perseid meteor shower is active between July 17th and August 24th. The shower will peak August 11th-13th.\nWe are bringing in our volunteer astronomer to talk more about the wonders of meteors and comets and tell you when and how to look for the Perseid Meteor Shower on your own.\nThe program is $5 per adult and $1 per child (cash or check) at the park office when you arrive. PLEASE RESERVE your spot 24-hours in advance by calling the office at 518-793-0511.
URL:https://friendsofmoreaulake.org/event/perseid-meteor-shower-hour/2024-08-07/
END:VEVENT
BEGIN:VEVENT
DTSTART;TZID=America/New_York:20240808T100000
DTEND;TZID=America/New_York:20240808T150000
DTSTAMP:20260422T180856
CREATED:20240529T135639Z
LAST-MODIFIED:20240820T140242Z
UID:10011084-1723111200-1723129200@friendsofmoreaulake.org
SUMMARY:Nature Center Open
DESCRIPTION:
URL:https://friendsofmoreaulake.org/event/nature-center-open-2/2024-08-08/
END:VEVENT
BEGIN:VEVENT
DTSTART;TZID=America/New_York:20240808T130000
DTEND;TZID=America/New_York:20240808T140000
DTSTAMP:20260422T180856
CREATED:20240730T151522Z
LAST-MODIFIED:20240730T151554Z
UID:10012302-1723122000-1723125600@friendsofmoreaulake.org
SUMMARY:Perseid Meteor Shower Hour
DESCRIPTION:The Perseid (Per-see-id) meteor shower is going to be a very cool thing to see in the night sky between July and August because it will be very bright and visible to us on Earth. In 2024 the Perseid meteor shower is active between July 17th and August 24th. The shower will peak August 11th-13th.\nWe are bringing in our volunteer astronomer to talk more about the wonders of meteors and comets and tell you when and how to look for the Perseid Meteor Shower on your own.\nThe program is $5 per adult and $1 per child (cash or check) at the park office when you arrive. PLEASE RESERVE your spot 24-hours in advance by calling the office at 518-793-0511.
URL:https://friendsofmoreaulake.org/event/perseid-meteor-shower-hour/2024-08-08/
END:VEVENT
BEGIN:VEVENT
DTSTART;TZID=America/New_York:20240809T100000
DTEND;TZID=America/New_York:20240809T150000
DTSTAMP:20260422T180856
CREATED:20240529T135639Z
LAST-MODIFIED:20240820T140242Z
UID:10005185-1723197600-1723215600@friendsofmoreaulake.org
SUMMARY:Nature Center Open
DESCRIPTION:
URL:https://friendsofmoreaulake.org/event/nature-center-open-2/2024-08-09/
END:VEVENT
BEGIN:VEVENT
DTSTART;TZID=America/New_York:20240810T100000
DTEND;TZID=America/New_York:20240810T150000
DTSTAMP:20260422T180856
CREATED:20240529T135639Z
LAST-MODIFIED:20240820T140242Z
UID:10005186-1723284000-1723302000@friendsofmoreaulake.org
SUMMARY:Nature Center Open
DESCRIPTION:
URL:https://friendsofmoreaulake.org/event/nature-center-open-2/2024-08-10/
END:VEVENT
BEGIN:VEVENT
DTSTART;TZID=America/New_York:20240811T100000
DTEND;TZID=America/New_York:20240811T150000
DTSTAMP:20260422T180856
CREATED:20240529T135639Z
LAST-MODIFIED:20240820T140242Z
UID:10005187-1723370400-1723388400@friendsofmoreaulake.org
SUMMARY:Nature Center Open
DESCRIPTION:
URL:https://friendsofmoreaulake.org/event/nature-center-open-2/2024-08-11/
END:VEVENT
BEGIN:VEVENT
DTSTART;TZID=America/New_York:20240811T110000
DTEND;TZID=America/New_York:20240811T130000
DTSTAMP:20260422T180856
CREATED:20240730T151804Z
LAST-MODIFIED:20240730T151804Z
UID:10012304-1723374000-1723381200@friendsofmoreaulake.org
SUMMARY:Big Bend Beavers
DESCRIPTION:Big Bend is an 860-acre addition to our park is now officially open to the public! The preserve features over 6 miles of hiking and equestrian trails\, great birding and wildlife viewing\, and gorgeous views of mountains and the Hudson River. Although beavers are a nocturnal animal\, there is plenty evidence of beaver activity at our new land\, come on a short hike with an educator to explore some wetlands and beaver facts. Parking lot is gravel\, but trail is wheelchair and stroller accessible.\nThis program is for all ages.\nWe will meet at the park office and caravan to the new trailhead\, tell the booth operator you are there for a guided hike at Big Bend. The program is $5 per adult and $1 per child (cash or check) at the park office when you arrive. PLEASE RESERVE your spot 24-hours in advance by calling the office at 518-793-0511.
URL:https://friendsofmoreaulake.org/event/big-bend-beavers/
END:VEVENT
BEGIN:VEVENT
DTSTART;TZID=America/New_York:20240812T100000
DTEND;TZID=America/New_York:20240812T120000
DTSTAMP:20260422T180856
CREATED:20240730T151847Z
LAST-MODIFIED:20240730T151847Z
UID:10012305-1723456800-1723464000@friendsofmoreaulake.org
SUMMARY:Butterflies Flutter By
DESCRIPTION:Join a Nature Center Educator to learn about the Monarch Butterfly\, a vulnerable New York Species. We will have activities surrounding the life cycle of a butterfly\, learn which plans Monarch butterflies love\, and where butterflies go when it gets cold. Geared towards ages 10 and up. The program is $5 per adult and $1 per child (cash or check) at the park office when you arrive. PLEASE RESERVE your spot 24-hours in advance by calling the office at 518-793-0511.
URL:https://friendsofmoreaulake.org/event/butterflies-flutter-by/
END:VEVENT
BEGIN:VEVENT
DTSTART;TZID=America/New_York:20240812T100000
DTEND;TZID=America/New_York:20240812T150000
DTSTAMP:20260422T180856
CREATED:20240529T135639Z
LAST-MODIFIED:20240820T140242Z
UID:10011085-1723456800-1723474800@friendsofmoreaulake.org
SUMMARY:Nature Center Open
DESCRIPTION:
URL:https://friendsofmoreaulake.org/event/nature-center-open-2/2024-08-12/
END:VEVENT
BEGIN:VEVENT
DTSTART;TZID=America/New_York:20240812T180000
DTEND;TZID=America/New_York:20240812T200000
DTSTAMP:20260422T180856
CREATED:20240805T134553Z
LAST-MODIFIED:20240805T134657Z
UID:10012405-1723485600-1723492800@friendsofmoreaulake.org
SUMMARY:Friends Member Only Big Bend Walk and Talk
DESCRIPTION:https://wp.me/p9rK3M-5eX \n 
URL:https://friendsofmoreaulake.org/event/friends-member-only-big-bend-walk-and-talk/
END:VEVENT
BEGIN:VEVENT
DTSTART;TZID=America/New_York:20240813T093000
DTEND;TZID=America/New_York:20240813T130000
DTSTAMP:20260422T180856
CREATED:20240730T151945Z
LAST-MODIFIED:20240730T151945Z
UID:10012306-1723541400-1723554000@friendsofmoreaulake.org
SUMMARY:Adventure Loop Hike: 6 miles
DESCRIPTION:We will be hiking a more difficult loop hike that connects the Lake Bonita\, Waterfall\, Western Ridge\, and Lake Anne Trails. The hike is approximately 6 miles. Please wear the appropriate attire for the weather- sunscreen\, bug spray and water-resistant hiking shoes. Bring a snack or lunch and plenty of water. We will meet at the park office and caravan to the trailhead. This hike is for people 15+. The cost is $5 for adults (cash or check). Park tollbooth fees are waived in lieu of program fees\, be sure to call 24-hours in advance to reserve your spot by calling the office at 518-793-0511.
URL:https://friendsofmoreaulake.org/event/adventure-loop-hike-6-miles/
END:VEVENT
BEGIN:VEVENT
DTSTART;TZID=America/New_York:20240813T100000
DTEND;TZID=America/New_York:20240813T150000
DTSTAMP:20260422T180856
CREATED:20240529T135639Z
LAST-MODIFIED:20240820T140242Z
UID:10011086-1723543200-1723561200@friendsofmoreaulake.org
SUMMARY:Nature Center Open
DESCRIPTION:
URL:https://friendsofmoreaulake.org/event/nature-center-open-2/2024-08-13/
END:VEVENT
BEGIN:VEVENT
DTSTART;TZID=America/New_York:20240813T103000
DTEND;TZID=America/New_York:20240813T120000
DTSTAMP:20260422T180856
CREATED:20240730T152025Z
LAST-MODIFIED:20240730T152025Z
UID:10012307-1723545000-1723550400@friendsofmoreaulake.org
SUMMARY:Let's Go Left
DESCRIPTION:In celebration of Left-handed day we will be doing a hike and only turning LEFT. We will start on Nature Trail and follow Mud Pond Trail\, Western Ridge\, Red Oak Ridge and down the Overlook Trail. This will make a lovely circle of left turns.\nThe cost is $5 for adults (cash or check). Park tollbooth fees are waived in lieu of program fees\, be sure to call 24-hours in advance to reserve your spot by calling the office at 518-793-0511.
URL:https://friendsofmoreaulake.org/event/lets-go-left/
END:VEVENT
BEGIN:VEVENT
DTSTART;TZID=America/New_York:20240813T190000
DTEND;TZID=America/New_York:20240813T210000
DTSTAMP:20260422T180856
CREATED:20230823T164245Z
LAST-MODIFIED:20230823T164245Z
UID:10001121-1723575600-1723582800@friendsofmoreaulake.org
SUMMARY:Friends of Moreau Lake Monthly Meeting
DESCRIPTION:Please join us for our monthly general membership board meeting. It is open to the public and is held the second Tuesday of every month at 7pm via ZOOM.  The agenda is sent prior to the meeting to all members. If you would like to come to the meeting but are not a member\, please email: comments@fomlsp.org and we will send you the information to ZOOM as well as the agenda.
URL:https://friendsofmoreaulake.org/event/friends-of-moreau-lake-monthly-meeting/2024-08-13/
ATTACH;FMTTYPE=image/png:https://friendsofmoreaulake.org/wp-content/uploads/2021/10/New-Logo-200x200-1-e1633961946679.png
END:VEVENT
BEGIN:VEVENT
DTSTART;TZID=America/New_York:20240815T100000
DTEND;TZID=America/New_York:20240815T120000
DTSTAMP:20260422T180856
CREATED:20240730T152100Z
LAST-MODIFIED:20240730T152100Z
UID:10012308-1723716000-1723723200@friendsofmoreaulake.org
SUMMARY:Underwater Discovery
DESCRIPTION:Join an educator to learn about the fish in Moreau Lake and then come on a short walk to the creek to look for salamanders\, small fish\, water insects and other underwater life through our underwater viewer! This class is for kids 5+ (siblings welcome). The cost for this class is $1 per child. Park tollbooth fees are waived in lieu of program fees\, be sure to call 24-hours in advance to reserve your spot by calling the office at 518-793-0511.
URL:https://friendsofmoreaulake.org/event/underwater-discovery-2/
END:VEVENT
BEGIN:VEVENT
DTSTART;TZID=America/New_York:20240815T100000
DTEND;TZID=America/New_York:20240815T150000
DTSTAMP:20260422T180856
CREATED:20240529T135639Z
LAST-MODIFIED:20240820T140242Z
UID:10011087-1723716000-1723734000@friendsofmoreaulake.org
SUMMARY:Nature Center Open
DESCRIPTION:
URL:https://friendsofmoreaulake.org/event/nature-center-open-2/2024-08-15/
END:VEVENT
BEGIN:VEVENT
DTSTART;TZID=America/New_York:20240816T100000
DTEND;TZID=America/New_York:20240816T150000
DTSTAMP:20260422T180856
CREATED:20240529T135639Z
LAST-MODIFIED:20240820T140242Z
UID:10005188-1723802400-1723820400@friendsofmoreaulake.org
SUMMARY:Nature Center Open
DESCRIPTION:
URL:https://friendsofmoreaulake.org/event/nature-center-open-2/2024-08-16/
END:VEVENT
BEGIN:VEVENT
DTSTART;TZID=America/New_York:20240817T100000
DTEND;TZID=America/New_York:20240817T150000
DTSTAMP:20260422T180856
CREATED:20240529T135639Z
LAST-MODIFIED:20240820T140242Z
UID:10005189-1723888800-1723906800@friendsofmoreaulake.org
SUMMARY:Nature Center Open
DESCRIPTION:
URL:https://friendsofmoreaulake.org/event/nature-center-open-2/2024-08-17/
END:VEVENT
BEGIN:VEVENT
DTSTART;TZID=America/New_York:20240817T110000
DTEND;TZID=America/New_York:20240817T130000
DTSTAMP:20260422T180856
CREATED:20240730T152148Z
LAST-MODIFIED:20240730T152148Z
UID:10012309-1723892400-1723899600@friendsofmoreaulake.org
SUMMARY:Sandcastle Saturday
DESCRIPTION:Drop into the nature center to follow our educator to a nice sandy area to have a peaceful Saturday making sandcastles. You do not need to register for this\, drop in any time\, park fees apply ($8). For any questions call 518-793-0511.
URL:https://friendsofmoreaulake.org/event/sandcastle-saturday/
END:VEVENT
BEGIN:VEVENT
DTSTART;TZID=America/New_York:20240818T100000
DTEND;TZID=America/New_York:20240818T150000
DTSTAMP:20260422T180856
CREATED:20240529T135639Z
LAST-MODIFIED:20240820T140242Z
UID:10005190-1723975200-1723993200@friendsofmoreaulake.org
SUMMARY:Nature Center Open
DESCRIPTION:
URL:https://friendsofmoreaulake.org/event/nature-center-open-2/2024-08-18/
END:VEVENT
END:VCALENDAR