BEGIN:VCALENDAR
VERSION:2.0
PRODID:-//Friends of Moreau Lake State Park, Inc. - ECPv6.15.20//NONSGML v1.0//EN
CALSCALE:GREGORIAN
METHOD:PUBLISH
X-ORIGINAL-URL:https://friendsofmoreaulake.org
X-WR-CALDESC:Events for Friends of Moreau Lake State Park, Inc.
REFRESH-INTERVAL;VALUE=DURATION:PT1H
X-Robots-Tag:noindex
X-PUBLISHED-TTL:PT1H
BEGIN:VTIMEZONE
TZID:America/New_York
BEGIN:DAYLIGHT
TZOFFSETFROM:-0500
TZOFFSETTO:-0400
TZNAME:EDT
DTSTART:20230312T070000
END:DAYLIGHT
BEGIN:STANDARD
TZOFFSETFROM:-0400
TZOFFSETTO:-0500
TZNAME:EST
DTSTART:20231105T060000
END:STANDARD
BEGIN:DAYLIGHT
TZOFFSETFROM:-0500
TZOFFSETTO:-0400
TZNAME:EDT
DTSTART:20240310T070000
END:DAYLIGHT
BEGIN:STANDARD
TZOFFSETFROM:-0400
TZOFFSETTO:-0500
TZNAME:EST
DTSTART:20241103T060000
END:STANDARD
BEGIN:DAYLIGHT
TZOFFSETFROM:-0500
TZOFFSETTO:-0400
TZNAME:EDT
DTSTART:20250309T070000
END:DAYLIGHT
BEGIN:STANDARD
TZOFFSETFROM:-0400
TZOFFSETTO:-0500
TZNAME:EST
DTSTART:20251102T060000
END:STANDARD
END:VTIMEZONE
BEGIN:VEVENT
DTSTART;TZID=America/New_York:20240701T100000
DTEND;TZID=America/New_York:20240701T150000
DTSTAMP:20260422T231955
CREATED:20240529T135639Z
LAST-MODIFIED:20240820T140242Z
UID:10011067-1719828000-1719846000@friendsofmoreaulake.org
SUMMARY:Nature Center Open
DESCRIPTION:
URL:https://friendsofmoreaulake.org/event/nature-center-open-2/2024-07-01/
END:VEVENT
BEGIN:VEVENT
DTSTART;TZID=America/New_York:20240702T100000
DTEND;TZID=America/New_York:20240702T150000
DTSTAMP:20260422T231955
CREATED:20240529T135639Z
LAST-MODIFIED:20240820T140242Z
UID:10011068-1719914400-1719932400@friendsofmoreaulake.org
SUMMARY:Nature Center Open
DESCRIPTION:
URL:https://friendsofmoreaulake.org/event/nature-center-open-2/2024-07-02/
END:VEVENT
BEGIN:VEVENT
DTSTART;TZID=America/New_York:20240703T090000
DTEND;TZID=America/New_York:20240703T233000
DTSTAMP:20260422T231955
CREATED:20240629T143346Z
LAST-MODIFIED:20240629T143346Z
UID:10012064-1719997200-1720049400@friendsofmoreaulake.org
SUMMARY:Spring Overlook Hike
DESCRIPTION:Join an educator on a moderate to difficult hike to the spring overlook and Spier Falls Overlook. This is an approximately 4-mile loop hike. Bring appropriate clothing and hiking boots\, plenty of water and snacks or a lunch if you want. The hike is $5 (cash or check). Park toll booth fees are waived in lieu of program fees\, be sure to call 24 hours in advance to reserve your spot by calling the office at 518-793-0511.
URL:https://friendsofmoreaulake.org/event/spring-overlook-hike/
END:VEVENT
BEGIN:VEVENT
DTSTART;TZID=America/New_York:20240704T093000
DTEND;TZID=America/New_York:20240704T110000
DTSTAMP:20260422T231955
CREATED:20240629T143428Z
LAST-MODIFIED:20240629T143428Z
UID:10012065-1720085400-1720090800@friendsofmoreaulake.org
SUMMARY:Family Nature Trail Hike
DESCRIPTION:Join an educator on a kid-friendly hike\, well-behaved dogs are welcome on a 6 foot or shorter leash. This is an easy 2 mile loop\, but not accessible for strollers. Please wear appropriate clothing for the weather\, sneakers or hiking boots and bring water. The hike is $1 per child and $5 per adult (cash or check). Park tollbooth fees are waved in lieu of program fees\, be sure to call 24 hours in advance to reserve your spot by calling the office at 518-793-0511.
URL:https://friendsofmoreaulake.org/event/family-nature-trail-hike/
END:VEVENT
BEGIN:VEVENT
DTSTART;TZID=America/New_York:20240704T100000
DTEND;TZID=America/New_York:20240704T150000
DTSTAMP:20260422T231955
CREATED:20240529T135639Z
LAST-MODIFIED:20240820T140242Z
UID:10011069-1720087200-1720105200@friendsofmoreaulake.org
SUMMARY:Nature Center Open
DESCRIPTION:
URL:https://friendsofmoreaulake.org/event/nature-center-open-2/2024-07-04/
END:VEVENT
BEGIN:VEVENT
DTSTART;TZID=America/New_York:20240705T100000
DTEND;TZID=America/New_York:20240705T150000
DTSTAMP:20260422T231955
CREATED:20240529T135639Z
LAST-MODIFIED:20240820T140242Z
UID:10005170-1720173600-1720191600@friendsofmoreaulake.org
SUMMARY:Nature Center Open
DESCRIPTION:
URL:https://friendsofmoreaulake.org/event/nature-center-open-2/2024-07-05/
END:VEVENT
BEGIN:VEVENT
DTSTART;TZID=America/New_York:20240706T100000
DTEND;TZID=America/New_York:20240706T120000
DTSTAMP:20260422T231955
CREATED:20240629T143739Z
LAST-MODIFIED:20240629T143739Z
UID:10012070-1720260000-1720267200@friendsofmoreaulake.org
SUMMARY:"Hot Dogs" K-9 safety
DESCRIPTION:Drop by the nature center for some tips on how to keep your dog safe in the summer heat from an educator and vet tech.
URL:https://friendsofmoreaulake.org/event/hot-dogs-k-9-safety/
END:VEVENT
BEGIN:VEVENT
DTSTART;TZID=America/New_York:20240706T100000
DTEND;TZID=America/New_York:20240706T150000
DTSTAMP:20260422T231955
CREATED:20240529T135639Z
LAST-MODIFIED:20240820T140242Z
UID:10005171-1720260000-1720278000@friendsofmoreaulake.org
SUMMARY:Nature Center Open
DESCRIPTION:
URL:https://friendsofmoreaulake.org/event/nature-center-open-2/2024-07-06/
END:VEVENT
BEGIN:VEVENT
DTSTART;TZID=America/New_York:20240707T083000
DTEND;TZID=America/New_York:20240707T100000
DTSTAMP:20260422T231955
CREATED:20240629T143826Z
LAST-MODIFIED:20240629T143826Z
UID:10012071-1720341000-1720346400@friendsofmoreaulake.org
SUMMARY:Beginner Bird Watching
DESCRIPTION:Calling all beginner birders ages 14+\, join us on a guided hike to search for birds! Bring binoculars if you have them. The hike will be a start and stop walk for less than two miles. Class is $5 per adult\, $1 for under 18 (cash or check). Park tollbooth fees are waved in lieu of program fees\, be sure to call 24-hours in advance to reserve your spot by calling the office at 518-793-0511.
URL:https://friendsofmoreaulake.org/event/beginner-bird-watching/
END:VEVENT
BEGIN:VEVENT
DTSTART;TZID=America/New_York:20240707T100000
DTEND;TZID=America/New_York:20240707T113000
DTSTAMP:20260422T231955
CREATED:20240629T143906Z
LAST-MODIFIED:20240629T143906Z
UID:10012072-1720346400-1720351800@friendsofmoreaulake.org
SUMMARY:Reptile Profile
DESCRIPTION:Join an educator in the nature center to meet our resident reptiles! We at Moreau take care of six New York native turtles and three snakes that cannot be released into the wild and are wonderful little educators. Learn about their exciting lives\, what they like to eat\, and what they use for shell-ter at the Nature Center. The cost is $5 for adults\, $1 for children (cash or check) at the office upon arrival. Park tollbooth fees are waved in lieu of program fees\, be sure to call 24 hours in advance to reserve your spot by calling the office at 518-793-0511.
URL:https://friendsofmoreaulake.org/event/reptile-profile-5/
END:VEVENT
BEGIN:VEVENT
DTSTART;TZID=America/New_York:20240707T100000
DTEND;TZID=America/New_York:20240707T150000
DTSTAMP:20260422T231955
CREATED:20240529T135639Z
LAST-MODIFIED:20240820T140242Z
UID:10005172-1720346400-1720364400@friendsofmoreaulake.org
SUMMARY:Nature Center Open
DESCRIPTION:
URL:https://friendsofmoreaulake.org/event/nature-center-open-2/2024-07-07/
END:VEVENT
BEGIN:VEVENT
DTSTART;TZID=America/New_York:20240708T100000
DTEND;TZID=America/New_York:20240708T150000
DTSTAMP:20260422T231955
CREATED:20240529T135639Z
LAST-MODIFIED:20240820T140242Z
UID:10011070-1720432800-1720450800@friendsofmoreaulake.org
SUMMARY:Nature Center Open
DESCRIPTION:
URL:https://friendsofmoreaulake.org/event/nature-center-open-2/2024-07-08/
END:VEVENT
BEGIN:VEVENT
DTSTART;TZID=America/New_York:20240709T100000
DTEND;TZID=America/New_York:20240709T120000
DTSTAMP:20260422T231955
CREATED:20240629T143942Z
LAST-MODIFIED:20240730T152547Z
UID:10012073-1720519200-1720526400@friendsofmoreaulake.org
SUMMARY:Moreau Lake Kayak
DESCRIPTION:Join an educator on a peaceful morning paddle around Moreau Lake. Limited rentals are available or bring your own kayak. This program is for people aged 18 and older if you need to rent a kayak or 13+ if you have your own kayak. The cost is $5 (or $15 including kayak rental). Check in and pay (cash or check) at the office upon arrival. Park tollbooth fees are waved in lieu of program fees\, be sure to call 24-hours in advance to reserve your spot by calling the office at 518-793-0511.
URL:https://friendsofmoreaulake.org/event/moreau-lake-kayak-4/2024-07-09/
END:VEVENT
BEGIN:VEVENT
DTSTART;TZID=America/New_York:20240709T100000
DTEND;TZID=America/New_York:20240709T150000
DTSTAMP:20260422T231955
CREATED:20240529T135639Z
LAST-MODIFIED:20240820T140242Z
UID:10011071-1720519200-1720537200@friendsofmoreaulake.org
SUMMARY:Nature Center Open
DESCRIPTION:
URL:https://friendsofmoreaulake.org/event/nature-center-open-2/2024-07-09/
END:VEVENT
BEGIN:VEVENT
DTSTART;TZID=America/New_York:20240709T190000
DTEND;TZID=America/New_York:20240709T210000
DTSTAMP:20260422T231955
CREATED:20230823T164245Z
LAST-MODIFIED:20230823T164245Z
UID:10001120-1720551600-1720558800@friendsofmoreaulake.org
SUMMARY:Friends of Moreau Lake Monthly Meeting
DESCRIPTION:Please join us for our monthly general membership board meeting. It is open to the public and is held the second Tuesday of every month at 7pm via ZOOM.  The agenda is sent prior to the meeting to all members. If you would like to come to the meeting but are not a member\, please email: comments@fomlsp.org and we will send you the information to ZOOM as well as the agenda.
URL:https://friendsofmoreaulake.org/event/friends-of-moreau-lake-monthly-meeting/2024-07-09/
ATTACH;FMTTYPE=image/png:https://friendsofmoreaulake.org/wp-content/uploads/2021/10/New-Logo-200x200-1-e1633961946679.png
END:VEVENT
BEGIN:VEVENT
DTSTART;TZID=America/New_York:20240711T100000
DTEND;TZID=America/New_York:20240711T150000
DTSTAMP:20260422T231955
CREATED:20240529T135639Z
LAST-MODIFIED:20240820T140242Z
UID:10011072-1720692000-1720710000@friendsofmoreaulake.org
SUMMARY:Nature Center Open
DESCRIPTION:
URL:https://friendsofmoreaulake.org/event/nature-center-open-2/2024-07-11/
END:VEVENT
BEGIN:VEVENT
DTSTART;TZID=America/New_York:20240712T100000
DTEND;TZID=America/New_York:20240712T150000
DTSTAMP:20260422T231955
CREATED:20240529T135639Z
LAST-MODIFIED:20240820T140242Z
UID:10005173-1720778400-1720796400@friendsofmoreaulake.org
SUMMARY:Nature Center Open
DESCRIPTION:
URL:https://friendsofmoreaulake.org/event/nature-center-open-2/2024-07-12/
END:VEVENT
BEGIN:VEVENT
DTSTART;TZID=America/New_York:20240713T090000
DTEND;TZID=America/New_York:20240713T120000
DTSTAMP:20260422T231955
CREATED:20240629T144026Z
LAST-MODIFIED:20240629T144026Z
UID:10012074-1720861200-1720872000@friendsofmoreaulake.org
SUMMARY:Moreau Lake Birding Kayak Trip
DESCRIPTION:Bring your binoculars and join an educator on a peaceful morning paddle around Moreau Lake and also look for birds! Limited rentals are available or bring your own kayak. This program is for people aged 18 and older if you need to rent a kayak or 13+ if you have your own kayak. The cost is $5 (or $15 including kayak rental). Check in and pay (cash or check) at the office upon arrival. Park tollbooth fees are waved in lieu of program fees\, be sure to call 24-hours in advance to reserve your spot by calling the office at 518-793-0511.
URL:https://friendsofmoreaulake.org/event/moreau-lake-birding-kayak-trip/
END:VEVENT
BEGIN:VEVENT
DTSTART;TZID=America/New_York:20240713T100000
DTEND;TZID=America/New_York:20240713T150000
DTSTAMP:20260422T231955
CREATED:20240529T135639Z
LAST-MODIFIED:20240820T140242Z
UID:10005174-1720864800-1720882800@friendsofmoreaulake.org
SUMMARY:Nature Center Open
DESCRIPTION:
URL:https://friendsofmoreaulake.org/event/nature-center-open-2/2024-07-13/
END:VEVENT
BEGIN:VEVENT
DTSTART;TZID=America/New_York:20240714T093000
DTEND;TZID=America/New_York:20240714T113000
DTSTAMP:20260422T231955
CREATED:20240629T144159Z
LAST-MODIFIED:20240730T150203Z
UID:10012076-1720949400-1720956600@friendsofmoreaulake.org
SUMMARY:iNaturalist Tutorial
DESCRIPTION:iNaturalist\, do YOU naturalist? Join an educator at the nature center for a lesson on how to set up and use an iNaturalist account\, followed by a brief walk to test our your skills and kick-start your new account.\niNaturalist is a community science app for those who have a love for the outdoors. Users photograph\, identify\, and learn about the life around them. Observations are reviewed to ensure accuracy in IDs so that they can be used in scientific research characterizing migration/seasonal patterns and ecology on a large scale. Geared for ages 14+. Class is $5 per adult\, $1 for under 18 (cash or check). Park tollbooth fees are waved in lieu of program fees\, be sure to call 24-hours in advance to reserve your spot by calling the office at 518-793-0511.
URL:https://friendsofmoreaulake.org/event/inaturalist-tutorial/2024-07-14/
END:VEVENT
BEGIN:VEVENT
DTSTART;TZID=America/New_York:20240714T100000
DTEND;TZID=America/New_York:20240714T150000
DTSTAMP:20260422T231955
CREATED:20240529T135639Z
LAST-MODIFIED:20240820T140242Z
UID:10005175-1720951200-1720969200@friendsofmoreaulake.org
SUMMARY:Nature Center Open
DESCRIPTION:
URL:https://friendsofmoreaulake.org/event/nature-center-open-2/2024-07-14/
END:VEVENT
BEGIN:VEVENT
DTSTART;TZID=America/New_York:20240715T100000
DTEND;TZID=America/New_York:20240715T150000
DTSTAMP:20260422T231955
CREATED:20240529T135639Z
LAST-MODIFIED:20240820T140242Z
UID:10011073-1721037600-1721055600@friendsofmoreaulake.org
SUMMARY:Nature Center Open
DESCRIPTION:
URL:https://friendsofmoreaulake.org/event/nature-center-open-2/2024-07-15/
END:VEVENT
BEGIN:VEVENT
DTSTART;TZID=America/New_York:20240716T100000
DTEND;TZID=America/New_York:20240716T150000
DTSTAMP:20260422T231955
CREATED:20240529T135639Z
LAST-MODIFIED:20240820T140242Z
UID:10011074-1721124000-1721142000@friendsofmoreaulake.org
SUMMARY:Nature Center Open
DESCRIPTION:
URL:https://friendsofmoreaulake.org/event/nature-center-open-2/2024-07-16/
END:VEVENT
BEGIN:VEVENT
DTSTART;TZID=America/New_York:20240716T110000
DTEND;TZID=America/New_York:20240716T120000
DTSTAMP:20260422T231955
CREATED:20240629T144336Z
LAST-MODIFIED:20240629T144336Z
UID:10012077-1721127600-1721131200@friendsofmoreaulake.org
SUMMARY:Beaver Walk
DESCRIPTION:Did you know that MLSP is home to a thriving population of North America’s largest rodent? We will walk along the Wetlands Walk and Mud Pond trails where we can view our beaver’s dam and lodges while we learn all about how they live\, love\, and learn. This program is for people of all ages\, it’s an easy-moderate hike of about 2.5 miles. Pay $1 per child and $5 per adult (cash or check) at the office upon arrival. Please register in advance by calling 518-793-0511.
URL:https://friendsofmoreaulake.org/event/beaver-walk-2/
END:VEVENT
BEGIN:VEVENT
DTSTART;TZID=America/New_York:20240718T100000
DTEND;TZID=America/New_York:20240718T150000
DTSTAMP:20260422T231955
CREATED:20240529T135639Z
LAST-MODIFIED:20240820T140242Z
UID:10011075-1721296800-1721314800@friendsofmoreaulake.org
SUMMARY:Nature Center Open
DESCRIPTION:
URL:https://friendsofmoreaulake.org/event/nature-center-open-2/2024-07-18/
END:VEVENT
BEGIN:VEVENT
DTSTART;TZID=America/New_York:20240718T110000
DTEND;TZID=America/New_York:20240718T123000
DTSTAMP:20260422T231955
CREATED:20240629T144430Z
LAST-MODIFIED:20240629T144430Z
UID:10012078-1721300400-1721305800@friendsofmoreaulake.org
SUMMARY:The Buzz on Bees
DESCRIPTION:What is a bee’s favorite flower?\nA bee-gonia!\nJoin an educator at the nature center to talk about how important our bees and pollinators are\, talk about their habits and how sophisticated they can bee! We will then go on a short walk to look for pollinators. Geared toward ages 5+ (siblings welcome). $1 per child (cash or check) at the office upon arrival. Please register in advance by calling 518-793-0511.
URL:https://friendsofmoreaulake.org/event/the-buzz-on-bees/
END:VEVENT
BEGIN:VEVENT
DTSTART;TZID=America/New_York:20240719T100000
DTEND;TZID=America/New_York:20240719T150000
DTSTAMP:20260422T231955
CREATED:20240529T135639Z
LAST-MODIFIED:20240820T140242Z
UID:10005176-1721383200-1721401200@friendsofmoreaulake.org
SUMMARY:Nature Center Open
DESCRIPTION:
URL:https://friendsofmoreaulake.org/event/nature-center-open-2/2024-07-19/
END:VEVENT
BEGIN:VEVENT
DTSTART;TZID=America/New_York:20240720T100000
DTEND;TZID=America/New_York:20240720T150000
DTSTAMP:20260422T231955
CREATED:20240529T135639Z
LAST-MODIFIED:20240820T140242Z
UID:10005177-1721469600-1721487600@friendsofmoreaulake.org
SUMMARY:Nature Center Open
DESCRIPTION:
URL:https://friendsofmoreaulake.org/event/nature-center-open-2/2024-07-20/
END:VEVENT
BEGIN:VEVENT
DTSTART;TZID=America/New_York:20240720T110000
DTEND;TZID=America/New_York:20240720T120000
DTSTAMP:20260422T231955
CREATED:20240629T144648Z
LAST-MODIFIED:20240629T144648Z
UID:10012080-1721473200-1721476800@friendsofmoreaulake.org
SUMMARY:Junior Ranger
DESCRIPTION:Join an educator and a ranger in the nature center to learn more about our park through fun activities! Geared toward kids 5+. The cost is $1 per child (cash or check) at the office upon arrival. Park tollbooth fees are waved in lieu of program fees\, be sure to call 24 hours in advance to reserve your spot by calling the office at 518-793-0511.
URL:https://friendsofmoreaulake.org/event/junior-ranger/2024-07-20/1/
END:VEVENT
BEGIN:VEVENT
DTSTART;TZID=America/New_York:20240720T140000
DTEND;TZID=America/New_York:20240720T150000
DTSTAMP:20260422T231955
CREATED:20240629T144648Z
LAST-MODIFIED:20240629T144648Z
UID:10012081-1721484000-1721487600@friendsofmoreaulake.org
SUMMARY:Junior Ranger
DESCRIPTION:Join an educator and a ranger in the nature center to learn more about our park through fun activities! Geared toward kids 5+. The cost is $1 per child (cash or check) at the office upon arrival. Park tollbooth fees are waved in lieu of program fees\, be sure to call 24 hours in advance to reserve your spot by calling the office at 518-793-0511.
URL:https://friendsofmoreaulake.org/event/junior-ranger/2024-07-20/2/
END:VEVENT
END:VCALENDAR