BEGIN:VCALENDAR
VERSION:2.0
PRODID:-//Friends of Moreau Lake State Park, Inc. - ECPv6.15.20//NONSGML v1.0//EN
CALSCALE:GREGORIAN
METHOD:PUBLISH
X-WR-CALNAME:Friends of Moreau Lake State Park, Inc.
X-ORIGINAL-URL:https://friendsofmoreaulake.org
X-WR-CALDESC:Events for Friends of Moreau Lake State Park, Inc.
REFRESH-INTERVAL;VALUE=DURATION:PT1H
X-Robots-Tag:noindex
X-PUBLISHED-TTL:PT1H
BEGIN:VTIMEZONE
TZID:America/New_York
BEGIN:DAYLIGHT
TZOFFSETFROM:-0500
TZOFFSETTO:-0400
TZNAME:EDT
DTSTART:20220313T070000
END:DAYLIGHT
BEGIN:STANDARD
TZOFFSETFROM:-0400
TZOFFSETTO:-0500
TZNAME:EST
DTSTART:20221106T060000
END:STANDARD
BEGIN:DAYLIGHT
TZOFFSETFROM:-0500
TZOFFSETTO:-0400
TZNAME:EDT
DTSTART:20230312T070000
END:DAYLIGHT
BEGIN:STANDARD
TZOFFSETFROM:-0400
TZOFFSETTO:-0500
TZNAME:EST
DTSTART:20231105T060000
END:STANDARD
BEGIN:DAYLIGHT
TZOFFSETFROM:-0500
TZOFFSETTO:-0400
TZNAME:EDT
DTSTART:20240310T070000
END:DAYLIGHT
BEGIN:STANDARD
TZOFFSETFROM:-0400
TZOFFSETTO:-0500
TZNAME:EST
DTSTART:20241103T060000
END:STANDARD
END:VTIMEZONE
BEGIN:VEVENT
DTSTART;TZID=America/New_York:20231107T120000
DTEND;TZID=America/New_York:20231107T140000
DTSTAMP:20260425T120612
CREATED:20231031T164131Z
LAST-MODIFIED:20231031T165334Z
UID:10002440-1699358400-1699365600@friendsofmoreaulake.org
SUMMARY:Forest Bathing
DESCRIPTION:Coined shinrin-yoku in Japan in the 1980’s\, forest bathing is the ecotherapeutic practice of spending time immersed in nature\, absorbing it with all of your senses. The physiological and psychological benefits last for days afterward with the additional benefit of a new appreciation of our precious woodland and its inhabitants. This is a beginner-rated walk along the Nature Trail with long pauses to sit and enhance our awareness of our surroundings and it is approximately a 2-hour program. A small mat is beneficial to ensure a dry seat. This program is limited to those age 14 and up. Pay $5 per person (cash or check) at the office upon arrival. Registration is required at least 24 hours in advance\, call 518-793-0511.
URL:https://friendsofmoreaulake.org/event/forest-bathing-1248/2023-11-07/
END:VEVENT
BEGIN:VEVENT
DTSTART;TZID=America/New_York:20231112T130000
DTEND;TZID=America/New_York:20231112T143000
DTSTAMP:20260425T120612
CREATED:20231031T164215Z
LAST-MODIFIED:20231031T164215Z
UID:10002441-1699794000-1699799400@friendsofmoreaulake.org
SUMMARY:Gratitude Rocks!
DESCRIPTION:It can be easy to forget to count our blessings sometimes. Join us in the Nature Center where we’ll decorate small rocks to help us remember what we’re grateful for\, as well as discussing how to make gratitude a habit. This program is for people of all ages and is an ideal family activity. The cost is $1 per child\, $5 per adult (cash or check)\, payable at the office upon arrival. Registration is required at least 24 hours in advance\, please call 518-793-0511.
URL:https://friendsofmoreaulake.org/event/gratitude-rocks/
END:VEVENT
BEGIN:VEVENT
DTSTART;TZID=America/New_York:20231113T130000
DTEND;TZID=America/New_York:20231113T150000
DTSTAMP:20260425T120612
CREATED:20231031T164303Z
LAST-MODIFIED:20231031T164303Z
UID:10002442-1699880400-1699887600@friendsofmoreaulake.org
SUMMARY:Cottage Park Hike
DESCRIPTION:Join an educator led hike on the Cottage Park trail. This is an out and back\, moderate rated hike of about 2 and a half miles. The cost is $5 each (cash or check)\, payable at the office upon arrival. Registration is required at least 24 hours in advance\, please call 518-793-0511.
URL:https://friendsofmoreaulake.org/event/cottage-park-hike/
END:VEVENT
BEGIN:VEVENT
DTSTART;TZID=America/New_York:20231114T190000
DTEND;TZID=America/New_York:20231114T210000
DTSTAMP:20260425T120612
CREATED:20230823T164245Z
LAST-MODIFIED:20230823T164245Z
UID:10001112-1699988400-1699995600@friendsofmoreaulake.org
SUMMARY:Friends of Moreau Lake Monthly Meeting
DESCRIPTION:Please join us for our monthly general membership board meeting. It is open to the public and is held the second Tuesday of every month at 7pm via ZOOM.  The agenda is sent prior to the meeting to all members. If you would like to come to the meeting but are not a member\, please email: comments@fomlsp.org and we will send you the information to ZOOM as well as the agenda.
URL:https://friendsofmoreaulake.org/event/friends-of-moreau-lake-monthly-meeting/2023-11-14/
ATTACH;FMTTYPE=image/png:https://friendsofmoreaulake.org/wp-content/uploads/2021/10/New-Logo-200x200-1-e1633961946679.png
END:VEVENT
BEGIN:VEVENT
DTSTART;TZID=America/New_York:20231114T190000
DTEND;TZID=America/New_York:20231114T210000
DTSTAMP:20260425T120612
CREATED:20231031T164400Z
LAST-MODIFIED:20231031T165713Z
UID:10002443-1699988400-1699995600@friendsofmoreaulake.org
SUMMARY:Friends Monthly Board of Directors Meeting
DESCRIPTION:Everyone is welcome to attend the monthly Board of DirectorsMeetings for the Friends of Moreau Lake State Park. All meetings are held by ZOOM. The agenda and ZOOM log-in information is sent ahead of time to members. If you are not a member but would like to attend\, please email comments@fomlsp.org and we will respond ASAP. We hope you can join us!!
URL:https://friendsofmoreaulake.org/event/friends-monthly-board-meeting/
ATTACH;FMTTYPE=image/png:https://friendsofmoreaulake.org/wp-content/uploads/2021/10/New-Logo-200x200-1-e1633961946679.png
END:VEVENT
BEGIN:VEVENT
DTSTART;TZID=America/New_York:20231121T120000
DTEND;TZID=America/New_York:20231121T140000
DTSTAMP:20260425T120612
CREATED:20231031T164131Z
LAST-MODIFIED:20231031T165334Z
UID:10002444-1700568000-1700575200@friendsofmoreaulake.org
SUMMARY:Forest Bathing
DESCRIPTION:Coined shinrin-yoku in Japan in the 1980’s\, forest bathing is the ecotherapeutic practice of spending time immersed in nature\, absorbing it with all of your senses. The physiological and psychological benefits last for days afterward with the additional benefit of a new appreciation of our precious woodland and its inhabitants. This is a beginner-rated walk along the Nature Trail with long pauses to sit and enhance our awareness of our surroundings and it is approximately a 2-hour program. A small mat is beneficial to ensure a dry seat. This program is limited to those age 14 and up. Pay $5 per person (cash or check) at the office upon arrival. Registration is required at least 24 hours in advance\, call 518-793-0511.
URL:https://friendsofmoreaulake.org/event/forest-bathing-1248/2023-11-21/
END:VEVENT
BEGIN:VEVENT
DTSTART;TZID=America/New_York:20231122T100000
DTEND;TZID=America/New_York:20231122T110000
DTSTAMP:20260425T120612
CREATED:20231031T164601Z
LAST-MODIFIED:20231031T164601Z
UID:10002445-1700647200-1700650800@friendsofmoreaulake.org
SUMMARY:Learn to Sprout
DESCRIPTION:If you’ve ever wanted to try your hand at growing your own delicious and nutritious sprouts\, here’s the perfect opportunity to learn how and why you should. Bring a friend and a clean wide-mouth canning jar\, the other materials will be provided. The cost is $5 each (cash or check)\, payable at the office upon arrival. Registration is required at least 24 hours in advance\, please call 518-793-0511.
URL:https://friendsofmoreaulake.org/event/learn-to-sprout/
END:VEVENT
BEGIN:VEVENT
DTSTART;TZID=America/New_York:20231123T120000
DTEND;TZID=America/New_York:20231123T140000
DTSTAMP:20260425T120612
CREATED:20231031T164657Z
LAST-MODIFIED:20231031T164657Z
UID:10002446-1700740800-1700748000@friendsofmoreaulake.org
SUMMARY:Thanksgiving Gratitude Walk
DESCRIPTION:Come to Moreau this Thanksgiving for a guided Nature Walk. As we go we’ll pay particular attention to the beauty and peace of our natural surroundings and focus on our gratitude for being here to appreciate it. This is a beginner-rated walk on the Nature Trail\, suitable for those of all ages. Registration is required at least 24 hours in advance\, call 518-793-0511.
URL:https://friendsofmoreaulake.org/event/thanksgiving-gratitude-walk-2/
END:VEVENT
BEGIN:VEVENT
DTSTART;TZID=America/New_York:20231125T100000
DTEND;TZID=America/New_York:20231125T150000
DTSTAMP:20260425T120612
CREATED:20231031T164914Z
LAST-MODIFIED:20231031T165453Z
UID:10002447-1700906400-1700924400@friendsofmoreaulake.org
SUMMARY:Friends Hosted Wreath Making
DESCRIPTION:Friends of Moreau Lake Holiday Wreath-making event at Moreau Lake State Park on Saturday\, Nov. 25. 2 Sessions available – 10:00am – Noon\, and 1:00pm – 3:00pm. Strict limit of 12 people per session\, First come\, first served. Please note that this event is designed for adults only.\n$25 per person\, includes decorations\, ribbons\, and help to make your own wreath.\nPlease RSVP via this form by Wednesday\, Nov. 22\, 2023.
URL:https://friendsofmoreaulake.org/event/friends-hosted-wreath-making/
ATTACH;FMTTYPE=image/jpeg:https://friendsofmoreaulake.org/wp-content/uploads/2023/10/2023-wreath-flyer-v1.jpg
END:VEVENT
BEGIN:VEVENT
DTSTART;TZID=America/New_York:20231126T130000
DTEND;TZID=America/New_York:20231126T140000
DTSTAMP:20260425T120612
CREATED:20231031T165138Z
LAST-MODIFIED:20231031T165138Z
UID:10002448-1701003600-1701007200@friendsofmoreaulake.org
SUMMARY:Making Cordage from Dogbane
DESCRIPTION:Though we often walk right past them\, we are surrounded by plants which are useful in so many ways! Hemp Dogbane is a native perennial traditionally used to make string or cordage from the fibers and in this program we will use it to make rope. Suitable for all ages. The cost is $1 per child\, $5 per adult (cash or check)\, payable at the office upon arrival. Registration is required at least 24 hours in advance\, please call 518-793-0511.
URL:https://friendsofmoreaulake.org/event/making-cordage-from-dogbane/
END:VEVENT
BEGIN:VEVENT
DTSTART;TZID=America/New_York:20231126T160000
DTEND;TZID=America/New_York:20231126T180000
DTSTAMP:20260425T120612
CREATED:20231031T165215Z
LAST-MODIFIED:20231031T165215Z
UID:10002449-1701014400-1701021600@friendsofmoreaulake.org
SUMMARY:Full Moon Hike
DESCRIPTION:Come see a different side of MLSP! Join an educator on a beginner-rated\, family friendly hike around the lake. Weather willing\, we’ll see the full Beaver moon rise above tree tops. The cost is $1 per child\, $5 per adult (cash or check)\, payable at the office upon arrival. Registration is required at least 24 hours in advance\, please call 518-793-0511.
URL:https://friendsofmoreaulake.org/event/full-moon-hike/
END:VEVENT
BEGIN:VEVENT
DTSTART;TZID=America/New_York:20231127T130000
DTEND;TZID=America/New_York:20231127T150000
DTSTAMP:20260425T120612
CREATED:20231031T165255Z
LAST-MODIFIED:20231031T165255Z
UID:10002450-1701090000-1701097200@friendsofmoreaulake.org
SUMMARY:Baker Trail Hike
DESCRIPTION:Join an educator led hike on the Baker trail to the Moreau Overlook. This is an out and back\, moderate rated hike of about 2 miles. The cost is $5 each (cash or check)\, payable at the office upon arrival. Registration is required at least 24 hours in advance\, please call 518-793-0511.
URL:https://friendsofmoreaulake.org/event/baker-trail-hike/
END:VEVENT
BEGIN:VEVENT
DTSTART;TZID=America/New_York:20231127T190000
DTEND;TZID=America/New_York:20231127T210000
DTSTAMP:20260425T120612
CREATED:20230823T164522Z
LAST-MODIFIED:20230823T164558Z
UID:10001136-1701111600-1701118800@friendsofmoreaulake.org
SUMMARY:Friends of Moreau Lake Monthly Membership Committee Meeting
DESCRIPTION:Please join us for our monthly membership committee meeting. It is open to the public and is held the last Monday of every month at 7pm via ZOOM.  The agenda is sent prior to the meeting to all members. If you would like to come to the membership committee meeting but are not a member\, please email: comments@fomlsp.org and we will send you the information to ZOOM as well as the agenda.
URL:https://friendsofmoreaulake.org/event/friends-of-moreau-lake-monthly-membership-committee-meeting/2023-11-27/
ATTACH;FMTTYPE=image/png:https://friendsofmoreaulake.org/wp-content/uploads/2021/10/New-Logo-200x200-1-e1633961946679.png
END:VEVENT
BEGIN:VEVENT
DTSTART;TZID=America/New_York:20231128T120000
DTEND;TZID=America/New_York:20231128T140000
DTSTAMP:20260425T120612
CREATED:20231031T164131Z
LAST-MODIFIED:20231031T165334Z
UID:10002451-1701172800-1701180000@friendsofmoreaulake.org
SUMMARY:Forest Bathing
DESCRIPTION:Coined shinrin-yoku in Japan in the 1980’s\, forest bathing is the ecotherapeutic practice of spending time immersed in nature\, absorbing it with all of your senses. The physiological and psychological benefits last for days afterward with the additional benefit of a new appreciation of our precious woodland and its inhabitants. This is a beginner-rated walk along the Nature Trail with long pauses to sit and enhance our awareness of our surroundings and it is approximately a 2-hour program. A small mat is beneficial to ensure a dry seat. This program is limited to those age 14 and up. Pay $5 per person (cash or check) at the office upon arrival. Registration is required at least 24 hours in advance\, call 518-793-0511.
URL:https://friendsofmoreaulake.org/event/forest-bathing-1248/2023-11-28/
END:VEVENT
END:VCALENDAR