BEGIN:VCALENDAR
VERSION:2.0
PRODID:-//Friends of Moreau Lake State Park, Inc. - ECPv6.15.20//NONSGML v1.0//EN
CALSCALE:GREGORIAN
METHOD:PUBLISH
X-ORIGINAL-URL:https://friendsofmoreaulake.org
X-WR-CALDESC:Events for Friends of Moreau Lake State Park, Inc.
REFRESH-INTERVAL;VALUE=DURATION:PT1H
X-Robots-Tag:noindex
X-PUBLISHED-TTL:PT1H
BEGIN:VTIMEZONE
TZID:America/New_York
BEGIN:DAYLIGHT
TZOFFSETFROM:-0500
TZOFFSETTO:-0400
TZNAME:EDT
DTSTART:20240310T070000
END:DAYLIGHT
BEGIN:STANDARD
TZOFFSETFROM:-0400
TZOFFSETTO:-0500
TZNAME:EST
DTSTART:20241103T060000
END:STANDARD
BEGIN:DAYLIGHT
TZOFFSETFROM:-0500
TZOFFSETTO:-0400
TZNAME:EDT
DTSTART:20250309T070000
END:DAYLIGHT
BEGIN:STANDARD
TZOFFSETFROM:-0400
TZOFFSETTO:-0500
TZNAME:EST
DTSTART:20251102T060000
END:STANDARD
BEGIN:DAYLIGHT
TZOFFSETFROM:-0500
TZOFFSETTO:-0400
TZNAME:EDT
DTSTART:20260308T070000
END:DAYLIGHT
BEGIN:STANDARD
TZOFFSETFROM:-0400
TZOFFSETTO:-0500
TZNAME:EST
DTSTART:20261101T060000
END:STANDARD
END:VTIMEZONE
BEGIN:VEVENT
DTSTART;TZID=America/New_York:20250905T093000
DTEND;TZID=America/New_York:20250905T103000
DTSTAMP:20260419T185449
CREATED:20250730T140529Z
LAST-MODIFIED:20260401T212333Z
UID:10029870-1757064600-1757068200@friendsofmoreaulake.org
SUMMARY:Wiggly Wanderers
DESCRIPTION:Wiggly Wanderers is a casual and fun program that is offered to walking toddlers\, carriable babies and their caregivers. This is a beginner’s hike/wander series with not too much distance for toddlers who are ready to move and caregivers who are willing and able to baby wear and/or carry their toddler if their legs get too tired. Strollers will not work for these programs. We meet at the nature center parking lot. This program is free and does not require registration\, please tell the toll booth operator that you are there for a program.
URL:https://friendsofmoreaulake.org/event/wiggly-wanderers/2025-09-05/
END:VEVENT
BEGIN:VEVENT
DTSTART;TZID=America/New_York:20250907T090000
DTEND;TZID=America/New_York:20250907T110000
DTSTAMP:20260419T185449
CREATED:20250822T202017Z
LAST-MODIFIED:20250928T135137Z
UID:10033093-1757235600-1757242800@friendsofmoreaulake.org
SUMMARY:Scenic Stretch on the Beach
DESCRIPTION:Start your day grounded and refreshed with a gentle stretching session in the natural beauty of Moreau Lake. Join an educator for a guided experience designed to awaken your body and calm your mind through breathwork\, intentional movement\, and quiet reflection. This program takes place outdoors\, please bring a mat or towel and dress comfortably. This program is free and for ages 6 and older. Limited to 15 participants. When you arrive\, please tell the toll booth operator that you are there for a program. Registration is required\, please register by calling the office at 518-793-0511.
URL:https://friendsofmoreaulake.org/event/scenic-stretch-on-the-beach/2025-09-07/
END:VEVENT
BEGIN:VEVENT
DTSTART;TZID=America/New_York:20250908T190000
DTEND;TZID=America/New_York:20250908T210000
DTSTAMP:20260419T185449
CREATED:20250822T202106Z
LAST-MODIFIED:20250822T202106Z
UID:10033094-1757358000-1757365200@friendsofmoreaulake.org
SUMMARY:Full Moon Kayak
DESCRIPTION:Join a park educator on a leisurely paddle around Moreau Lake. If the clouds cooperate\, we’ll get to enjoy the splendor of the full “Sturgeon” moon rising above the mountains. We have very limited rentals so if you need a kayak\, so call soon. Meet at the office to check in and then head down to the beach parking lot (not boat launch). This is a free program and for ages 13+. You must register by calling the office at 518-793-0511.
URL:https://friendsofmoreaulake.org/event/full-moon-kayak-6/
END:VEVENT
BEGIN:VEVENT
DTSTART;TZID=America/New_York:20250909T083000
DTEND;TZID=America/New_York:20250909T100000
DTSTAMP:20260419T185449
CREATED:20250822T202142Z
LAST-MODIFIED:20250822T202142Z
UID:10033096-1757406600-1757412000@friendsofmoreaulake.org
SUMMARY:Mud Pond Hike
DESCRIPTION:Join an educator on a beginner 2.1 mile hike from Nature Trail to Mud Pond where we will see some beaver lodges\, maybe some water fowl\, and lots of Hemlock trees. Please wear the appropriate attire for the weather and water-resistant hiking shoes. Bring a snack and plenty of water. This is free and can be for all ages\, but be aware of the distance\, the up and down terrain and weather. Please reserve your spot by calling the office at 518-793-0511.
URL:https://friendsofmoreaulake.org/event/mud-pond-hike-10/
END:VEVENT
BEGIN:VEVENT
DTSTART;TZID=America/New_York:20250911T080000
DTEND;TZID=America/New_York:20250911T100000
DTSTAMP:20260419T185449
CREATED:20250822T202542Z
LAST-MODIFIED:20250822T202649Z
UID:10033099-1757577600-1757584800@friendsofmoreaulake.org
SUMMARY:Sensory Friendly Hours Nature Center
DESCRIPTION:We are introducing sensory friendly hours to the nature center; we will have low lighting\, we will be turning off the aquatic bubblers and running water features\, and we will limit access of the nature center to those who would like a quiet and comforting experience to enjoy our animals and nature-themed exhibits. Free and open to all ages\, no registration required\, just drop-in! Call 518-793-0511 with any questions or preferred accommodations.
URL:https://friendsofmoreaulake.org/event/sensory-friendly-hours-nature-center/2025-09-11/
END:VEVENT
BEGIN:VEVENT
DTSTART;TZID=America/New_York:20250912T080000
DTEND;TZID=America/New_York:20250912T100000
DTSTAMP:20260419T185449
CREATED:20250822T202542Z
LAST-MODIFIED:20250822T202649Z
UID:10033100-1757664000-1757671200@friendsofmoreaulake.org
SUMMARY:Sensory Friendly Hours Nature Center
DESCRIPTION:We are introducing sensory friendly hours to the nature center; we will have low lighting\, we will be turning off the aquatic bubblers and running water features\, and we will limit access of the nature center to those who would like a quiet and comforting experience to enjoy our animals and nature-themed exhibits. Free and open to all ages\, no registration required\, just drop-in! Call 518-793-0511 with any questions or preferred accommodations.
URL:https://friendsofmoreaulake.org/event/sensory-friendly-hours-nature-center/2025-09-12/
END:VEVENT
BEGIN:VEVENT
DTSTART;TZID=America/New_York:20250912T093000
DTEND;TZID=America/New_York:20250912T103000
DTSTAMP:20260419T185449
CREATED:20250730T140529Z
LAST-MODIFIED:20260401T212333Z
UID:10029871-1757669400-1757673000@friendsofmoreaulake.org
SUMMARY:Wiggly Wanderers
DESCRIPTION:Wiggly Wanderers is a casual and fun program that is offered to walking toddlers\, carriable babies and their caregivers. This is a beginner’s hike/wander series with not too much distance for toddlers who are ready to move and caregivers who are willing and able to baby wear and/or carry their toddler if their legs get too tired. Strollers will not work for these programs. We meet at the nature center parking lot. This program is free and does not require registration\, please tell the toll booth operator that you are there for a program.
URL:https://friendsofmoreaulake.org/event/wiggly-wanderers/2025-09-12/
END:VEVENT
BEGIN:VEVENT
DTSTART;TZID=America/New_York:20250913T110000
DTEND;TZID=America/New_York:20250913T153000
DTSTAMP:20260419T185449
CREATED:20250822T202344Z
LAST-MODIFIED:20250822T202445Z
UID:10033097-1757761200-1757777400@friendsofmoreaulake.org
SUMMARY:NatureFest!
DESCRIPTION:
URL:https://friendsofmoreaulake.org/event/naturefest-2/
END:VEVENT
BEGIN:VEVENT
DTSTART;TZID=America/New_York:20250916T083000
DTEND;TZID=America/New_York:20250916T103000
DTSTAMP:20260419T185449
CREATED:20250822T202732Z
LAST-MODIFIED:20250822T203455Z
UID:10033101-1758011400-1758018600@friendsofmoreaulake.org
SUMMARY:Bird Watching at Big Bend
DESCRIPTION:Calling all beginner birders! Bring your binoculars if you have them and we will check out what birds are around this time of year at Big Bend. This will be a short start-and-stop hike. We will meet at the park office and caravan to Big Bend. This is free and geared toward ages 13+. Please register in advance by calling the office at 518-793-0511.
URL:https://friendsofmoreaulake.org/event/bird-watching-at-big-bend/2025-09-16/
END:VEVENT
BEGIN:VEVENT
DTSTART;TZID=America/New_York:20250917T100000
DTEND;TZID=America/New_York:20250917T120000
DTSTAMP:20260419T185449
CREATED:20250822T202817Z
LAST-MODIFIED:20250822T202838Z
UID:10033102-1758103200-1758110400@friendsofmoreaulake.org
SUMMARY:Inside Scoop - Big Bend Prescribed Burns
DESCRIPTION:Join an educator on a walk at Big Bend to talk about the technique of prescribed burns\, why we are doing it\, and what the future will look like for Big Bend. Prescribed burns are a critical tool in wildfire risk reduction and ecological management and are also being implemented to create a habitat for blue lupine\, and subsequently\, Karner blue butterflies. We will be taking a walk on the trails so please wear appropriate shoes and clothing and we may take some time to pull up some invasives! This is free and for ages 13+. We will meet at the park office and caravan to Big Bend together\, please tell the toll booth operator that you are there for a program. You must register by calling the office at 518-793-0511.
URL:https://friendsofmoreaulake.org/event/inside-scoop-big-bend-prescribed-burns/
END:VEVENT
BEGIN:VEVENT
DTSTART;TZID=America/New_York:20250918T100000
DTEND;TZID=America/New_York:20250918T120000
DTSTAMP:20260419T185449
CREATED:20250822T202930Z
LAST-MODIFIED:20250822T202930Z
UID:10033104-1758189600-1758196800@friendsofmoreaulake.org
SUMMARY:Monarch Butterfly Needle Felting
DESCRIPTION:Join an educator at the nature center to learn how to needle felt a monarch butterfly! Monarchs are incredible insects that help pollinate our beautiful wildflowers. This is a free beginner program that is for ages 13+.  We are limited to 10 people so reserve your spot in advance by calling 518-793-0511.
URL:https://friendsofmoreaulake.org/event/monarch-butterfly-needle-felting/
END:VEVENT
BEGIN:VEVENT
DTSTART;TZID=America/New_York:20250919T093000
DTEND;TZID=America/New_York:20250919T103000
DTSTAMP:20260419T185449
CREATED:20250730T140529Z
LAST-MODIFIED:20260401T212333Z
UID:10029872-1758274200-1758277800@friendsofmoreaulake.org
SUMMARY:Wiggly Wanderers
DESCRIPTION:Wiggly Wanderers is a casual and fun program that is offered to walking toddlers\, carriable babies and their caregivers. This is a beginner’s hike/wander series with not too much distance for toddlers who are ready to move and caregivers who are willing and able to baby wear and/or carry their toddler if their legs get too tired. Strollers will not work for these programs. We meet at the nature center parking lot. This program is free and does not require registration\, please tell the toll booth operator that you are there for a program.
URL:https://friendsofmoreaulake.org/event/wiggly-wanderers/2025-09-19/
END:VEVENT
BEGIN:VEVENT
DTSTART;TZID=America/New_York:20250919T110000
DTEND;TZID=America/New_York:20250919T120000
DTSTAMP:20260419T185449
CREATED:20250822T203012Z
LAST-MODIFIED:20250822T203012Z
UID:10033105-1758279600-1758283200@friendsofmoreaulake.org
SUMMARY:Birds of Play
DESCRIPTION:This program is geared toward younger children to learn the basics of size\, color\, behavior and vocalization of common birds. The program is free. Please reserve your spot in advance by calling the office at 518-793-0511.
URL:https://friendsofmoreaulake.org/event/birds-of-play-2/
END:VEVENT
BEGIN:VEVENT
DTSTART;TZID=America/New_York:20250919T190000
DTEND;TZID=America/New_York:20250919T210000
DTSTAMP:20260419T185449
CREATED:20250822T203055Z
LAST-MODIFIED:20250822T203055Z
UID:10033106-1758308400-1758315600@friendsofmoreaulake.org
SUMMARY:Movie Night on the Beach
DESCRIPTION:We will be hosting another movie night! Movie will be announced closer to the date but will be family friendly! Bring a chair\, your favorite blanket\, and a flashlight. Movie will begin when it gets dark enough. Our concessionaire\, Big Tony’s\, will be open until 9:30pm for dinner/snacks and we will have free popcorn (while supplies last). No park entry fee and the movie is free. Open to all ages of the public AND to our campers! The observatory will be open if the weather cooperates. Well-behaved dogs on a 6 foot or shorter leash are welcome. Registration is not required
URL:https://friendsofmoreaulake.org/event/movie-night-on-the-beach/
END:VEVENT
BEGIN:VEVENT
DTSTART;TZID=America/New_York:20250921T093000
DTEND;TZID=America/New_York:20250921T123000
DTSTAMP:20260419T185449
CREATED:20250822T203139Z
LAST-MODIFIED:20250822T203139Z
UID:10033107-1758447000-1758457800@friendsofmoreaulake.org
SUMMARY:Monthly Hiking Challenge
DESCRIPTION:Join the monthly hiking challenge where we will explore the wide variety of trails at Moreau Lake State Park! This month we will be doing a loop hike that is approximately 5.5 miles with an elevation gain/loss of around 880 feet. This hike will take us on parts of our new Western Ridge trail\, Eastern Ridge\, High Rock\, and Lake Ann trails\, so much variety! The trails can be muddy so please wear the appropriate attire for the weather with water-resistant hiking shoes\, and trekking poles if you need them. Bring a snack and lunch and plenty of water. As always\, we will meet at the park office and caravan to the trailhead. This is a free hike and for ages 13+. We have a limit of 25 people\, please register in advance by calling the office at 518-793-0511.
URL:https://friendsofmoreaulake.org/event/monthly-hiking-challenge-6/
END:VEVENT
BEGIN:VEVENT
DTSTART;TZID=America/New_York:20250923T100000
DTEND;TZID=America/New_York:20250923T110000
DTSTAMP:20260419T185449
CREATED:20250822T203221Z
LAST-MODIFIED:20250822T203221Z
UID:10033108-1758621600-1758625200@friendsofmoreaulake.org
SUMMARY:The Point of Porcupines
DESCRIPTION:Join an educator on a hike to our Porcupine trail via Red Oak Ridge. We will talk about the interesting lives of porcupines and may see evidence of them living in their natural dens. This is approximately a 1.8 mile hike with an elevation gain/loss of about 300 feet. This free hike is for all ages and has some stretches of steeper parts but is suitable for ages 6+. Please reserve your spot in advance by calling 518-793-0511.
URL:https://friendsofmoreaulake.org/event/the-point-of-porcupines/
END:VEVENT
BEGIN:VEVENT
DTSTART;TZID=America/New_York:20250924T083000
DTEND;TZID=America/New_York:20250924T103000
DTSTAMP:20260419T185449
CREATED:20250822T202732Z
LAST-MODIFIED:20250822T203455Z
UID:10033109-1758702600-1758709800@friendsofmoreaulake.org
SUMMARY:Bird Watching at Big Bend
DESCRIPTION:Calling all beginner birders! Bring your binoculars if you have them and we will check out what birds are around this time of year at Big Bend. This will be a short start-and-stop hike. We will meet at the park office and caravan to Big Bend. This is free and geared toward ages 13+. Please register in advance by calling the office at 518-793-0511.
URL:https://friendsofmoreaulake.org/event/bird-watching-at-big-bend/2025-09-24/
END:VEVENT
BEGIN:VEVENT
DTSTART;TZID=America/New_York:20250925T093000
DTEND;TZID=America/New_York:20250925T103000
DTSTAMP:20260419T185449
CREATED:20250825T130948Z
LAST-MODIFIED:20250825T130948Z
UID:10033831-1758792600-1758796200@friendsofmoreaulake.org
SUMMARY:Homeschool Pop-Up: Reptile Profile
DESCRIPTION:Join an educator in the nature center to meet our resident reptiles! We at Moreau take care of six New York native turtles and two snakes that cannot be released into the wild and are wonderful little educators. Learn about their exciting lives\, what they like to eat\, and what they use for shell-ter at the Nature Center. This program is geared toward homeschool students\, but is open to the public! Please reserve your spot 24 hours in advance by calling the office at 518-793-0511.
URL:https://friendsofmoreaulake.org/event/homeschool-pop-up-reptile-profile/
END:VEVENT
BEGIN:VEVENT
DTSTART;TZID=America/New_York:20250926T093000
DTEND;TZID=America/New_York:20250926T103000
DTSTAMP:20260419T185449
CREATED:20250730T140529Z
LAST-MODIFIED:20260401T212333Z
UID:10029873-1758879000-1758882600@friendsofmoreaulake.org
SUMMARY:Wiggly Wanderers
DESCRIPTION:Wiggly Wanderers is a casual and fun program that is offered to walking toddlers\, carriable babies and their caregivers. This is a beginner’s hike/wander series with not too much distance for toddlers who are ready to move and caregivers who are willing and able to baby wear and/or carry their toddler if their legs get too tired. Strollers will not work for these programs. We meet at the nature center parking lot. This program is free and does not require registration\, please tell the toll booth operator that you are there for a program.
URL:https://friendsofmoreaulake.org/event/wiggly-wanderers/2025-09-26/
END:VEVENT
BEGIN:VEVENT
DTSTART;TZID=America/New_York:20250926T113000
DTEND;TZID=America/New_York:20250926T123000
DTSTAMP:20260419T185449
CREATED:20250825T131038Z
LAST-MODIFIED:20250825T131038Z
UID:10033832-1758886200-1758889800@friendsofmoreaulake.org
SUMMARY:Celebrating Autumn
DESCRIPTION:We are in the wonderful season of Autumn as of September 22nd! Join an educator at the nature center to discuss the transformation of the season and leaf color. This program is free and for all ages\, please reserve your spot in advance by calling 518-793-0511.
URL:https://friendsofmoreaulake.org/event/celebrating-autumn/
END:VEVENT
BEGIN:VEVENT
DTSTART;TZID=America/New_York:20250927T110000
DTEND;TZID=America/New_York:20250927T123000
DTSTAMP:20260419T185449
CREATED:20250825T131124Z
LAST-MODIFIED:20250825T131124Z
UID:10033833-1758970800-1758976200@friendsofmoreaulake.org
SUMMARY:Free Fishing Day: Beginner
DESCRIPTION:This day is designated by the Department of Environmental Conservation as a free fishing day which means it is the perfect opportunity to try out fishing for the first time or get back into it without having to apply for a license! This only happens a couple days out of the year\, fishing regulations still apply. This is a free beginner fly fishing course with a limit of 10 people ages 13+. Please reserve your spot in advance by calling 518-793-0511.
URL:https://friendsofmoreaulake.org/event/free-fishing-day-beginner/
END:VEVENT
BEGIN:VEVENT
DTSTART;TZID=America/New_York:20250928T090000
DTEND;TZID=America/New_York:20250928T110000
DTSTAMP:20260419T185449
CREATED:20250825T131204Z
LAST-MODIFIED:20250825T131204Z
UID:10033834-1759050000-1759057200@friendsofmoreaulake.org
SUMMARY:Big Bend Volunteer Invasives Pull
DESCRIPTION:Join an educator and field technician on a walk at Big Bend to talk about the technique of prescribed burns\, what the future will look like for Big Bend\, and pull some invasives with your help! Prescribed burns are a critical tool in wildfire risk reduction and ecological management and are also being implemented to create a habitat for blue lupine\, and subsequently\, Karner blue butterflies. We will be doing light invasive pulling on the trails so please wear appropriate shoes and clothing! Bring gloves if you have your own\, we will have some to borrow. This is free and for ages 13+. We will meet at the park office and caravan to Big Bend. You must register by calling the office at 518-793-0511.
URL:https://friendsofmoreaulake.org/event/big-bend-volunteer-invasives-pull/
END:VEVENT
BEGIN:VEVENT
DTSTART;TZID=America/New_York:20250930T083000
DTEND;TZID=America/New_York:20250930T130000
DTSTAMP:20260419T185449
CREATED:20250825T131245Z
LAST-MODIFIED:20250825T131410Z
UID:10033835-1759221000-1759237200@friendsofmoreaulake.org
SUMMARY:Hudson River Kayak and Picnic
DESCRIPTION:Join educators to kayak on one of the most historic and biodiverse waterways in NY. We will meet at the park office and then convoy to Sherman Island boat launch. We are limited to 3 rentals due to transporting restrictions\, we have 10 spots available if you bring your own kayak. Plan on a half day out on the water and bring your own lunch to eat at our turnaround point. This program is for people aged 18 and older if you need to rent a kayak or 13+ if you have your own kayak. Please reserve your spot in advance by calling the office at 518-793-0511.
URL:https://friendsofmoreaulake.org/event/hudson-river-kayak-and-picnic/
END:VEVENT
BEGIN:VEVENT
DTSTART;TZID=America/New_York:20251002T110000
DTEND;TZID=America/New_York:20251002T123000
DTSTAMP:20260419T185449
CREATED:20250928T134516Z
LAST-MODIFIED:20250928T134516Z
UID:10034451-1759402800-1759408200@friendsofmoreaulake.org
SUMMARY:Homeschool Pop-Up: Indigenous People's Day
DESCRIPTION:Join us at the nature center for a homeschool pop-up program exploring the history and meaning of Indigenous Peoples’ Day. We will discuss why this day is recognized\, learn about the rich cultures and ongoing contributions of Native peoples\, and reflect on the importance of honoring Indigenous voices in history. To complement our learning\, participants will also make a simple corn husk doll craft. This program is an introduction for homeschool families and is NOT a traditional cultural workshop. Ages 6+. Please call the office at 518-793-0511 to register.
URL:https://friendsofmoreaulake.org/event/homeschool-pop-up-indigenous-peoples-day/
END:VEVENT
BEGIN:VEVENT
DTSTART;TZID=America/New_York:20251003T093000
DTEND;TZID=America/New_York:20251003T103000
DTSTAMP:20260419T185449
CREATED:20250730T140529Z
LAST-MODIFIED:20260401T212333Z
UID:10034446-1759483800-1759487400@friendsofmoreaulake.org
SUMMARY:Wiggly Wanderers
DESCRIPTION:Wiggly Wanderers is a casual and fun program that is offered to walking toddlers\, carriable babies and their caregivers. This is a beginner’s hike/wander series with not too much distance for toddlers who are ready to move and caregivers who are willing and able to baby wear and/or carry their toddler if their legs get too tired. Strollers will not work for these programs. We meet at the nature center parking lot. This program is free and does not require registration\, please tell the toll booth operator that you are there for a program.
URL:https://friendsofmoreaulake.org/event/wiggly-wanderers/2025-10-03/
END:VEVENT
BEGIN:VEVENT
DTSTART;TZID=America/New_York:20251004T090000
DTEND;TZID=America/New_York:20251004T110000
DTSTAMP:20260419T185449
CREATED:20250822T201655Z
LAST-MODIFIED:20250928T134732Z
UID:10034452-1759568400-1759575600@friendsofmoreaulake.org
SUMMARY:Drop-In Animal Feeding Nature Center
DESCRIPTION:Join an educator at the Nature Center to learn about how and what we feed our animal ambassadors! We have carnivores\, herbivores\, and omnivores! This is free and for all ages\, no registration required.
URL:https://friendsofmoreaulake.org/event/drop-in-animal-feeding-nature-center/2025-10-04/
END:VEVENT
BEGIN:VEVENT
DTSTART;TZID=America/New_York:20251005T090000
DTEND;TZID=America/New_York:20251005T103000
DTSTAMP:20260419T185449
CREATED:20250928T134915Z
LAST-MODIFIED:20250928T134915Z
UID:10034454-1759654800-1759660200@friendsofmoreaulake.org
SUMMARY:Nature Block Printing
DESCRIPTION:Join us at the nature center to learn a printing technique where we will carve out of rubber or linoleum to make stamps! This is a completely beginner class and for ages 13+. We are limited to 5 registrants per class so please sign up as soon as possible by calling the office at 518-793-0511.
URL:https://friendsofmoreaulake.org/event/nature-block-printing/2025-10-05/1/
END:VEVENT
BEGIN:VEVENT
DTSTART;TZID=America/New_York:20251005T110000
DTEND;TZID=America/New_York:20251005T123000
DTSTAMP:20260419T185449
CREATED:20250928T134915Z
LAST-MODIFIED:20250928T134915Z
UID:10034455-1759662000-1759667400@friendsofmoreaulake.org
SUMMARY:Nature Block Printing
DESCRIPTION:Join us at the nature center to learn a printing technique where we will carve out of rubber or linoleum to make stamps! This is a completely beginner class and for ages 13+. We are limited to 5 registrants per class so please sign up as soon as possible by calling the office at 518-793-0511.
URL:https://friendsofmoreaulake.org/event/nature-block-printing/2025-10-05/2/
END:VEVENT
BEGIN:VEVENT
DTSTART;TZID=America/New_York:20251007T183000
DTEND;TZID=America/New_York:20251007T203000
DTSTAMP:20260419T185449
CREATED:20250928T134957Z
LAST-MODIFIED:20250928T134957Z
UID:10034456-1759861800-1759869000@friendsofmoreaulake.org
SUMMARY:Full Moon Hike
DESCRIPTION:Join a park educator on a beginner hike and if the clouds cooperate\, we’ll get to enjoy the splendor of the full “Hunter Moon” rising above the mountains! This hike is free\, is family friendly and well-behaved dogs on a 6 foot or shorter leash are welcome. This hike will not go the full 3.5 miles\, we will be going closer to 2.5 miles on flat terrain. Wear the appropriate clothing for the weather. Please register in advance by calling 518-793-0511 the earlier the better as this is a popular program and it fills up quickly.
URL:https://friendsofmoreaulake.org/event/full-moon-hike-10/
END:VEVENT
BEGIN:VEVENT
DTSTART;TZID=America/New_York:20251009T090000
DTEND;TZID=America/New_York:20251009T110000
DTSTAMP:20260419T185449
CREATED:20250928T135038Z
LAST-MODIFIED:20250928T135038Z
UID:10034457-1760000400-1760007600@friendsofmoreaulake.org
SUMMARY:Lake Bonita Hike
DESCRIPTION:Join a Park Educator on a lovely 1.7 mile hike around Lake Bonita. This hike has some steep parts\, some wet parts and many beautiful view of the lake and colorful leaves. Please dress appropriately for muddy conditions. Hiking poles\, gaiters and waterproof boots are recommended. Free and all ages are welcome\, however do please note the distance when signing up with children. Please register in advance by calling 518-793-0511.
URL:https://friendsofmoreaulake.org/event/lake-bonita-hike-5/
END:VEVENT
END:VCALENDAR