BEGIN:VCALENDAR
VERSION:2.0
PRODID:-//Friends of Moreau Lake State Park, Inc. - ECPv6.15.20//NONSGML v1.0//EN
CALSCALE:GREGORIAN
METHOD:PUBLISH
X-ORIGINAL-URL:https://friendsofmoreaulake.org
X-WR-CALDESC:Events for Friends of Moreau Lake State Park, Inc.
REFRESH-INTERVAL;VALUE=DURATION:PT1H
X-Robots-Tag:noindex
X-PUBLISHED-TTL:PT1H
BEGIN:VTIMEZONE
TZID:America/New_York
BEGIN:DAYLIGHT
TZOFFSETFROM:-0500
TZOFFSETTO:-0400
TZNAME:EDT
DTSTART:20230312T070000
END:DAYLIGHT
BEGIN:STANDARD
TZOFFSETFROM:-0400
TZOFFSETTO:-0500
TZNAME:EST
DTSTART:20231105T060000
END:STANDARD
BEGIN:DAYLIGHT
TZOFFSETFROM:-0500
TZOFFSETTO:-0400
TZNAME:EDT
DTSTART:20240310T070000
END:DAYLIGHT
BEGIN:STANDARD
TZOFFSETFROM:-0400
TZOFFSETTO:-0500
TZNAME:EST
DTSTART:20241103T060000
END:STANDARD
BEGIN:DAYLIGHT
TZOFFSETFROM:-0500
TZOFFSETTO:-0400
TZNAME:EDT
DTSTART:20250309T070000
END:DAYLIGHT
BEGIN:STANDARD
TZOFFSETFROM:-0400
TZOFFSETTO:-0500
TZNAME:EST
DTSTART:20251102T060000
END:STANDARD
END:VTIMEZONE
BEGIN:VEVENT
DTSTART;TZID=America/New_York:20240312T100000
DTEND;TZID=America/New_York:20240312T110000
DTSTAMP:20260423T191321
CREATED:20240227T133907Z
LAST-MODIFIED:20240227T133907Z
UID:10007136-1710237600-1710241200@friendsofmoreaulake.org
SUMMARY:Planting for Monarchs
DESCRIPTION:Maybe you’ve heard that monarch numbers have declined. Did you know there’s something you can do to help them rebound? Learn what you can plant to support the life cycle and feeding of these beautiful butterflies and take seeds home to start your own pollinator garden. $5 program fee payable at the office upon your arrival (cash or check). To reserve your spot call 518-793-0511.
URL:https://friendsofmoreaulake.org/event/planting-for-monarchs/
END:VEVENT
BEGIN:VEVENT
DTSTART;TZID=America/New_York:20240312T190000
DTEND;TZID=America/New_York:20240312T210000
DTSTAMP:20260423T191321
CREATED:20230823T164245Z
LAST-MODIFIED:20230823T164245Z
UID:10001116-1710270000-1710277200@friendsofmoreaulake.org
SUMMARY:Friends of Moreau Lake Monthly Meeting
DESCRIPTION:Please join us for our monthly general membership board meeting. It is open to the public and is held the second Tuesday of every month at 7pm via ZOOM.  The agenda is sent prior to the meeting to all members. If you would like to come to the meeting but are not a member\, please email: comments@fomlsp.org and we will send you the information to ZOOM as well as the agenda.
URL:https://friendsofmoreaulake.org/event/friends-of-moreau-lake-monthly-meeting/2024-03-12/
ATTACH;FMTTYPE=image/png:https://friendsofmoreaulake.org/wp-content/uploads/2021/10/New-Logo-200x200-1-e1633961946679.png
END:VEVENT
BEGIN:VEVENT
DTSTART;TZID=America/New_York:20240313T080000
DTEND;TZID=America/New_York:20240313T150000
DTSTAMP:20260423T191321
CREATED:20240111T155843Z
LAST-MODIFIED:20240320T163419Z
UID:10006381-1710316800-1710342000@friendsofmoreaulake.org
SUMMARY:Warming Hut Open
DESCRIPTION:Stop by the warming hut to well\, warm up!! The Friends volunteer to staff it on weekends to provide hot chocolate and treats – they are also a wealth of information so stop in to say “Hi”. It closes at 3pm.
URL:https://friendsofmoreaulake.org/event/warming-hut-open/2024-03-13/
END:VEVENT
BEGIN:VEVENT
DTSTART;TZID=America/New_York:20240313T100000
DTEND;TZID=America/New_York:20240313T120000
DTSTAMP:20260423T191321
CREATED:20240227T133942Z
LAST-MODIFIED:20240227T133942Z
UID:10007137-1710324000-1710331200@friendsofmoreaulake.org
SUMMARY:Lake Bonita Hike
DESCRIPTION:Join an educator on a meandering trail around Lake Bonita. This hike is an approximately 1.7 miles loop and considered an intermediate hike. Bring plenty of water\, snacks\, waterproof shoes\, and appropriate clothing for the weather. We have snowshoes\, trekking poles\, and microspikes to rent at our park office. The cost for the hike is $5 (cash or check) Please reserve your spot in advance by calling the office at 518-793-0511.
URL:https://friendsofmoreaulake.org/event/lake-bonita-hike-2/
END:VEVENT
BEGIN:VEVENT
DTSTART;TZID=America/New_York:20240314T080000
DTEND;TZID=America/New_York:20240314T150000
DTSTAMP:20260423T191321
CREATED:20240111T155843Z
LAST-MODIFIED:20240320T163419Z
UID:10006382-1710403200-1710428400@friendsofmoreaulake.org
SUMMARY:Warming Hut Open
DESCRIPTION:Stop by the warming hut to well\, warm up!! The Friends volunteer to staff it on weekends to provide hot chocolate and treats – they are also a wealth of information so stop in to say “Hi”. It closes at 3pm.
URL:https://friendsofmoreaulake.org/event/warming-hut-open/2024-03-14/
END:VEVENT
BEGIN:VEVENT
DTSTART;TZID=America/New_York:20240314T130000
DTEND;TZID=America/New_York:20240314T140000
DTSTAMP:20260423T191321
CREATED:20240227T134107Z
LAST-MODIFIED:20240227T134107Z
UID:10007139-1710421200-1710424800@friendsofmoreaulake.org
SUMMARY:Marvelous Maple Syrup
DESCRIPTION:Join an educator in the nature center for a quick history of making maple syrup\, the process from beginning to end\, and if you are able\, come on a short walk to see what trees we are tapping! Geared toward ages 6+\, siblings welcome. The cost is $5 for adults and $1 for children (cash or check) Please reserve your spot in advance by calling the office at 518-793-0511.
URL:https://friendsofmoreaulake.org/event/marvelous-maple-syrup/
END:VEVENT
BEGIN:VEVENT
DTSTART;TZID=America/New_York:20240315T080000
DTEND;TZID=America/New_York:20240315T150000
DTSTAMP:20260423T191321
CREATED:20240111T155843Z
LAST-MODIFIED:20240320T163419Z
UID:10006383-1710489600-1710514800@friendsofmoreaulake.org
SUMMARY:Warming Hut Open
DESCRIPTION:Stop by the warming hut to well\, warm up!! The Friends volunteer to staff it on weekends to provide hot chocolate and treats – they are also a wealth of information so stop in to say “Hi”. It closes at 3pm.
URL:https://friendsofmoreaulake.org/event/warming-hut-open/2024-03-15/
END:VEVENT
BEGIN:VEVENT
DTSTART;TZID=America/New_York:20240316T080000
DTEND;TZID=America/New_York:20240316T150000
DTSTAMP:20260423T191321
CREATED:20240111T155843Z
LAST-MODIFIED:20240320T163419Z
UID:10006384-1710576000-1710601200@friendsofmoreaulake.org
SUMMARY:Warming Hut Open
DESCRIPTION:Stop by the warming hut to well\, warm up!! The Friends volunteer to staff it on weekends to provide hot chocolate and treats – they are also a wealth of information so stop in to say “Hi”. It closes at 3pm.
URL:https://friendsofmoreaulake.org/event/warming-hut-open/2024-03-16/
END:VEVENT
BEGIN:VEVENT
DTSTART;TZID=America/New_York:20240316T110000
DTEND;TZID=America/New_York:20240316T140000
DTSTAMP:20260423T191321
CREATED:20240227T134213Z
LAST-MODIFIED:20240227T134213Z
UID:10007140-1710586800-1710597600@friendsofmoreaulake.org
SUMMARY:Pysanky-Ukrainian Easter Eggs
DESCRIPTION:We will create a woolen version of traditional Ukrainian Easter eggs. Decorate with elaborate geometric shapes\, animals\, flowers- or wherever your imagination takes you! The cost is $5 for adults and $1 for children (cash or check) Please reserve your spot in advance by calling the office at 518-793-0511.
URL:https://friendsofmoreaulake.org/event/pysanky-ukrainian-easter-eggs/
END:VEVENT
BEGIN:VEVENT
DTSTART;TZID=America/New_York:20240317T080000
DTEND;TZID=America/New_York:20240317T150000
DTSTAMP:20260423T191321
CREATED:20240111T155843Z
LAST-MODIFIED:20240320T163419Z
UID:10006385-1710662400-1710687600@friendsofmoreaulake.org
SUMMARY:Warming Hut Open
DESCRIPTION:Stop by the warming hut to well\, warm up!! The Friends volunteer to staff it on weekends to provide hot chocolate and treats – they are also a wealth of information so stop in to say “Hi”. It closes at 3pm.
URL:https://friendsofmoreaulake.org/event/warming-hut-open/2024-03-17/
END:VEVENT
BEGIN:VEVENT
DTSTART;TZID=America/New_York:20240317T100000
DTEND;TZID=America/New_York:20240317T110000
DTSTAMP:20260423T191321
CREATED:20240227T134258Z
LAST-MODIFIED:20240227T134258Z
UID:10007141-1710669600-1710673200@friendsofmoreaulake.org
SUMMARY:Reptile Profile
DESCRIPTION:Join an educator in the nature center to meet our resident reptiles! We at Moreau take care of six New York native turtles and two snakes that cannot be released into the wild and are wonderful little educators. Learn about their exciting lives\, what they like to eat\, and what they use for shell-ter at the Nature Center. The cost is $5 for adults\, $1 for children (cash or check) at the office upon arrival. Please register at least 24 hours in advance at 518-793-0511.
URL:https://friendsofmoreaulake.org/event/reptile-profile/
END:VEVENT
BEGIN:VEVENT
DTSTART;TZID=America/New_York:20240318T080000
DTEND;TZID=America/New_York:20240318T150000
DTSTAMP:20260423T191321
CREATED:20240111T155843Z
LAST-MODIFIED:20240320T163419Z
UID:10006386-1710748800-1710774000@friendsofmoreaulake.org
SUMMARY:Warming Hut Open
DESCRIPTION:Stop by the warming hut to well\, warm up!! The Friends volunteer to staff it on weekends to provide hot chocolate and treats – they are also a wealth of information so stop in to say “Hi”. It closes at 3pm.
URL:https://friendsofmoreaulake.org/event/warming-hut-open/2024-03-18/
END:VEVENT
BEGIN:VEVENT
DTSTART;TZID=America/New_York:20240318T100000
DTEND;TZID=America/New_York:20240318T120000
DTSTAMP:20260423T191321
CREATED:20240227T134332Z
LAST-MODIFIED:20240227T134332Z
UID:10007142-1710756000-1710763200@friendsofmoreaulake.org
SUMMARY:Western Ridge Loop Hike
DESCRIPTION:A 4.2 mile more challenging hike that will take us on a variety of great trails from Western Ridge\, Eastern Ridge\, Lake Ann\, to High Rock. Bring a lunch\, plenty of water\, snacks\, waterproof shoes\, and appropriate clothing for the weather. We have snowshoes\, trekking poles\, and microspikes to rent at our park office. The cost for the hike is $5 (cash or check). Please reserve your spot in advance by calling the office at 518-793-0511.
URL:https://friendsofmoreaulake.org/event/western-ridge-loop-hike/
END:VEVENT
BEGIN:VEVENT
DTSTART;TZID=America/New_York:20240319T080000
DTEND;TZID=America/New_York:20240319T150000
DTSTAMP:20260423T191321
CREATED:20240111T155843Z
LAST-MODIFIED:20240320T163419Z
UID:10006387-1710835200-1710860400@friendsofmoreaulake.org
SUMMARY:Warming Hut Open
DESCRIPTION:Stop by the warming hut to well\, warm up!! The Friends volunteer to staff it on weekends to provide hot chocolate and treats – they are also a wealth of information so stop in to say “Hi”. It closes at 3pm.
URL:https://friendsofmoreaulake.org/event/warming-hut-open/2024-03-19/
END:VEVENT
BEGIN:VEVENT
DTSTART;TZID=America/New_York:20240319T100000
DTEND;TZID=America/New_York:20240319T113000
DTSTAMP:20260423T191321
CREATED:20240227T134414Z
LAST-MODIFIED:20240227T134414Z
UID:10007143-1710842400-1710847800@friendsofmoreaulake.org
SUMMARY:Spring Equinox Forest Bathing
DESCRIPTION:The spring equinox will kick off our weekly forest bathing once again! Coined shinrin-yoku in Japan in the 1980’s\, forest bathing is the ecotherapeutic practice of spending time immersed in nature\, absorbing it with all of your senses. The physiological and psychological benefits last for days afterward with the additional benefit of a new appreciation of our precious woodland and its inhabitants. This is a beginner-rated walk along the Nature Trail with long pauses to sit and enhance our awareness of our surroundings and it is approximately a 2-hour program. A small mat is beneficial to ensure a dry seat. This program is limited to those age 14 and up. Pay $5 per person (cash or check) at the office upon arrival. Registration in advance by calling 518-793-0511.
URL:https://friendsofmoreaulake.org/event/spring-equinox-forest-bathing/
END:VEVENT
BEGIN:VEVENT
DTSTART;TZID=America/New_York:20240319T140000
DTEND;TZID=America/New_York:20240319T153000
DTSTAMP:20260423T191321
CREATED:20240227T134507Z
LAST-MODIFIED:20240227T134507Z
UID:10007144-1710856800-1710862200@friendsofmoreaulake.org
SUMMARY:Starting Seeds and Setting Intentions
DESCRIPTION:Of many traditional ways to acknowledge the spring equinox some of my favorites include celebrating the re-awakening of the earth with new growth\, and stating my intentions for the new season. This program combines both- we will write our intentions on paper and plant them in the soil we place our seeds in. All supplies are provided- you are welcome to bring seeds to share! The program fee is $5 (cash or check). Please reserve your spot in advance by calling the office at 518-793-0511.
URL:https://friendsofmoreaulake.org/event/starting-seeds-and-setting-intentions/
END:VEVENT
BEGIN:VEVENT
DTSTART;TZID=America/New_York:20240320T080000
DTEND;TZID=America/New_York:20240320T150000
DTSTAMP:20260423T191321
CREATED:20240111T155843Z
LAST-MODIFIED:20240320T163419Z
UID:10006388-1710921600-1710946800@friendsofmoreaulake.org
SUMMARY:Warming Hut Open
DESCRIPTION:Stop by the warming hut to well\, warm up!! The Friends volunteer to staff it on weekends to provide hot chocolate and treats – they are also a wealth of information so stop in to say “Hi”. It closes at 3pm.
URL:https://friendsofmoreaulake.org/event/warming-hut-open/2024-03-20/
END:VEVENT
BEGIN:VEVENT
DTSTART;TZID=America/New_York:20240321T080000
DTEND;TZID=America/New_York:20240321T150000
DTSTAMP:20260423T191321
CREATED:20240111T155843Z
LAST-MODIFIED:20240320T163419Z
UID:10006389-1711008000-1711033200@friendsofmoreaulake.org
SUMMARY:Warming Hut Open
DESCRIPTION:Stop by the warming hut to well\, warm up!! The Friends volunteer to staff it on weekends to provide hot chocolate and treats – they are also a wealth of information so stop in to say “Hi”. It closes at 3pm.
URL:https://friendsofmoreaulake.org/event/warming-hut-open/2024-03-21/
END:VEVENT
BEGIN:VEVENT
DTSTART;TZID=America/New_York:20240322T080000
DTEND;TZID=America/New_York:20240322T150000
DTSTAMP:20260423T191321
CREATED:20240111T155843Z
LAST-MODIFIED:20240320T163419Z
UID:10006390-1711094400-1711119600@friendsofmoreaulake.org
SUMMARY:Warming Hut Open
DESCRIPTION:Stop by the warming hut to well\, warm up!! The Friends volunteer to staff it on weekends to provide hot chocolate and treats – they are also a wealth of information so stop in to say “Hi”. It closes at 3pm.
URL:https://friendsofmoreaulake.org/event/warming-hut-open/2024-03-22/
END:VEVENT
BEGIN:VEVENT
DTSTART;TZID=America/New_York:20240323T080000
DTEND;TZID=America/New_York:20240323T150000
DTSTAMP:20260423T191321
CREATED:20240111T155843Z
LAST-MODIFIED:20240320T163419Z
UID:10006391-1711180800-1711206000@friendsofmoreaulake.org
SUMMARY:Warming Hut Open
DESCRIPTION:Stop by the warming hut to well\, warm up!! The Friends volunteer to staff it on weekends to provide hot chocolate and treats – they are also a wealth of information so stop in to say “Hi”. It closes at 3pm.
URL:https://friendsofmoreaulake.org/event/warming-hut-open/2024-03-23/
END:VEVENT
BEGIN:VEVENT
DTSTART;TZID=America/New_York:20240323T110000
DTEND;TZID=America/New_York:20240323T123000
DTSTAMP:20260423T191321
CREATED:20240227T134755Z
LAST-MODIFIED:20240227T134755Z
UID:10007146-1711191600-1711197000@friendsofmoreaulake.org
SUMMARY:Trail Marker Craft
DESCRIPTION:We will create lovely works of art by upcycling otherwise unusable trail markers. This program is suited for anyone who enjoys our trails in particular\, our park in general or simply likes to make unique art. The cost is $5 for adults and $1 for children (cash or check) Please reserve your spot in advance by calling the office at 518-793-0511.
URL:https://friendsofmoreaulake.org/event/trail-marker-craft/
END:VEVENT
BEGIN:VEVENT
DTSTART;TZID=America/New_York:20240324T080000
DTEND;TZID=America/New_York:20240324T150000
DTSTAMP:20260423T191321
CREATED:20240111T155843Z
LAST-MODIFIED:20240320T163419Z
UID:10006392-1711267200-1711292400@friendsofmoreaulake.org
SUMMARY:Warming Hut Open
DESCRIPTION:Stop by the warming hut to well\, warm up!! The Friends volunteer to staff it on weekends to provide hot chocolate and treats – they are also a wealth of information so stop in to say “Hi”. It closes at 3pm.
URL:https://friendsofmoreaulake.org/event/warming-hut-open/2024-03-24/
END:VEVENT
BEGIN:VEVENT
DTSTART;TZID=America/New_York:20240325T080000
DTEND;TZID=America/New_York:20240325T150000
DTSTAMP:20260423T191321
CREATED:20240111T155843Z
LAST-MODIFIED:20240320T163419Z
UID:10006393-1711353600-1711378800@friendsofmoreaulake.org
SUMMARY:Warming Hut Open
DESCRIPTION:Stop by the warming hut to well\, warm up!! The Friends volunteer to staff it on weekends to provide hot chocolate and treats – they are also a wealth of information so stop in to say “Hi”. It closes at 3pm.
URL:https://friendsofmoreaulake.org/event/warming-hut-open/2024-03-25/
END:VEVENT
BEGIN:VEVENT
DTSTART;TZID=America/New_York:20240325T140000
DTEND;TZID=America/New_York:20240325T153000
DTSTAMP:20260423T191321
CREATED:20240227T134837Z
LAST-MODIFIED:20240227T134837Z
UID:10007147-1711375200-1711380600@friendsofmoreaulake.org
SUMMARY:Mud Pond Hike
DESCRIPTION:Join an Educator on an easier 2.1-mile hike from Nature Trail to Mud Pond. We might just see some beaver lodges. Bring plenty of water\, snacks\, waterproof shoes\, and appropriate clothing for the weather. We have snowshoes\, trekking poles\, and microspikes to rent at our park office. The cost for the hike is $5 (cash or check). Please reserve your spot in advance by calling the office at 518-793-0511.
URL:https://friendsofmoreaulake.org/event/mud-pond-hike-2/
END:VEVENT
BEGIN:VEVENT
DTSTART;TZID=America/New_York:20240325T190000
DTEND;TZID=America/New_York:20240325T203000
DTSTAMP:20260423T191321
CREATED:20240227T134921Z
LAST-MODIFIED:20240227T134921Z
UID:10007148-1711393200-1711398600@friendsofmoreaulake.org
SUMMARY:Full Moon Hike
DESCRIPTION:Join a Park Educator on a beginner hike around Moreau Lake. If the clouds cooperate\, we’ll get to enjoy the splendor of the moon rising above the mountains! This hike is family friendly and well-behaved dogs on a 6 foot or shorter leash are welcome. Dress for the weather and bring micro-spikes or snowshoes; there are limited numbers of micro-spikes to borrow and snowshoes to rent if weather-appropriate- let us know if you need either when you sign up. Reservations are required at least 24 hours in advance- the earlier the better as this is a popular program and it fills up quickly. To reserve your spot call 518-793-0511.
URL:https://friendsofmoreaulake.org/event/full-moon-hike-6/
END:VEVENT
BEGIN:VEVENT
DTSTART;TZID=America/New_York:20240326T080000
DTEND;TZID=America/New_York:20240326T150000
DTSTAMP:20260423T191321
CREATED:20240111T155843Z
LAST-MODIFIED:20240320T163419Z
UID:10006394-1711440000-1711465200@friendsofmoreaulake.org
SUMMARY:Warming Hut Open
DESCRIPTION:Stop by the warming hut to well\, warm up!! The Friends volunteer to staff it on weekends to provide hot chocolate and treats – they are also a wealth of information so stop in to say “Hi”. It closes at 3pm.
URL:https://friendsofmoreaulake.org/event/warming-hut-open/2024-03-26/
END:VEVENT
BEGIN:VEVENT
DTSTART;TZID=America/New_York:20240326T100000
DTEND;TZID=America/New_York:20240326T120000
DTSTAMP:20260423T191321
CREATED:20240227T134957Z
LAST-MODIFIED:20240227T134957Z
UID:10007149-1711447200-1711454400@friendsofmoreaulake.org
SUMMARY:Forest Bathing
DESCRIPTION:Coined shinrin-yoku in Japan in the 1980’s\, forest bathing is the ecotherapeutic practice of spending time immersed in nature\, absorbing it with all of your senses. The physiological and psychological benefits last for days afterward with the additional benefit of a new appreciation of our precious woodland and its inhabitants. This is a beginner-rated walk along the Nature Trail with long pauses to sit and enhance our awareness of our surroundings and it is approximately a 2-hour program. A small mat is beneficial to ensure a dry seat. This program is limited to those age 14 and up. Pay $5 per person (cash or check) at the office upon arrival. Registration in advance by calling 518-793-0511.
URL:https://friendsofmoreaulake.org/event/forest-bathing-3304/
END:VEVENT
BEGIN:VEVENT
DTSTART;TZID=America/New_York:20240327T080000
DTEND;TZID=America/New_York:20240327T150000
DTSTAMP:20260423T191321
CREATED:20240111T155843Z
LAST-MODIFIED:20240320T163419Z
UID:10006395-1711526400-1711551600@friendsofmoreaulake.org
SUMMARY:Warming Hut Open
DESCRIPTION:Stop by the warming hut to well\, warm up!! The Friends volunteer to staff it on weekends to provide hot chocolate and treats – they are also a wealth of information so stop in to say “Hi”. It closes at 3pm.
URL:https://friendsofmoreaulake.org/event/warming-hut-open/2024-03-27/
END:VEVENT
BEGIN:VEVENT
DTSTART;TZID=America/New_York:20240328T080000
DTEND;TZID=America/New_York:20240328T150000
DTSTAMP:20260423T191321
CREATED:20240111T155843Z
LAST-MODIFIED:20240320T163419Z
UID:10006396-1711612800-1711638000@friendsofmoreaulake.org
SUMMARY:Warming Hut Open
DESCRIPTION:Stop by the warming hut to well\, warm up!! The Friends volunteer to staff it on weekends to provide hot chocolate and treats – they are also a wealth of information so stop in to say “Hi”. It closes at 3pm.
URL:https://friendsofmoreaulake.org/event/warming-hut-open/2024-03-28/
END:VEVENT
BEGIN:VEVENT
DTSTART;TZID=America/New_York:20240328T100000
DTEND;TZID=America/New_York:20240328T120000
DTSTAMP:20260423T191321
CREATED:20240227T135051Z
LAST-MODIFIED:20240227T135051Z
UID:10007150-1711620000-1711627200@friendsofmoreaulake.org
SUMMARY:Baker Trail to Moreau Overlook Hike
DESCRIPTION:Join a park educator on a guided 2.4 mile out-and-back hike with around 500 ft elevation gain to get to Moreau Overlook that has excellent site seeing at the top. Please wear appropriate clothing for the weather and waterproof boots. Bring microspikes if you have them\, we have snowshoes and microspikes to rent at the office if you need them. The cost is $5 per adult\, payable by cash or check at the office upon your arrival. Reservations are required at least 24 hours in advance\, to reserve your spot\, call the office at 518-793-0511.
URL:https://friendsofmoreaulake.org/event/baker-trail-to-moreau-overlook-hike/
END:VEVENT
END:VCALENDAR