BEGIN:VCALENDAR
VERSION:2.0
PRODID:-//Friends of Moreau Lake State Park, Inc. - ECPv6.15.20//NONSGML v1.0//EN
CALSCALE:GREGORIAN
METHOD:PUBLISH
X-ORIGINAL-URL:https://friendsofmoreaulake.org
X-WR-CALDESC:Events for Friends of Moreau Lake State Park, Inc.
REFRESH-INTERVAL;VALUE=DURATION:PT1H
X-Robots-Tag:noindex
X-PUBLISHED-TTL:PT1H
BEGIN:VTIMEZONE
TZID:America/New_York
BEGIN:DAYLIGHT
TZOFFSETFROM:-0500
TZOFFSETTO:-0400
TZNAME:EDT
DTSTART:20230312T070000
END:DAYLIGHT
BEGIN:STANDARD
TZOFFSETFROM:-0400
TZOFFSETTO:-0500
TZNAME:EST
DTSTART:20231105T060000
END:STANDARD
BEGIN:DAYLIGHT
TZOFFSETFROM:-0500
TZOFFSETTO:-0400
TZNAME:EDT
DTSTART:20240310T070000
END:DAYLIGHT
BEGIN:STANDARD
TZOFFSETFROM:-0400
TZOFFSETTO:-0500
TZNAME:EST
DTSTART:20241103T060000
END:STANDARD
BEGIN:DAYLIGHT
TZOFFSETFROM:-0500
TZOFFSETTO:-0400
TZNAME:EDT
DTSTART:20250309T070000
END:DAYLIGHT
BEGIN:STANDARD
TZOFFSETFROM:-0400
TZOFFSETTO:-0500
TZNAME:EST
DTSTART:20251102T060000
END:STANDARD
END:VTIMEZONE
BEGIN:VEVENT
DTSTART;TZID=America/New_York:20240328T100000
DTEND;TZID=America/New_York:20240328T120000
DTSTAMP:20260423T175552
CREATED:20240227T135051Z
LAST-MODIFIED:20240227T135051Z
UID:10007150-1711620000-1711627200@friendsofmoreaulake.org
SUMMARY:Baker Trail to Moreau Overlook Hike
DESCRIPTION:Join a park educator on a guided 2.4 mile out-and-back hike with around 500 ft elevation gain to get to Moreau Overlook that has excellent site seeing at the top. Please wear appropriate clothing for the weather and waterproof boots. Bring microspikes if you have them\, we have snowshoes and microspikes to rent at the office if you need them. The cost is $5 per adult\, payable by cash or check at the office upon your arrival. Reservations are required at least 24 hours in advance\, to reserve your spot\, call the office at 518-793-0511.
URL:https://friendsofmoreaulake.org/event/baker-trail-to-moreau-overlook-hike/
END:VEVENT
BEGIN:VEVENT
DTSTART;TZID=America/New_York:20240329T080000
DTEND;TZID=America/New_York:20240329T150000
DTSTAMP:20260423T175552
CREATED:20240111T155843Z
LAST-MODIFIED:20240320T163419Z
UID:10006397-1711699200-1711724400@friendsofmoreaulake.org
SUMMARY:Warming Hut Open
DESCRIPTION:Stop by the warming hut to well\, warm up!! The Friends volunteer to staff it on weekends to provide hot chocolate and treats – they are also a wealth of information so stop in to say “Hi”. It closes at 3pm.
URL:https://friendsofmoreaulake.org/event/warming-hut-open/2024-03-29/
END:VEVENT
BEGIN:VEVENT
DTSTART;TZID=America/New_York:20240330T080000
DTEND;TZID=America/New_York:20240330T150000
DTSTAMP:20260423T175552
CREATED:20240111T155843Z
LAST-MODIFIED:20240320T163419Z
UID:10006398-1711785600-1711810800@friendsofmoreaulake.org
SUMMARY:Warming Hut Open
DESCRIPTION:Stop by the warming hut to well\, warm up!! The Friends volunteer to staff it on weekends to provide hot chocolate and treats – they are also a wealth of information so stop in to say “Hi”. It closes at 3pm.
URL:https://friendsofmoreaulake.org/event/warming-hut-open/2024-03-30/
END:VEVENT
BEGIN:VEVENT
DTSTART;TZID=America/New_York:20240331T080000
DTEND;TZID=America/New_York:20240331T150000
DTSTAMP:20260423T175552
CREATED:20240111T155843Z
LAST-MODIFIED:20240320T163419Z
UID:10006399-1711872000-1711897200@friendsofmoreaulake.org
SUMMARY:Warming Hut Open
DESCRIPTION:Stop by the warming hut to well\, warm up!! The Friends volunteer to staff it on weekends to provide hot chocolate and treats – they are also a wealth of information so stop in to say “Hi”. It closes at 3pm.
URL:https://friendsofmoreaulake.org/event/warming-hut-open/2024-03-31/
END:VEVENT
BEGIN:VEVENT
DTSTART;TZID=America/New_York:20240331T100000
DTEND;TZID=America/New_York:20240331T110000
DTSTAMP:20260423T175552
CREATED:20240227T135137Z
LAST-MODIFIED:20240320T163722Z
UID:10007151-1711879200-1711882800@friendsofmoreaulake.org
SUMMARY:Reptile Profile
DESCRIPTION:Join an educator in the nature center to meet our resident reptiles! We at Moreau take care of six New York native turtles and two snakes that cannot be released into the wild and are wonderful little educators. Learn about their exciting lives\, what they like to eat\, and what they use for shell-ter at the Nature Center. The cost is $5 for adults\, $1 for children (cash or check) at the office upon arrival. Please register at least 24 hours in advance at 518-793-0511.
URL:https://friendsofmoreaulake.org/event/reptile-profile-2/2024-03-31/
END:VEVENT
BEGIN:VEVENT
DTSTART;TZID=America/New_York:20240401T080000
DTEND;TZID=America/New_York:20240401T150000
DTSTAMP:20260423T175552
CREATED:20240111T155843Z
LAST-MODIFIED:20240320T163419Z
UID:10006400-1711958400-1711983600@friendsofmoreaulake.org
SUMMARY:Warming Hut Open
DESCRIPTION:Stop by the warming hut to well\, warm up!! The Friends volunteer to staff it on weekends to provide hot chocolate and treats – they are also a wealth of information so stop in to say “Hi”. It closes at 3pm.
URL:https://friendsofmoreaulake.org/event/warming-hut-open/2024-04-01/
END:VEVENT
BEGIN:VEVENT
DTSTART;TZID=America/New_York:20240401T090000
DTEND;TZID=America/New_York:20240401T110000
DTSTAMP:20260423T175552
CREATED:20240320T163036Z
LAST-MODIFIED:20240320T163036Z
UID:10007736-1711962000-1711969200@friendsofmoreaulake.org
SUMMARY:Forest Bathing
DESCRIPTION:Coined shinrin-yoku in Japan in the 1980’s\, forest bathing is the ecotherapeutic practice of spending time immersed in nature\, absorbing it with all of your senses. The physiological and psychological benefits last for days afterward with the additional benefit of a new appreciation of our precious woodland and its inhabitants. This is a beginner-rated walk along the Nature Trail with long pauses to sit and enhance our awareness of our surroundings\, it is an approximately 2-hour program. A small mat is beneficial to ensure a dry seat. This program is limited to those age 14 and up. Pay $5 per person (cash or check) at the office upon arrival. Register in advance by calling 518-793-0511. \nNYS Parks Centennial Challenge mission: \nFabulous Forests Try Forest bathing to decompress at one of our state parks or historic sites. \nhttps://parks.ny.gov/100/challenge/
URL:https://friendsofmoreaulake.org/event/forest-bathing-3868/2024-04-01/
END:VEVENT
BEGIN:VEVENT
DTSTART;TZID=America/New_York:20240401T100000
DTEND;TZID=America/New_York:20240401T120000
DTSTAMP:20260423T175552
CREATED:20240320T163224Z
LAST-MODIFIED:20240320T163224Z
UID:10007740-1711965600-1711972800@friendsofmoreaulake.org
SUMMARY:Kid Friendly Potters Point Hike
DESCRIPTION:A park educator will lead you and your family on a roughly 1 mile hike\, that is off trail in a lesser known part of the park.  This is not stroller friendly and there will be some muddy areas and terrain that will take some thought from those with little legs. We will take our time and enjoy however much our group is up for and we can make this hike shorter if needed.  Please dress yourself and children appropriately with clothes that can get wet and dirty and shoes to keep their feet dry. This program will be $1 per child.  Please call to reserve your spot 518-793-0511. \nNYS Parks Centennial Challenge missions: \nTake a Hike! Find a hike at a state park near you. \nGo Green: Bring your re-usable water bottle on a hike or walk at one of our state parks or historic sites. \n  \nEngage in Education Attend an environmental education program at a state park. \nhttps://parks.ny.gov/100/challenge/
URL:https://friendsofmoreaulake.org/event/kid-friendly-potters-point-hike/
END:VEVENT
BEGIN:VEVENT
DTSTART;TZID=America/New_York:20240401T130000
DTEND;TZID=America/New_York:20240401T150000
DTSTAMP:20260423T175552
CREATED:20240320T163535Z
LAST-MODIFIED:20240428T142302Z
UID:10007741-1711976400-1711983600@friendsofmoreaulake.org
SUMMARY:Beaver Walk
DESCRIPTION:Did you know that MLSP is home to a thriving population of North America’s largest rodent? We will walk along the Wetlands Walk and Mud Pond trails where we can view our beaver’s dam and lodges while we learn all about how they live\, love and learn. This program is for people of all ages\, it’s an easy-moderate hike of about 2.5 miles. Pay $1 per child and $5 per adult (cash or check) at the office upon arrival. Please register in advance by calling 518-793-0511. \nNYS Parks Centennial Challenge missions: \nTake a Hike! Find a hike at a state park near you. \nGo Green: Bring your re-usable water bottle on a hike or walk at one of our state parks or historic sites. \nhttps://parks.ny.gov/100/challenge/
URL:https://friendsofmoreaulake.org/event/beaver-walk/2024-04-01/
END:VEVENT
BEGIN:VEVENT
DTSTART;TZID=America/New_York:20240402T120000
DTEND;TZID=America/New_York:20240402T140000
DTSTAMP:20260423T175552
CREATED:20240320T163635Z
LAST-MODIFIED:20240320T163635Z
UID:10007742-1712059200-1712066400@friendsofmoreaulake.org
SUMMARY:Eclipse Viewers and Craft
DESCRIPTION:We will spend the day in the nature center talking about the eclipse and making viewing “cameras” out of cereal boxes as well as making a simple craft to help understand what is happening during the eclipse on April 7th.  Anyone who wants to join is welcome\, please bring a cereal or cracker shaped box to make into your own viewer to take home\, all other supplies will be on hand.   This is a drop-in program so come whenever you like during the 10am-2pm hours.  However we do ask you call to register so that we have enough supplies! Please register at least 24 hours in advance at 518-793-0511. \n  \nNYS Parks Centennial Challenge missions: \nNature Center Knowledge Attend a nature center program. \nEngage in Education Attend an environmental education program at a state park. \nhttps://parks.ny.gov/100/challenge/
URL:https://friendsofmoreaulake.org/event/eclipse-viewers-and-craft/
END:VEVENT
BEGIN:VEVENT
DTSTART;TZID=America/New_York:20240402T143000
DTEND;TZID=America/New_York:20240402T153000
DTSTAMP:20260423T175552
CREATED:20240227T135137Z
LAST-MODIFIED:20240320T163722Z
UID:10007743-1712068200-1712071800@friendsofmoreaulake.org
SUMMARY:Reptile Profile
DESCRIPTION:Join an educator in the nature center to meet our resident reptiles! We at Moreau take care of six New York native turtles and two snakes that cannot be released into the wild and are wonderful little educators. Learn about their exciting lives\, what they like to eat\, and what they use for shell-ter at the Nature Center. The cost is $5 for adults\, $1 for children (cash or check) at the office upon arrival. Please register at least 24 hours in advance at 518-793-0511.
URL:https://friendsofmoreaulake.org/event/reptile-profile-2/2024-04-02/
END:VEVENT
BEGIN:VEVENT
DTSTART;TZID=America/New_York:20240403T090000
DTEND;TZID=America/New_York:20240403T113000
DTSTAMP:20260423T175552
CREATED:20240320T163808Z
LAST-MODIFIED:20240320T163808Z
UID:10007744-1712134800-1712143800@friendsofmoreaulake.org
SUMMARY:Stonewall Hike
DESCRIPTION:This less-traveled trail is a little over 3 miles and rated as easy. Situated across the river from us\, with historical interest including an old foundation\, this trail is a must-do. Check in at the office\, we will convoy to the trailhead. The cost for the hike is $5 (cash or check) Please reserve your spot in advance by calling the office at 518-793-0511. \nNYS Parks Centennial Challenge missions: \nTake a Hike! Find a hike at a state park near you. \nGo Green Bring your re-usable water bottle on a hike or walk at one of our state parks or historic sites. \nhttps://parks.ny.gov/100/challenge/
URL:https://friendsofmoreaulake.org/event/stonewall-hike/
END:VEVENT
BEGIN:VEVENT
DTSTART;TZID=America/New_York:20240403T130000
DTEND;TZID=America/New_York:20240403T160000
DTSTAMP:20260423T175552
CREATED:20240322T141402Z
LAST-MODIFIED:20240327T183658Z
UID:10007782-1712149200-1712160000@friendsofmoreaulake.org
SUMMARY:Friends Hosted Treasure Hunt
DESCRIPTION:The Treasure Hunt is a Friend’s hosted self guided activity. The goal is for participants to focus on the natural world around them. The players receive a list of things to look for as they walk along. They don’t need to bring anything back \, just check things off. They may note where they saw something and/ or some information about what they saw. When they return and show what they have\, they will receive congratulations and a small recognition. \nThis is a free event\, you do not need to register\, meet at the Nature Center
URL:https://friendsofmoreaulake.org/event/friends-hosted-treasure-hunt/
END:VEVENT
BEGIN:VEVENT
DTSTART;TZID=America/New_York:20240404T100000
DTEND;TZID=America/New_York:20240404T110000
DTSTAMP:20260423T175552
CREATED:20240227T132948Z
LAST-MODIFIED:20240320T163843Z
UID:10007124-1712224800-1712228400@friendsofmoreaulake.org
SUMMARY:Birds of Play
DESCRIPTION:This program is geared toward younger children to learn the basics of size\, color\, behavior and vocalization of common birds. The program fee is $1 (cash or check). Please reserve your spot in advance by calling the office at 518-793-0511.
URL:https://friendsofmoreaulake.org/event/birds-of-play/
END:VEVENT
BEGIN:VEVENT
DTSTART;TZID=America/New_York:20240404T130000
DTEND;TZID=America/New_York:20240404T143000
DTSTAMP:20260423T175552
CREATED:20240320T163930Z
LAST-MODIFIED:20240320T163930Z
UID:10007745-1712235600-1712241000@friendsofmoreaulake.org
SUMMARY:Earth Day Experiments
DESCRIPTION:April is Earth Month\, celebrate with us at MLSP! We’ll have 3 experiments- Storm Runoff\, Oil Spill Clean-up\, and Slime Making. Dress for mess! The cost is $1 per child\, payable by cash or check at the office upon your arrival. Reserve your spot in advance by calling 518-793-0511. \nNYS Parks Centennial Challenge missions: \nNature Center Knowledge Attend a nature center program. \nhttps://parks.ny.gov/100/challenge/
URL:https://friendsofmoreaulake.org/event/earth-day-experiments/
END:VEVENT
BEGIN:VEVENT
DTSTART;TZID=America/New_York:20240406T110000
DTEND;TZID=America/New_York:20240406T130000
DTSTAMP:20260423T175552
CREATED:20240320T164559Z
LAST-MODIFIED:20240320T164559Z
UID:10007753-1712401200-1712408400@friendsofmoreaulake.org
SUMMARY:Mandala and Zen Tangle Nature Inspired Pattern Crafts
DESCRIPTION:Join an educator at the nature center where we will be creating nature-inspired symmetrical mandalas and asymmetrical Zen tangles out of paper. This is fun for all ages and is a drop-in activity\, so no registration required. \nNYS Parks Centennial Challenge missions: \nNature Center Knowledge Attend a nature center program. \nEngage in Education Attend an environmental education program at a state park. \nhttps://parks.ny.gov/100/challenge/
URL:https://friendsofmoreaulake.org/event/mandala-and-zen-tangle-nature-inspired-pattern-crafts/
END:VEVENT
BEGIN:VEVENT
DTSTART;TZID=America/New_York:20240409T190000
DTEND;TZID=America/New_York:20240409T210000
DTSTAMP:20260423T175552
CREATED:20230823T164245Z
LAST-MODIFIED:20230823T164245Z
UID:10001117-1712689200-1712696400@friendsofmoreaulake.org
SUMMARY:Friends of Moreau Lake Monthly Meeting
DESCRIPTION:Please join us for our monthly general membership board meeting. It is open to the public and is held the second Tuesday of every month at 7pm via ZOOM.  The agenda is sent prior to the meeting to all members. If you would like to come to the meeting but are not a member\, please email: comments@fomlsp.org and we will send you the information to ZOOM as well as the agenda.
URL:https://friendsofmoreaulake.org/event/friends-of-moreau-lake-monthly-meeting/2024-04-09/
ATTACH;FMTTYPE=image/png:https://friendsofmoreaulake.org/wp-content/uploads/2021/10/New-Logo-200x200-1-e1633961946679.png
END:VEVENT
BEGIN:VEVENT
DTSTART;TZID=America/New_York:20240410T090000
DTEND;TZID=America/New_York:20240410T120000
DTSTAMP:20260423T175552
CREATED:20240320T164747Z
LAST-MODIFIED:20240320T164747Z
UID:10007754-1712739600-1712750400@friendsofmoreaulake.org
SUMMARY:Lake Bonita to Lake Ann
DESCRIPTION:At around 3.5 miles this beautiful hike is rated as moderate. Check in at the office upon arrival\, we will convoy to the trailhead. \nThe cost for the hike is $5 (cash or check) Please reserve your spot in advance by calling the office at 518-793-0511. \nNYS Parks Centennial Challenge missions: \nTake a Hike! Find a hike at a state park near you. \nGo Green Bring your re-usable water bottle on a hike or walk at one of our state parks or historic sites. \nhttps://parks.ny.gov/100/challenge/ \n 
URL:https://friendsofmoreaulake.org/event/lake-bonita-to-lake-ann/
END:VEVENT
BEGIN:VEVENT
DTSTART;TZID=America/New_York:20240410T100000
DTEND;TZID=America/New_York:20240410T113000
DTSTAMP:20260423T175552
CREATED:20240320T164827Z
LAST-MODIFIED:20240320T164827Z
UID:10007755-1712743200-1712748600@friendsofmoreaulake.org
SUMMARY:Homeschool Pop-Up Frogs
DESCRIPTION:Join an educator in the nature center to learn about frogs and do a related activity. We are encouraging homeschool groups to attend\, but it is open to the public. Geared toward ages 6+\, siblings welcome. The cost is $5 for adults and $1 for children (cash or check) Please reserve your spot in advance by calling the office at 518-793-0511. \nNYS Parks Centennial Challenge missions: \nNature Center Knowledge Attend a nature center program. \nhttps://parks.ny.gov/100/challenge/
URL:https://friendsofmoreaulake.org/event/homeschool-pop-up-frogs/
END:VEVENT
BEGIN:VEVENT
DTSTART;TZID=America/New_York:20240411T090000
DTEND;TZID=America/New_York:20240411T110000
DTSTAMP:20260423T175552
CREATED:20240320T163036Z
LAST-MODIFIED:20240320T163036Z
UID:10007737-1712826000-1712833200@friendsofmoreaulake.org
SUMMARY:Forest Bathing
DESCRIPTION:Coined shinrin-yoku in Japan in the 1980’s\, forest bathing is the ecotherapeutic practice of spending time immersed in nature\, absorbing it with all of your senses. The physiological and psychological benefits last for days afterward with the additional benefit of a new appreciation of our precious woodland and its inhabitants. This is a beginner-rated walk along the Nature Trail with long pauses to sit and enhance our awareness of our surroundings\, it is an approximately 2-hour program. A small mat is beneficial to ensure a dry seat. This program is limited to those age 14 and up. Pay $5 per person (cash or check) at the office upon arrival. Register in advance by calling 518-793-0511. \nNYS Parks Centennial Challenge mission: \nFabulous Forests Try Forest bathing to decompress at one of our state parks or historic sites. \nhttps://parks.ny.gov/100/challenge/
URL:https://friendsofmoreaulake.org/event/forest-bathing-3868/2024-04-11/
END:VEVENT
BEGIN:VEVENT
DTSTART;TZID=America/New_York:20240415T080000
DTEND;TZID=America/New_York:20240415T170000
DTSTAMP:20260423T175552
CREATED:20240320T165147Z
LAST-MODIFIED:20240320T165147Z
UID:10007757-1713168000-1713200400@friendsofmoreaulake.org
SUMMARY:Nature Journals
DESCRIPTION:Join an educator for World Art Day in making your own nature journal. Nature journals are a great way to write down your discoveries and engage in the world around you. If you are able\, we will go on a short walk to get a start on those journals. Pay $1 per child and $5 per adult (cash or check) at the office upon arrival. Please register in advance by calling 518-793-0511. \nNYS Parks Centennial Challenge missions: \nArt in the Park Sketch a wildflower or wildlife you see at a state park or historic site. \nhttps://parks.ny.gov/100/challenge/
URL:https://friendsofmoreaulake.org/event/nature-journals/2024-04-15/1/
END:VEVENT
BEGIN:VEVENT
DTSTART;TZID=America/New_York:20240415T090000
DTEND;TZID=America/New_York:20240415T110000
DTSTAMP:20260423T175552
CREATED:20240320T163036Z
LAST-MODIFIED:20240320T163036Z
UID:10007738-1713171600-1713178800@friendsofmoreaulake.org
SUMMARY:Forest Bathing
DESCRIPTION:Coined shinrin-yoku in Japan in the 1980’s\, forest bathing is the ecotherapeutic practice of spending time immersed in nature\, absorbing it with all of your senses. The physiological and psychological benefits last for days afterward with the additional benefit of a new appreciation of our precious woodland and its inhabitants. This is a beginner-rated walk along the Nature Trail with long pauses to sit and enhance our awareness of our surroundings\, it is an approximately 2-hour program. A small mat is beneficial to ensure a dry seat. This program is limited to those age 14 and up. Pay $5 per person (cash or check) at the office upon arrival. Register in advance by calling 518-793-0511. \nNYS Parks Centennial Challenge mission: \nFabulous Forests Try Forest bathing to decompress at one of our state parks or historic sites. \nhttps://parks.ny.gov/100/challenge/
URL:https://friendsofmoreaulake.org/event/forest-bathing-3868/2024-04-15/
END:VEVENT
BEGIN:VEVENT
DTSTART;TZID=America/New_York:20240415T110000
DTEND;TZID=America/New_York:20240415T123000
DTSTAMP:20260423T175552
CREATED:20240320T165147Z
LAST-MODIFIED:20240320T165147Z
UID:10007758-1713178800-1713184200@friendsofmoreaulake.org
SUMMARY:Nature Journals
DESCRIPTION:Join an educator for World Art Day in making your own nature journal. Nature journals are a great way to write down your discoveries and engage in the world around you. If you are able\, we will go on a short walk to get a start on those journals. Pay $1 per child and $5 per adult (cash or check) at the office upon arrival. Please register in advance by calling 518-793-0511. \nNYS Parks Centennial Challenge missions: \nArt in the Park Sketch a wildflower or wildlife you see at a state park or historic site. \nhttps://parks.ny.gov/100/challenge/
URL:https://friendsofmoreaulake.org/event/nature-journals/2024-04-15/2/
END:VEVENT
BEGIN:VEVENT
DTSTART;TZID=America/New_York:20240416T100000
DTEND;TZID=America/New_York:20240416T120000
DTSTAMP:20260423T175552
CREATED:20240320T165233Z
LAST-MODIFIED:20240320T165233Z
UID:10007759-1713261600-1713268800@friendsofmoreaulake.org
SUMMARY:Planting for Pollinators
DESCRIPTION:Become a Guerilla Gardener! Learn what to plant (and what not to) to improve declining pollinator populations. Make seed bombs to increase habitat and food sources for our insect allies. Pay $1 per child and $5 per adult (cash or check) at the office upon arrival. Please register in advance by calling 518-793-0511. \nNYS Parks Centennial Challenge missions: \nNature Center Knowledge Attend a nature center program. \nhttps://parks.ny.gov/100/challenge/
URL:https://friendsofmoreaulake.org/event/planting-for-pollinators/
END:VEVENT
BEGIN:VEVENT
DTSTART;TZID=America/New_York:20240416T113000
DTEND;TZID=America/New_York:20240416T130000
DTSTAMP:20260423T175552
CREATED:20240320T165318Z
LAST-MODIFIED:20240320T165318Z
UID:10007760-1713267000-1713272400@friendsofmoreaulake.org
SUMMARY:Tree I.D. Walk
DESCRIPTION:Ever wonder about the names of the trees you walk by every day? This is the best time of the year to learn how to i.d. trees because if you can identify them by their bark will know them in any season! Pay $5 per person (cash or check) at the office upon arrival. Please register in advance by calling 518-793-0511. \nNYS Parks Centennial Challenge missions: \nNew York Native Identify a plant native to New York at a state park or historic site. \nTree I.D. Take a walk at a state park or historic sites and identify a tree native to New York State! \nhttps://parks.ny.gov/100/challenge/
URL:https://friendsofmoreaulake.org/event/tree-i-d-walk/
END:VEVENT
BEGIN:VEVENT
DTSTART;TZID=America/New_York:20240417T090000
DTEND;TZID=America/New_York:20240417T120000
DTSTAMP:20260423T175552
CREATED:20240320T165401Z
LAST-MODIFIED:20240320T165401Z
UID:10007761-1713344400-1713355200@friendsofmoreaulake.org
SUMMARY:Baker Trail to Overlook Hike
DESCRIPTION:At just over 2 miles this is a moderate hike to the Moreau Overlook and back. Witness the change in flora is we increase in elevation. Check in at the office\, we will convoy to the trailhead. The cost for the hike is $5 (cash or check) Please reserve your spot in advance by calling the office at 518-793-0511. \nNYS Parks Centennial Challenge missions: \nTake a Hike! Find a hike at a state park near you. \nGo Green Bring your re-usable water bottle on a hike or walk at one of our state parks or historic sites. \nhttps://parks.ny.gov/100/challenge/
URL:https://friendsofmoreaulake.org/event/baker-trail-to-overlook-hike/
END:VEVENT
BEGIN:VEVENT
DTSTART;TZID=America/New_York:20240418T090000
DTEND;TZID=America/New_York:20240418T120000
DTSTAMP:20260423T175552
CREATED:20240320T165444Z
LAST-MODIFIED:20240320T165444Z
UID:10007762-1713430800-1713441600@friendsofmoreaulake.org
SUMMARY:Western Ridge to Eastern Ridge Loop Hike
DESCRIPTION:Join an educator this National Exercise Day on a hike.  A more difficult hike of 6 miles from Western Ridge\, to Ridge Run\, to Eastern Ridge with viewpoints along the Western Ridge Trail. Bring a lunch or snack\, plenty of water\, waterproof shoes\, and appropriate clothing for the weather. The cost for the hike is $5 (cash or check) Please reserve your spot in advance by calling the office at 518-793-0511. \nNYS Parks Centennial Challenge missions: \nTake a Hike! Find a hike at a state park near you. \nGo Green Bring your re-usable water bottle on a hike or walk at one of our state parks or historic sites. \nhttps://parks.ny.gov/100/challenge/
URL:https://friendsofmoreaulake.org/event/western-ridge-to-eastern-ridge-loop-hike/
END:VEVENT
BEGIN:VEVENT
DTSTART;TZID=America/New_York:20240420T110000
DTEND;TZID=America/New_York:20240420T130000
DTSTAMP:20260423T175552
CREATED:20240320T165526Z
LAST-MODIFIED:20240320T165526Z
UID:10007763-1713610800-1713618000@friendsofmoreaulake.org
SUMMARY:Earth Day Recycle Craft
DESCRIPTION:A fun and creative way to celebrate earth day is to reduce\, reuse and recycle.  Please come to the nature center to work on a craft reusing commonly recycled items.  This craft will be led by your imagination and artistic vision. We will provide the materials.  If you have a vision but need something from your own recycling bin\, please feel to bring it along.  This program is free and does not require sign ups. \nNYS Parks Centennial Challenge missions: \nNature Center Knowledge Attend a nature center program. \nEngage in Education Attend an environmental education program at a state park. \nhttps://parks.ny.gov/100/challenge/
URL:https://friendsofmoreaulake.org/event/earth-day-recycle-craft/
END:VEVENT
BEGIN:VEVENT
DTSTART;TZID=America/New_York:20240421T130000
DTEND;TZID=America/New_York:20240421T150000
DTSTAMP:20260423T175552
CREATED:20240320T165616Z
LAST-MODIFIED:20240320T165616Z
UID:10007764-1713704400-1713711600@friendsofmoreaulake.org
SUMMARY:The Friend's Earth Day Road Clean-Up
DESCRIPTION:For Earth Day this year\, consider helping the planet by joining the Friends of MLSP for a roadside trash clean up. Meet at the office at 1 p.m. \nNYS Parks Centennial Challenge missions: \nTakin’ Out the Trash Pick up any litter at a state park for 30 minutes! \nhttps://parks.ny.gov/100/challenge/
URL:https://friendsofmoreaulake.org/event/the-friends-earth-day-road-clean-up/
END:VEVENT
BEGIN:VEVENT
DTSTART;TZID=America/New_York:20240422T100000
DTEND;TZID=America/New_York:20240422T120000
DTSTAMP:20260423T175552
CREATED:20240320T165705Z
LAST-MODIFIED:20240320T165705Z
UID:10007765-1713780000-1713787200@friendsofmoreaulake.org
SUMMARY:Homeschool Pop-Up Earth Day
DESCRIPTION:Join an educator at the nature center to celebrate Earth Day with a “signs-of-spring” treasure hunt. This will include a walk around the nature center so bring weather appropriate clothes and shoes. We are encouraging homeschool groups to attend\, but it is open to the public. Geared toward ages 6+\, siblings welcome. The cost is $1 for children (cash or check) Please reserve your spot in advance by calling the office at 518-793-0511. \nNYS Parks Centennial Challenge missions: \nSeasonal Beauty Visit the same place in a state park or historic for all four seasons of the year. \nGo Green: Bring your re-usable water bottle on a hike or walk at one of our state parks or historic sites. \nNature Center Knowledge Attend a nature center program. \nEngage in Education Attend an environmental education program at a state park. \nhttps://parks.ny.gov/100/challenge/
URL:https://friendsofmoreaulake.org/event/homeschool-pop-up-earth-day/
END:VEVENT
END:VCALENDAR