BEGIN:VCALENDAR
VERSION:2.0
PRODID:-//Friends of Moreau Lake State Park, Inc. - ECPv6.15.20//NONSGML v1.0//EN
CALSCALE:GREGORIAN
METHOD:PUBLISH
X-WR-CALNAME:Friends of Moreau Lake State Park, Inc.
X-ORIGINAL-URL:https://friendsofmoreaulake.org
X-WR-CALDESC:Events for Friends of Moreau Lake State Park, Inc.
REFRESH-INTERVAL;VALUE=DURATION:PT1H
X-Robots-Tag:noindex
X-PUBLISHED-TTL:PT1H
BEGIN:VTIMEZONE
TZID:America/New_York
BEGIN:DAYLIGHT
TZOFFSETFROM:-0500
TZOFFSETTO:-0400
TZNAME:EDT
DTSTART:20240310T070000
END:DAYLIGHT
BEGIN:STANDARD
TZOFFSETFROM:-0400
TZOFFSETTO:-0500
TZNAME:EST
DTSTART:20241103T060000
END:STANDARD
BEGIN:DAYLIGHT
TZOFFSETFROM:-0500
TZOFFSETTO:-0400
TZNAME:EDT
DTSTART:20250309T070000
END:DAYLIGHT
BEGIN:STANDARD
TZOFFSETFROM:-0400
TZOFFSETTO:-0500
TZNAME:EST
DTSTART:20251102T060000
END:STANDARD
BEGIN:DAYLIGHT
TZOFFSETFROM:-0500
TZOFFSETTO:-0400
TZNAME:EDT
DTSTART:20260308T070000
END:DAYLIGHT
BEGIN:STANDARD
TZOFFSETFROM:-0400
TZOFFSETTO:-0500
TZNAME:EST
DTSTART:20261101T060000
END:STANDARD
END:VTIMEZONE
BEGIN:VEVENT
DTSTART;TZID=America/New_York:20250218T090000
DTEND;TZID=America/New_York:20250218T120000
DTSTAMP:20260420T030559
CREATED:20240227T133208Z
LAST-MODIFIED:20250128T151958Z
UID:10014947-1739869200-1739880000@friendsofmoreaulake.org
SUMMARY:Eagle Watch
DESCRIPTION:Join a Park Educator on a convoy-style journey along the Hudson River to try to spot our local Bald Eagles. We will be getting in and out of vehicles at a few locations and\, with a little luck\, viewing the eagles through binoculars and a scope so make sure to bring your hat and gloves! If you have binoculars bring them\, we do have a couple of pair to pass around as well. To reserve your spot call 518-793-0511.
URL:https://friendsofmoreaulake.org/event/eagle-watch-2/2025-02-18/
END:VEVENT
BEGIN:VEVENT
DTSTART;TZID=America/New_York:20250219T110000
DTEND;TZID=America/New_York:20250219T130000
DTSTAMP:20260420T030559
CREATED:20250128T152118Z
LAST-MODIFIED:20250128T152151Z
UID:10014948-1739962800-1739970000@friendsofmoreaulake.org
SUMMARY:Friends Craft at the Nature Center
DESCRIPTION:The friends will be at the nature center making a couple different crafts\, celebrating the Chinese New Year with a snake craft\, a snow globe\, and coffee cup suet feeders. “The Year of the Snake in the Chinese zodiac is a time for transformation\, self-improvement\, and embracing new possibilities.” Please register 24 hours in advance at 518-793-0511.
URL:https://friendsofmoreaulake.org/event/friends-craft-at-the-nature-center/
END:VEVENT
BEGIN:VEVENT
DTSTART;TZID=America/New_York:20250219T130000
DTEND;TZID=America/New_York:20250219T150000
DTSTAMP:20260420T030559
CREATED:20250128T152255Z
LAST-MODIFIED:20250128T152255Z
UID:10014949-1739970000-1739977200@friendsofmoreaulake.org
SUMMARY:Guided Hike: Reading the Landscape
DESCRIPTION:Join an educator on a start and stop hike for a couple miles to investigate the forested landscape. Learning from Tom Wessels’ books and videos on understanding the history\, human activity\, and natural events like storms and fires and how it formed the physical forest around us. This program is free and geared toward 13+.
URL:https://friendsofmoreaulake.org/event/guided-hike-reading-the-landscape/
END:VEVENT
BEGIN:VEVENT
DTSTART;TZID=America/New_York:20250221T100000
DTEND;TZID=America/New_York:20250221T150000
DTSTAMP:20260420T030559
CREATED:20240819T134703Z
LAST-MODIFIED:20240820T140435Z
UID:10012587-1740132000-1740150000@friendsofmoreaulake.org
SUMMARY:Nature Center Open Weekends
DESCRIPTION:
URL:https://friendsofmoreaulake.org/event/nature-center-open-3/2025-02-21/
END:VEVENT
BEGIN:VEVENT
DTSTART;TZID=America/New_York:20250221T110000
DTEND;TZID=America/New_York:20250221T123000
DTSTAMP:20260420T030559
CREATED:20250128T152506Z
LAST-MODIFIED:20250128T152506Z
UID:10014950-1740135600-1740141000@friendsofmoreaulake.org
SUMMARY:All About Snow and Snow Sculpting
DESCRIPTION:Ever wonder how snowflakes form? Why some snow is great for packing and some snow is dry and dusty? Join our nature center employees for a presentation on snow! After we know all there is to know about snow\, we will go outside and (weather permitting) make snow sculptures! If there is no snow to sculpt with\, we will draw plans for our next snowy day. Please reserve your spot 24-hours in advance by calling the office at 518-793-0511.
URL:https://friendsofmoreaulake.org/event/all-about-snow-and-snow-sculpting/
END:VEVENT
BEGIN:VEVENT
DTSTART;TZID=America/New_York:20250222T100000
DTEND;TZID=America/New_York:20250222T150000
DTSTAMP:20260420T030559
CREATED:20240819T134703Z
LAST-MODIFIED:20240820T140435Z
UID:10012588-1740218400-1740236400@friendsofmoreaulake.org
SUMMARY:Nature Center Open Weekends
DESCRIPTION:
URL:https://friendsofmoreaulake.org/event/nature-center-open-3/2025-02-22/
END:VEVENT
BEGIN:VEVENT
DTSTART;TZID=America/New_York:20250223T100000
DTEND;TZID=America/New_York:20250223T120000
DTSTAMP:20260420T030559
CREATED:20250128T152545Z
LAST-MODIFIED:20250128T152545Z
UID:10014951-1740304800-1740312000@friendsofmoreaulake.org
SUMMARY:Wild About Wetlands
DESCRIPTION:World wetland day is February 2nd\, but we are here to celebrate all the time! Come to the nature center and we will talk about Moreau Lake’s wetlands and how our beavers assist in making our wetlands biodiverse. If we are able\, we will go on a walk to look at our very own beaver dam. This program is free and for all ages. Please reserve your spot 24-hours in advance by calling the office at 518-793-0511.
URL:https://friendsofmoreaulake.org/event/wild-about-wetlands/
END:VEVENT
BEGIN:VEVENT
DTSTART;TZID=America/New_York:20250223T100000
DTEND;TZID=America/New_York:20250223T150000
DTSTAMP:20260420T030559
CREATED:20240819T134703Z
LAST-MODIFIED:20240820T140435Z
UID:10012589-1740304800-1740322800@friendsofmoreaulake.org
SUMMARY:Nature Center Open Weekends
DESCRIPTION:
URL:https://friendsofmoreaulake.org/event/nature-center-open-3/2025-02-23/
END:VEVENT
BEGIN:VEVENT
DTSTART;TZID=America/New_York:20250225T100000
DTEND;TZID=America/New_York:20250225T120000
DTSTAMP:20260420T030559
CREATED:20250128T152621Z
LAST-MODIFIED:20250128T152621Z
UID:10014952-1740477600-1740484800@friendsofmoreaulake.org
SUMMARY:Big Bend River Walk
DESCRIPTION:Join an educator on a flat 5.5 mile hike at our new property\, Big Bend. Please be prepared for the weather with warm clothing\, waterproof footwear\, water\, and a snack. We have limited snowshoes and micro spikes to borrow. We will meet at the park office and caravan over to the Big Bend trailhead. This program is free and geared toward ages 13+.
URL:https://friendsofmoreaulake.org/event/big-bend-river-walk/
END:VEVENT
BEGIN:VEVENT
DTSTART;TZID=America/New_York:20250227T180000
DTEND;TZID=America/New_York:20250227T200000
DTSTAMP:20260420T030559
CREATED:20250128T152712Z
LAST-MODIFIED:20250128T152712Z
UID:10014953-1740679200-1740686400@friendsofmoreaulake.org
SUMMARY:New Moon at the Observtory
DESCRIPTION:Come to the beach to take a view at the dark sky with our telescope. We have a volunteer astronomer to teach us about the stars! If you have a telescope at home that you need help troubleshooting\, the astronomer is welcoming people to bring there’s if they have any questions. This program is free and for all ages. Please register 24-hours in advance by calling 518-793-0511.
URL:https://friendsofmoreaulake.org/event/new-moon-at-the-observtory/
END:VEVENT
BEGIN:VEVENT
DTSTART;TZID=America/New_York:20250228T100000
DTEND;TZID=America/New_York:20250228T150000
DTSTAMP:20260420T030559
CREATED:20240819T134703Z
LAST-MODIFIED:20240820T140435Z
UID:10012590-1740736800-1740754800@friendsofmoreaulake.org
SUMMARY:Nature Center Open Weekends
DESCRIPTION:
URL:https://friendsofmoreaulake.org/event/nature-center-open-3/2025-02-28/
END:VEVENT
BEGIN:VEVENT
DTSTART;TZID=America/New_York:20250301T100000
DTEND;TZID=America/New_York:20250301T150000
DTSTAMP:20260420T030559
CREATED:20240819T134703Z
LAST-MODIFIED:20240820T140435Z
UID:10012591-1740823200-1740841200@friendsofmoreaulake.org
SUMMARY:Nature Center Open Weekends
DESCRIPTION:
URL:https://friendsofmoreaulake.org/event/nature-center-open-3/2025-03-01/
END:VEVENT
BEGIN:VEVENT
DTSTART;TZID=America/New_York:20250301T120000
DTEND;TZID=America/New_York:20250301T140000
DTSTAMP:20260420T030559
CREATED:20250128T152753Z
LAST-MODIFIED:20250128T152753Z
UID:10014954-1740830400-1740837600@friendsofmoreaulake.org
SUMMARY:“The Big Night” Discussion on Amphibian Migration
DESCRIPTION:Why did the amphibian cross the road? To get to the vernal pool! Join a Nature Center educator to learn about “the Big Night”\, a warm rainy day at the start of spring when all of the amphibians come out of brumation. We will discuss NYSDEC Amphibian Migration and Road Crossing Project where volunteers collect data and help amphibians’ cross busy roads. Geared toward ages 13+ but all are welcome.
URL:https://friendsofmoreaulake.org/event/the-big-night-discussion-on-amphibian-migration/
END:VEVENT
BEGIN:VEVENT
DTSTART;TZID=America/New_York:20250302T100000
DTEND;TZID=America/New_York:20250302T150000
DTSTAMP:20260420T030559
CREATED:20240819T134703Z
LAST-MODIFIED:20240820T140435Z
UID:10012592-1740909600-1740927600@friendsofmoreaulake.org
SUMMARY:Nature Center Open Weekends
DESCRIPTION:
URL:https://friendsofmoreaulake.org/event/nature-center-open-3/2025-03-02/
END:VEVENT
BEGIN:VEVENT
DTSTART;TZID=America/New_York:20250307T100000
DTEND;TZID=America/New_York:20250307T150000
DTSTAMP:20260420T030559
CREATED:20240819T134703Z
LAST-MODIFIED:20240820T140435Z
UID:10012593-1741341600-1741359600@friendsofmoreaulake.org
SUMMARY:Nature Center Open Weekends
DESCRIPTION:
URL:https://friendsofmoreaulake.org/event/nature-center-open-3/2025-03-07/
END:VEVENT
BEGIN:VEVENT
DTSTART;TZID=America/New_York:20250308T100000
DTEND;TZID=America/New_York:20250308T150000
DTSTAMP:20260420T030559
CREATED:20240819T134703Z
LAST-MODIFIED:20240820T140435Z
UID:10012594-1741428000-1741446000@friendsofmoreaulake.org
SUMMARY:Nature Center Open Weekends
DESCRIPTION:
URL:https://friendsofmoreaulake.org/event/nature-center-open-3/2025-03-08/
END:VEVENT
BEGIN:VEVENT
DTSTART;TZID=America/New_York:20250309T100000
DTEND;TZID=America/New_York:20250309T150000
DTSTAMP:20260420T030559
CREATED:20240819T134703Z
LAST-MODIFIED:20240820T140435Z
UID:10012595-1741514400-1741532400@friendsofmoreaulake.org
SUMMARY:Nature Center Open Weekends
DESCRIPTION:
URL:https://friendsofmoreaulake.org/event/nature-center-open-3/2025-03-09/
END:VEVENT
BEGIN:VEVENT
DTSTART;TZID=America/New_York:20250312T190000
DTEND;TZID=America/New_York:20250312T210000
DTSTAMP:20260420T030559
CREATED:20250312T165454Z
LAST-MODIFIED:20250312T165454Z
UID:10016405-1741806000-1741813200@friendsofmoreaulake.org
SUMMARY:Full Moon Hike Big Bend
DESCRIPTION:Join a park educator on a beginner hike and if the clouds cooperate\, we’ll get to enjoy the splendor of the full “Worm Moon” rising above the mountains! This hike is free\, is family friendly and well-behaved dogs on a 6 foot or shorter leash are welcome. This hike will not go the full 3.5 miles\, we will be going closer to 2.5 miles on flat terrain. We have snowshoes to rent $5 per person if we need them. To reserve your spot call 518-793-0511 the earlier the better as this is a popular program and it fills up quickly.
URL:https://friendsofmoreaulake.org/event/full-moon-hike-big-bend/
END:VEVENT
BEGIN:VEVENT
DTSTART;TZID=America/New_York:20250313T130000
DTEND;TZID=America/New_York:20250313T150000
DTSTAMP:20260420T030559
CREATED:20250312T165531Z
LAST-MODIFIED:20250312T165531Z
UID:10016406-1741870800-1741878000@friendsofmoreaulake.org
SUMMARY:Mud Pond Hike
DESCRIPTION:Join an Educator on a beginner 2.1 mile hike from Nature Trail to Mud Pond where we will see some beaver lodges\, maybe some water fowl\, and lots of Hemlock trees. Please wear the appropriate attire for the weather and water-resistant hiking shoes. Bring a snack and plenty of water. This is free and can be for all ages\, but be aware of the distance\, the up and down terrain and weather. Please reserve your spot 24-hours in advance by calling the office at 518-793-0511.
URL:https://friendsofmoreaulake.org/event/mud-pond-hike-8/
END:VEVENT
BEGIN:VEVENT
DTSTART;TZID=America/New_York:20250314T100000
DTEND;TZID=America/New_York:20250314T150000
DTSTAMP:20260420T030559
CREATED:20240819T134703Z
LAST-MODIFIED:20240820T140435Z
UID:10012596-1741946400-1741964400@friendsofmoreaulake.org
SUMMARY:Nature Center Open Weekends
DESCRIPTION:
URL:https://friendsofmoreaulake.org/event/nature-center-open-3/2025-03-14/
END:VEVENT
BEGIN:VEVENT
DTSTART;TZID=America/New_York:20250315T100000
DTEND;TZID=America/New_York:20250315T150000
DTSTAMP:20260420T030559
CREATED:20240819T134703Z
LAST-MODIFIED:20240820T140435Z
UID:10012597-1742032800-1742050800@friendsofmoreaulake.org
SUMMARY:Nature Center Open Weekends
DESCRIPTION:
URL:https://friendsofmoreaulake.org/event/nature-center-open-3/2025-03-15/
END:VEVENT
BEGIN:VEVENT
DTSTART;TZID=America/New_York:20250315T110000
DTEND;TZID=America/New_York:20250315T130000
DTSTAMP:20260420T030559
CREATED:20250312T165616Z
LAST-MODIFIED:20250312T165616Z
UID:10016407-1742036400-1742043600@friendsofmoreaulake.org
SUMMARY:St. Paddy's Day Needle Felting
DESCRIPTION:Leprechauns\, fairies\, and gnomes oh my! Choose your favorite folktale character and create your own St Patty’s Day plush. Return next week to build them a home! Supplies will be provided. This program is free and geared toward 6+. Please reserve your spot in advance by calling the office at 518-793-0511.
URL:https://friendsofmoreaulake.org/event/st-paddys-day-needle-felting/
END:VEVENT
BEGIN:VEVENT
DTSTART;TZID=America/New_York:20250316T100000
DTEND;TZID=America/New_York:20250316T123000
DTSTAMP:20260420T030559
CREATED:20250312T165706Z
LAST-MODIFIED:20250312T165706Z
UID:10016408-1742119200-1742128200@friendsofmoreaulake.org
SUMMARY:Monthly Hiking Challenge
DESCRIPTION:Join the monthly hiking challenge where we will explore the wide variety of trails at Moreau Lake State Park\, if you make it to all the hikes you will get a prize! Our first hike will start off with a fan favorite\, Baker to Moreau Overlook. This is a moderate-hard 2.5 mile hike with a beautiful view of our lake from above. Please wear the appropriate attire for the weather with water-resistant hiking shoes\, trekking poles if you need them\, microspikes and snowshoes if you have them. We have limited micro spikes and snowshoes to borrow. Bring a snack and plenty of water. We will meet at the park office and caravan to the trailhead. This is a free hike and for people 13+. Please register in advance by calling the office at 518-793-0511.
URL:https://friendsofmoreaulake.org/event/monthly-hiking-challenge/
END:VEVENT
BEGIN:VEVENT
DTSTART;TZID=America/New_York:20250316T100000
DTEND;TZID=America/New_York:20250316T150000
DTSTAMP:20260420T030559
CREATED:20240819T134703Z
LAST-MODIFIED:20240820T140435Z
UID:10012598-1742119200-1742137200@friendsofmoreaulake.org
SUMMARY:Nature Center Open Weekends
DESCRIPTION:
URL:https://friendsofmoreaulake.org/event/nature-center-open-3/2025-03-16/
END:VEVENT
BEGIN:VEVENT
DTSTART;TZID=America/New_York:20250317T100000
DTEND;TZID=America/New_York:20250317T120000
DTSTAMP:20260420T030559
CREATED:20250312T165745Z
LAST-MODIFIED:20250312T165745Z
UID:10016409-1742205600-1742212800@friendsofmoreaulake.org
SUMMARY:iSpy Something Green
DESCRIPTION:Let’s go on a hunt for green\, we may see some signs of spring\, we may just follow the pines! This is a free hike geared toward ages 6+. Please wear the appropriate clothing for the weather and for a short hike. Please register in advance by calling the office at 518-793-0511.
URL:https://friendsofmoreaulake.org/event/ispy-something-green/
END:VEVENT
BEGIN:VEVENT
DTSTART;TZID=America/New_York:20250317T140000
DTEND;TZID=America/New_York:20250317T150000
DTSTAMP:20260420T030559
CREATED:20250312T165822Z
LAST-MODIFIED:20250312T170339Z
UID:10016410-1742220000-1742223600@friendsofmoreaulake.org
SUMMARY:Maple Tapping
DESCRIPTION:Join an educator in the nature center for a quick history of making maple syrup\, the process from beginning to end\, and if you are able\, come on a short walk to see what trees we are tapping! This program is free and for all ages. Please reserve your spot in advance by calling the office at 518-793-0511.
URL:https://friendsofmoreaulake.org/event/maple-tapping/2025-03-17/
END:VEVENT
BEGIN:VEVENT
DTSTART;TZID=America/New_York:20250318T090000
DTEND;TZID=America/New_York:20250318T110000
DTSTAMP:20260420T030559
CREATED:20250312T165858Z
LAST-MODIFIED:20251128T200741Z
UID:10016411-1742288400-1742295600@friendsofmoreaulake.org
SUMMARY:Beginner Birding
DESCRIPTION:Calling all beginner birders! Bring your binoculars if you have them and we will check out what birds are around this time of year at Big Bend. This will be a short start-and-stop hike. We will meet at the park office and caravan to Big Bend. This is free and geared toward ages 13+. Please reserve your spot in advance by calling the office at 518-793-0511.
URL:https://friendsofmoreaulake.org/event/beginner-birding/2025-03-18/
END:VEVENT
BEGIN:VEVENT
DTSTART;TZID=America/New_York:20250320T100000
DTEND;TZID=America/New_York:20250320T113000
DTSTAMP:20260420T030559
CREATED:20250312T165943Z
LAST-MODIFIED:20250312T165943Z
UID:10016412-1742464800-1742470200@friendsofmoreaulake.org
SUMMARY:Starting a Field Journal
DESCRIPTION:Join an educator at the nature center to get started on your field journaling journey. We will supply journals\, or we can hand make them. We will learn about the importance of recording observations then practice our skills\, and go on a short walk if we are able. This is free and geared to ages 13+. Please reserve your spot in advance by calling the office at 518-793-0511.
URL:https://friendsofmoreaulake.org/event/starting-a-field-journal/
END:VEVENT
BEGIN:VEVENT
DTSTART;TZID=America/New_York:20250321T100000
DTEND;TZID=America/New_York:20250321T150000
DTSTAMP:20260420T030559
CREATED:20240819T134703Z
LAST-MODIFIED:20240820T140435Z
UID:10012599-1742551200-1742569200@friendsofmoreaulake.org
SUMMARY:Nature Center Open Weekends
DESCRIPTION:
URL:https://friendsofmoreaulake.org/event/nature-center-open-3/2025-03-21/
END:VEVENT
BEGIN:VEVENT
DTSTART;TZID=America/New_York:20250321T110000
DTEND;TZID=America/New_York:20250321T123000
DTSTAMP:20260420T030559
CREATED:20250312T170019Z
LAST-MODIFIED:20250312T170019Z
UID:10016413-1742554800-1742560200@friendsofmoreaulake.org
SUMMARY:Fairy Houses
DESCRIPTION:Are you looking to attract fairy friends to you garden? Come to the Nature Center and build a fairy house with materials that the forest provides (twigs\, moss\, flowers\, leaves\, acorns etc). Open to all ages. Please reserve your spot in advance by calling the office at 518-793-0511.
URL:https://friendsofmoreaulake.org/event/fairy-houses/
END:VEVENT
END:VCALENDAR