BEGIN:VCALENDAR
VERSION:2.0
PRODID:-//Friends of Moreau Lake State Park, Inc. - ECPv6.15.20//NONSGML v1.0//EN
CALSCALE:GREGORIAN
METHOD:PUBLISH
X-WR-CALNAME:Friends of Moreau Lake State Park, Inc.
X-ORIGINAL-URL:https://friendsofmoreaulake.org
X-WR-CALDESC:Events for Friends of Moreau Lake State Park, Inc.
REFRESH-INTERVAL;VALUE=DURATION:PT1H
X-Robots-Tag:noindex
X-PUBLISHED-TTL:PT1H
BEGIN:VTIMEZONE
TZID:America/New_York
BEGIN:DAYLIGHT
TZOFFSETFROM:-0500
TZOFFSETTO:-0400
TZNAME:EDT
DTSTART:20230312T070000
END:DAYLIGHT
BEGIN:STANDARD
TZOFFSETFROM:-0400
TZOFFSETTO:-0500
TZNAME:EST
DTSTART:20231105T060000
END:STANDARD
BEGIN:DAYLIGHT
TZOFFSETFROM:-0500
TZOFFSETTO:-0400
TZNAME:EDT
DTSTART:20240310T070000
END:DAYLIGHT
BEGIN:STANDARD
TZOFFSETFROM:-0400
TZOFFSETTO:-0500
TZNAME:EST
DTSTART:20241103T060000
END:STANDARD
BEGIN:DAYLIGHT
TZOFFSETFROM:-0500
TZOFFSETTO:-0400
TZNAME:EDT
DTSTART:20250309T070000
END:DAYLIGHT
BEGIN:STANDARD
TZOFFSETFROM:-0400
TZOFFSETTO:-0500
TZNAME:EST
DTSTART:20251102T060000
END:STANDARD
END:VTIMEZONE
BEGIN:VEVENT
DTSTART;TZID=America/New_York:20240114T080000
DTEND;TZID=America/New_York:20240114T150000
DTSTAMP:20260425T122634
CREATED:20240111T155843Z
LAST-MODIFIED:20240320T163419Z
UID:10006322-1705219200-1705244400@friendsofmoreaulake.org
SUMMARY:Warming Hut Open
DESCRIPTION:Stop by the warming hut to well\, warm up!! The Friends volunteer to staff it on weekends to provide hot chocolate and treats – they are also a wealth of information so stop in to say “Hi”. It closes at 3pm.
URL:https://friendsofmoreaulake.org/event/warming-hut-open/2024-01-14/
END:VEVENT
BEGIN:VEVENT
DTSTART;TZID=America/New_York:20240114T110000
DTEND;TZID=America/New_York:20240114T123000
DTSTAMP:20260425T122634
CREATED:20231223T142152Z
LAST-MODIFIED:20231223T142739Z
UID:10005076-1705230000-1705235400@friendsofmoreaulake.org
SUMMARY:Reptile Profile and Craft
DESCRIPTION:Friday\, January 5th @ 11 am Reptile Profile and Craft\nJoin educators in the nature center to meet our resident reptiles! We at Moreau take care of six New York native turtles and two snakes that cannot be released into the wild and are wonderful little educators. We’ll be making “snake skin” friendssship bracelets after the education program. Class fees waved with food donations. To reserve your spot call 518-793-0511.
URL:https://friendsofmoreaulake.org/event/reptile-profile-and-craft/2024-01-14/
END:VEVENT
BEGIN:VEVENT
DTSTART;TZID=America/New_York:20240115T080000
DTEND;TZID=America/New_York:20240115T150000
DTSTAMP:20260425T122634
CREATED:20240111T155843Z
LAST-MODIFIED:20240320T163419Z
UID:10006323-1705305600-1705330800@friendsofmoreaulake.org
SUMMARY:Warming Hut Open
DESCRIPTION:Stop by the warming hut to well\, warm up!! The Friends volunteer to staff it on weekends to provide hot chocolate and treats – they are also a wealth of information so stop in to say “Hi”. It closes at 3pm.
URL:https://friendsofmoreaulake.org/event/warming-hut-open/2024-01-15/
END:VEVENT
BEGIN:VEVENT
DTSTART;TZID=America/New_York:20240115T100000
DTEND;TZID=America/New_York:20240115T120000
DTSTAMP:20260425T122634
CREATED:20231223T142818Z
LAST-MODIFIED:20231223T142818Z
UID:10005077-1705312800-1705320000@friendsofmoreaulake.org
SUMMARY:MLK Little Learners
DESCRIPTION:Monday\, January 15th @ 10am MLK Little Learners\nThis program is for children under 10. We will have a fun lesson on equality in honor of Martin Luther King Jr. and then go for a short Nature Walk. Dress for the weather! Please reserve your spot in advance by calling the office at 518-793-0511. Program fees waved with non-perishable food donations.
URL:https://friendsofmoreaulake.org/event/mlk-little-learners/
END:VEVENT
BEGIN:VEVENT
DTSTART;TZID=America/New_York:20240115T130000
DTEND;TZID=America/New_York:20240115T150000
DTSTAMP:20260425T122634
CREATED:20231223T142900Z
LAST-MODIFIED:20231223T142900Z
UID:10005078-1705323600-1705330800@friendsofmoreaulake.org
SUMMARY:MLK Nature Walk
DESCRIPTION:Monday\, January 15th @ 1pm MLK Nature Walk\nJoin us for a Nature Walk in honor of the life of Rev. Dr. MLK Jr. This will be a beginner level hike of about 2 miles\, along the way we will discuss the life accomplishments of this pillar of social justice. Micro-spikes may be necessary\, if you don’t own a pair we have some available to borrow. Program fees waived this month in lieu of a non-perishable donation for our local food drive. To reserve your spot call 518-793-0511.
URL:https://friendsofmoreaulake.org/event/mlk-nature-walk/
END:VEVENT
BEGIN:VEVENT
DTSTART;TZID=America/New_York:20240116T080000
DTEND;TZID=America/New_York:20240116T150000
DTSTAMP:20260425T122634
CREATED:20240111T155843Z
LAST-MODIFIED:20240320T163419Z
UID:10006324-1705392000-1705417200@friendsofmoreaulake.org
SUMMARY:Warming Hut Open
DESCRIPTION:Stop by the warming hut to well\, warm up!! The Friends volunteer to staff it on weekends to provide hot chocolate and treats – they are also a wealth of information so stop in to say “Hi”. It closes at 3pm.
URL:https://friendsofmoreaulake.org/event/warming-hut-open/2024-01-16/
END:VEVENT
BEGIN:VEVENT
DTSTART;TZID=America/New_York:20240116T100000
DTEND;TZID=America/New_York:20240116T120000
DTSTAMP:20260425T122634
CREATED:20231223T143131Z
LAST-MODIFIED:20231223T143131Z
UID:10005079-1705399200-1705406400@friendsofmoreaulake.org
SUMMARY:Mud Pond Hike
DESCRIPTION:Tuesday\, January 16th @ 10am Mud Pond Hike\nThe Park Educator will lead this 2.25 mile hike around Mud Pond\, which should be frozen and we might see some sign of active beavers. Did you know they don’t hibernate? Class fees waved with food donations. Please register at least 24 hours in advance at 518-793-0511.
URL:https://friendsofmoreaulake.org/event/mud-pond-hike/
END:VEVENT
BEGIN:VEVENT
DTSTART;TZID=America/New_York:20240117T080000
DTEND;TZID=America/New_York:20240117T150000
DTSTAMP:20260425T122634
CREATED:20240111T155843Z
LAST-MODIFIED:20240320T163419Z
UID:10006325-1705478400-1705503600@friendsofmoreaulake.org
SUMMARY:Warming Hut Open
DESCRIPTION:Stop by the warming hut to well\, warm up!! The Friends volunteer to staff it on weekends to provide hot chocolate and treats – they are also a wealth of information so stop in to say “Hi”. It closes at 3pm.
URL:https://friendsofmoreaulake.org/event/warming-hut-open/2024-01-17/
END:VEVENT
BEGIN:VEVENT
DTSTART;TZID=America/New_York:20240118T080000
DTEND;TZID=America/New_York:20240118T150000
DTSTAMP:20260425T122634
CREATED:20240111T155843Z
LAST-MODIFIED:20240320T163419Z
UID:10006326-1705564800-1705590000@friendsofmoreaulake.org
SUMMARY:Warming Hut Open
DESCRIPTION:Stop by the warming hut to well\, warm up!! The Friends volunteer to staff it on weekends to provide hot chocolate and treats – they are also a wealth of information so stop in to say “Hi”. It closes at 3pm.
URL:https://friendsofmoreaulake.org/event/warming-hut-open/2024-01-18/
END:VEVENT
BEGIN:VEVENT
DTSTART;TZID=America/New_York:20240118T100000
DTEND;TZID=America/New_York:20240118T120000
DTSTAMP:20260425T122634
CREATED:20231223T143251Z
LAST-MODIFIED:20231223T143251Z
UID:10005081-1705572000-1705579200@friendsofmoreaulake.org
SUMMARY:Secret Life of Snakes
DESCRIPTION:Thursday\, January 18th @10am Secret Life of Snakes\nThe most snake loving educator will be presenting with our two awesome resident snakes. She will share with you some of the fun facts as well as some less fun facts. You will leave loving snakes a little more than you did when you arrived. Class fees waved with food donations. Please register at least 24 hours in advance at 518-793-0511.
URL:https://friendsofmoreaulake.org/event/secret-life-of-snakes/
END:VEVENT
BEGIN:VEVENT
DTSTART;TZID=America/New_York:20240119T080000
DTEND;TZID=America/New_York:20240119T150000
DTSTAMP:20260425T122634
CREATED:20240111T155843Z
LAST-MODIFIED:20240320T163419Z
UID:10006327-1705651200-1705676400@friendsofmoreaulake.org
SUMMARY:Warming Hut Open
DESCRIPTION:Stop by the warming hut to well\, warm up!! The Friends volunteer to staff it on weekends to provide hot chocolate and treats – they are also a wealth of information so stop in to say “Hi”. It closes at 3pm.
URL:https://friendsofmoreaulake.org/event/warming-hut-open/2024-01-19/
END:VEVENT
BEGIN:VEVENT
DTSTART;TZID=America/New_York:20240120T080000
DTEND;TZID=America/New_York:20240120T150000
DTSTAMP:20260425T122634
CREATED:20240111T155843Z
LAST-MODIFIED:20240320T163419Z
UID:10006328-1705737600-1705762800@friendsofmoreaulake.org
SUMMARY:Warming Hut Open
DESCRIPTION:Stop by the warming hut to well\, warm up!! The Friends volunteer to staff it on weekends to provide hot chocolate and treats – they are also a wealth of information so stop in to say “Hi”. It closes at 3pm.
URL:https://friendsofmoreaulake.org/event/warming-hut-open/2024-01-20/
END:VEVENT
BEGIN:VEVENT
DTSTART;TZID=America/New_York:20240121T080000
DTEND;TZID=America/New_York:20240121T150000
DTSTAMP:20260425T122634
CREATED:20240111T155843Z
LAST-MODIFIED:20240320T163419Z
UID:10006329-1705824000-1705849200@friendsofmoreaulake.org
SUMMARY:Warming Hut Open
DESCRIPTION:Stop by the warming hut to well\, warm up!! The Friends volunteer to staff it on weekends to provide hot chocolate and treats – they are also a wealth of information so stop in to say “Hi”. It closes at 3pm.
URL:https://friendsofmoreaulake.org/event/warming-hut-open/2024-01-21/
END:VEVENT
BEGIN:VEVENT
DTSTART;TZID=America/New_York:20240121T110000
DTEND;TZID=America/New_York:20240121T130000
DTSTAMP:20260425T122634
CREATED:20231223T145349Z
LAST-MODIFIED:20231223T145349Z
UID:10005871-1705834800-1705842000@friendsofmoreaulake.org
SUMMARY:Nature Collages
DESCRIPTION:
URL:https://friendsofmoreaulake.org/event/nature-collages-2/
END:VEVENT
BEGIN:VEVENT
DTSTART;TZID=America/New_York:20240122T080000
DTEND;TZID=America/New_York:20240122T150000
DTSTAMP:20260425T122634
CREATED:20240111T155843Z
LAST-MODIFIED:20240320T163419Z
UID:10006330-1705910400-1705935600@friendsofmoreaulake.org
SUMMARY:Warming Hut Open
DESCRIPTION:Stop by the warming hut to well\, warm up!! The Friends volunteer to staff it on weekends to provide hot chocolate and treats – they are also a wealth of information so stop in to say “Hi”. It closes at 3pm.
URL:https://friendsofmoreaulake.org/event/warming-hut-open/2024-01-22/
END:VEVENT
BEGIN:VEVENT
DTSTART;TZID=America/New_York:20240123T080000
DTEND;TZID=America/New_York:20240123T150000
DTSTAMP:20260425T122634
CREATED:20240111T155843Z
LAST-MODIFIED:20240320T163419Z
UID:10006331-1705996800-1706022000@friendsofmoreaulake.org
SUMMARY:Warming Hut Open
DESCRIPTION:Stop by the warming hut to well\, warm up!! The Friends volunteer to staff it on weekends to provide hot chocolate and treats – they are also a wealth of information so stop in to say “Hi”. It closes at 3pm.
URL:https://friendsofmoreaulake.org/event/warming-hut-open/2024-01-23/
END:VEVENT
BEGIN:VEVENT
DTSTART;TZID=America/New_York:20240123T120000
DTEND;TZID=America/New_York:20240123T140000
DTSTAMP:20260425T122634
CREATED:20231223T143335Z
LAST-MODIFIED:20231223T143335Z
UID:10005082-1706011200-1706018400@friendsofmoreaulake.org
SUMMARY:Western Ridge to Waterfall Trail
DESCRIPTION:Tuesday\, January 23rd @ 12 pm Western Ridge to Waterfall Trail hike\nJoin park educators on a guided\, intermediate hike of approximately 3 miles. Micro-spikes may be necessary\, if you don’t own a pair we have some available to borrow. Program fees waived this month in lieu of a non-perishable donation for our local food drive. To reserve your spot call 518-793-0511.
URL:https://friendsofmoreaulake.org/event/western-ridge-to-waterfall-trail/
END:VEVENT
BEGIN:VEVENT
DTSTART;TZID=America/New_York:20240124T080000
DTEND;TZID=America/New_York:20240124T150000
DTSTAMP:20260425T122634
CREATED:20240111T155843Z
LAST-MODIFIED:20240320T163419Z
UID:10006332-1706083200-1706108400@friendsofmoreaulake.org
SUMMARY:Warming Hut Open
DESCRIPTION:Stop by the warming hut to well\, warm up!! The Friends volunteer to staff it on weekends to provide hot chocolate and treats – they are also a wealth of information so stop in to say “Hi”. It closes at 3pm.
URL:https://friendsofmoreaulake.org/event/warming-hut-open/2024-01-24/
END:VEVENT
BEGIN:VEVENT
DTSTART;TZID=America/New_York:20240124T100000
DTEND;TZID=America/New_York:20240124T120000
DTSTAMP:20260425T122634
CREATED:20231223T143434Z
LAST-MODIFIED:20231223T143434Z
UID:10005083-1706090400-1706097600@friendsofmoreaulake.org
SUMMARY:Homeschool Pop-Up Class: Native Animals
DESCRIPTION:Wednesday January 24th @ 10 am Homeschool Pop-up Class: Native Animals\nIt’s the International Day of Education! Come join our educators at the nature center to learn about our resident mammals and reptiles and do a craft. We are encouraging homeschool groups to join us\, but it is open to the public. Class fees waived this month in lieu of a non-perishable donation for our local food drive! Please reserve your spot in advance by calling the office at 518-793-0511.
URL:https://friendsofmoreaulake.org/event/homeschool-pop-up-class-native-animals/
END:VEVENT
BEGIN:VEVENT
DTSTART;TZID=America/New_York:20240125T080000
DTEND;TZID=America/New_York:20240125T150000
DTSTAMP:20260425T122634
CREATED:20240111T155843Z
LAST-MODIFIED:20240320T163419Z
UID:10006333-1706169600-1706194800@friendsofmoreaulake.org
SUMMARY:Warming Hut Open
DESCRIPTION:Stop by the warming hut to well\, warm up!! The Friends volunteer to staff it on weekends to provide hot chocolate and treats – they are also a wealth of information so stop in to say “Hi”. It closes at 3pm.
URL:https://friendsofmoreaulake.org/event/warming-hut-open/2024-01-25/
END:VEVENT
BEGIN:VEVENT
DTSTART;TZID=America/New_York:20240125T170000
DTEND;TZID=America/New_York:20240125T190000
DTSTAMP:20260425T122634
CREATED:20231223T143509Z
LAST-MODIFIED:20231223T143509Z
UID:10005084-1706202000-1706209200@friendsofmoreaulake.org
SUMMARY:Full Moon Hike
DESCRIPTION:Thursday\, January 25th @ 5 p.m. Full Moon Hike\nJoin a Park Educator on a beginner hike around Moreau Lake. If the clouds cooperate we’ll get to enjoy the splendor of the moon rising above the mountains! This hike is family friendly and well-behaved dogs on a 6 foot or shorter leash are welcome. Dress for the weather and bring micro-spikes or snowshoes; there are limited numbers of micro-spikes to borrow and snowshoes to rent ($5 per pair) if weather-appropriate- let us know if you need either when you sign up. Reservations are required at least 24 hours in advance- the earlier the better as this is a popular program and it fills up quickly. Program fees waived this month in lieu of a non-perishable donation for our local food drive. To reserve your spot call 518-793-0511.
URL:https://friendsofmoreaulake.org/event/full-moon-hike-4/
END:VEVENT
BEGIN:VEVENT
DTSTART;TZID=America/New_York:20240126T080000
DTEND;TZID=America/New_York:20240126T150000
DTSTAMP:20260425T122634
CREATED:20240111T155843Z
LAST-MODIFIED:20240320T163419Z
UID:10006334-1706256000-1706281200@friendsofmoreaulake.org
SUMMARY:Warming Hut Open
DESCRIPTION:Stop by the warming hut to well\, warm up!! The Friends volunteer to staff it on weekends to provide hot chocolate and treats – they are also a wealth of information so stop in to say “Hi”. It closes at 3pm.
URL:https://friendsofmoreaulake.org/event/warming-hut-open/2024-01-26/
END:VEVENT
BEGIN:VEVENT
DTSTART;TZID=America/New_York:20240127T080000
DTEND;TZID=America/New_York:20240127T150000
DTSTAMP:20260425T122634
CREATED:20240111T155843Z
LAST-MODIFIED:20240320T163419Z
UID:10006335-1706342400-1706367600@friendsofmoreaulake.org
SUMMARY:Warming Hut Open
DESCRIPTION:Stop by the warming hut to well\, warm up!! The Friends volunteer to staff it on weekends to provide hot chocolate and treats – they are also a wealth of information so stop in to say “Hi”. It closes at 3pm.
URL:https://friendsofmoreaulake.org/event/warming-hut-open/2024-01-27/
END:VEVENT
BEGIN:VEVENT
DTSTART;TZID=America/New_York:20240128T080000
DTEND;TZID=America/New_York:20240128T150000
DTSTAMP:20260425T122634
CREATED:20240111T155843Z
LAST-MODIFIED:20240320T163419Z
UID:10006336-1706428800-1706454000@friendsofmoreaulake.org
SUMMARY:Warming Hut Open
DESCRIPTION:Stop by the warming hut to well\, warm up!! The Friends volunteer to staff it on weekends to provide hot chocolate and treats – they are also a wealth of information so stop in to say “Hi”. It closes at 3pm.
URL:https://friendsofmoreaulake.org/event/warming-hut-open/2024-01-28/
END:VEVENT
BEGIN:VEVENT
DTSTART;TZID=America/New_York:20240129T080000
DTEND;TZID=America/New_York:20240129T150000
DTSTAMP:20260425T122634
CREATED:20240111T155843Z
LAST-MODIFIED:20240320T163419Z
UID:10006337-1706515200-1706540400@friendsofmoreaulake.org
SUMMARY:Warming Hut Open
DESCRIPTION:Stop by the warming hut to well\, warm up!! The Friends volunteer to staff it on weekends to provide hot chocolate and treats – they are also a wealth of information so stop in to say “Hi”. It closes at 3pm.
URL:https://friendsofmoreaulake.org/event/warming-hut-open/2024-01-29/
END:VEVENT
BEGIN:VEVENT
DTSTART;TZID=America/New_York:20240130T080000
DTEND;TZID=America/New_York:20240130T150000
DTSTAMP:20260425T122634
CREATED:20240111T155843Z
LAST-MODIFIED:20240320T163419Z
UID:10006338-1706601600-1706626800@friendsofmoreaulake.org
SUMMARY:Warming Hut Open
DESCRIPTION:Stop by the warming hut to well\, warm up!! The Friends volunteer to staff it on weekends to provide hot chocolate and treats – they are also a wealth of information so stop in to say “Hi”. It closes at 3pm.
URL:https://friendsofmoreaulake.org/event/warming-hut-open/2024-01-30/
END:VEVENT
BEGIN:VEVENT
DTSTART;TZID=America/New_York:20240130T090000
DTEND;TZID=America/New_York:20240130T113000
DTSTAMP:20260425T122634
CREATED:20231124T173707Z
LAST-MODIFIED:20240119T141749Z
UID:10005064-1706605200-1706614200@friendsofmoreaulake.org
SUMMARY:Eagle Watch
DESCRIPTION:Join a park educator on a convoy-style journey along the Hudson River to try to spot our local Bald Eagles. We will be getting in and out of vehicles at a few locations and\, with a little luck\, viewing the eagles through binoculars and a scope so make sure to bring your hat and gloves! If you have binoculars bring them\, we do have a couple of pair to pass around as well. Reservations are required at least 24 hours in advance. The cost is $5 per adult (18+) and $1 per child\, payable by cash or check at the office upon your arrival. To reserve your spot call 518-793-0511.
URL:https://friendsofmoreaulake.org/event/eagle-watch/2024-01-30/
END:VEVENT
BEGIN:VEVENT
DTSTART;TZID=America/New_York:20240131T080000
DTEND;TZID=America/New_York:20240131T150000
DTSTAMP:20260425T122634
CREATED:20240111T155843Z
LAST-MODIFIED:20240320T163419Z
UID:10006339-1706688000-1706713200@friendsofmoreaulake.org
SUMMARY:Warming Hut Open
DESCRIPTION:Stop by the warming hut to well\, warm up!! The Friends volunteer to staff it on weekends to provide hot chocolate and treats – they are also a wealth of information so stop in to say “Hi”. It closes at 3pm.
URL:https://friendsofmoreaulake.org/event/warming-hut-open/2024-01-31/
END:VEVENT
BEGIN:VEVENT
DTSTART;TZID=America/New_York:20240131T100000
DTEND;TZID=America/New_York:20240131T120000
DTSTAMP:20260425T122634
CREATED:20231223T143544Z
LAST-MODIFIED:20231223T143544Z
UID:10005085-1706695200-1706702400@friendsofmoreaulake.org
SUMMARY:Black Gold: Composting
DESCRIPTION:Wednesday\, January 31st @ 10 am Black Gold: Composting 101\nComposting is a wonderful way to recycle your food scraps and yard debris while producing nutrient-rich soil for your flower and vegetable gardens. In this program you’ll learn how\, why\, and how to get started turning waste into black gold! Program fees waived this month in lieu of a non-perishable donation for our local food drive. To reserve your spot call 518-793-0511.
URL:https://friendsofmoreaulake.org/event/black-gold-composting/
END:VEVENT
BEGIN:VEVENT
DTSTART;TZID=America/New_York:20240201T080000
DTEND;TZID=America/New_York:20240201T150000
DTSTAMP:20260425T122634
CREATED:20240111T155843Z
LAST-MODIFIED:20240320T163419Z
UID:10006340-1706774400-1706799600@friendsofmoreaulake.org
SUMMARY:Warming Hut Open
DESCRIPTION:Stop by the warming hut to well\, warm up!! The Friends volunteer to staff it on weekends to provide hot chocolate and treats – they are also a wealth of information so stop in to say “Hi”. It closes at 3pm.
URL:https://friendsofmoreaulake.org/event/warming-hut-open/2024-02-01/
END:VEVENT
END:VCALENDAR