BEGIN:VCALENDAR
VERSION:2.0
PRODID:-//Friends of Moreau Lake State Park, Inc. - ECPv6.15.20//NONSGML v1.0//EN
CALSCALE:GREGORIAN
METHOD:PUBLISH
X-ORIGINAL-URL:https://friendsofmoreaulake.org
X-WR-CALDESC:Events for Friends of Moreau Lake State Park, Inc.
REFRESH-INTERVAL;VALUE=DURATION:PT1H
X-Robots-Tag:noindex
X-PUBLISHED-TTL:PT1H
BEGIN:VTIMEZONE
TZID:America/New_York
BEGIN:DAYLIGHT
TZOFFSETFROM:-0500
TZOFFSETTO:-0400
TZNAME:EDT
DTSTART:20230312T070000
END:DAYLIGHT
BEGIN:STANDARD
TZOFFSETFROM:-0400
TZOFFSETTO:-0500
TZNAME:EST
DTSTART:20231105T060000
END:STANDARD
BEGIN:DAYLIGHT
TZOFFSETFROM:-0500
TZOFFSETTO:-0400
TZNAME:EDT
DTSTART:20240310T070000
END:DAYLIGHT
BEGIN:STANDARD
TZOFFSETFROM:-0400
TZOFFSETTO:-0500
TZNAME:EST
DTSTART:20241103T060000
END:STANDARD
BEGIN:DAYLIGHT
TZOFFSETFROM:-0500
TZOFFSETTO:-0400
TZNAME:EDT
DTSTART:20250309T070000
END:DAYLIGHT
BEGIN:STANDARD
TZOFFSETFROM:-0400
TZOFFSETTO:-0500
TZNAME:EST
DTSTART:20251102T060000
END:STANDARD
END:VTIMEZONE
BEGIN:VEVENT
DTSTART;TZID=America/New_York:20240927T100000
DTEND;TZID=America/New_York:20240927T150000
DTSTAMP:20260423T050230
CREATED:20240819T134703Z
LAST-MODIFIED:20240820T140435Z
UID:10012524-1727431200-1727449200@friendsofmoreaulake.org
SUMMARY:Nature Center Open Weekends
DESCRIPTION:
URL:https://friendsofmoreaulake.org/event/nature-center-open-3/2024-09-27/
END:VEVENT
BEGIN:VEVENT
DTSTART;TZID=America/New_York:20240927T120000
DTEND;TZID=America/New_York:20240927T133000
DTSTAMP:20260423T050230
CREATED:20240901T142232Z
LAST-MODIFIED:20240901T142232Z
UID:10012754-1727438400-1727443800@friendsofmoreaulake.org
SUMMARY:Fresh Brewed Tea in your own backyard
DESCRIPTION:Join a Nature Center educator for a lesson on which native and common garden plants can be used to brew homemade teas! Geared towards ages 12+. Program is $5 per adult\, $1 for kids under 18 (cash or check). Please reserve your spot 24-hours in advance by calling the office at 518-793-0511.
URL:https://friendsofmoreaulake.org/event/fresh-brewed-tea-in-your-own-backyard/
END:VEVENT
BEGIN:VEVENT
DTSTART;TZID=America/New_York:20240928T080000
DTEND;TZID=America/New_York:20240928T170000
DTSTAMP:20260423T050230
CREATED:20240901T141534Z
LAST-MODIFIED:20241002T193921Z
UID:10012755-1727510400-1727542800@friendsofmoreaulake.org
SUMMARY:Moreau Lake Kayak
DESCRIPTION:Join an educator on a peaceful morning paddle around Moreau Lake. Limited rentals are available or bring your own kayak. This program is for people aged 18 and older if you need to rent a kayak or 13+ if you have your own kayak. The cost is $5 (or $15 including kayak rental). Check in and pay (cash or check) at the office upon arrival. Please reserve your spot 24-hours in advance by calling the office at 518-793-0511.
URL:https://friendsofmoreaulake.org/event/moreau-lake-kayak-5/2024-09-28/
END:VEVENT
BEGIN:VEVENT
DTSTART;TZID=America/New_York:20240928T100000
DTEND;TZID=America/New_York:20240928T150000
DTSTAMP:20260423T050230
CREATED:20240819T134703Z
LAST-MODIFIED:20240820T140435Z
UID:10012525-1727517600-1727535600@friendsofmoreaulake.org
SUMMARY:Nature Center Open Weekends
DESCRIPTION:
URL:https://friendsofmoreaulake.org/event/nature-center-open-3/2024-09-28/
END:VEVENT
BEGIN:VEVENT
DTSTART;TZID=America/New_York:20240928T130000
DTEND;TZID=America/New_York:20240928T140000
DTSTAMP:20260423T050230
CREATED:20240901T142358Z
LAST-MODIFIED:20240901T142410Z
UID:10012757-1727528400-1727532000@friendsofmoreaulake.org
SUMMARY:Raise a Toast to Compost
DESCRIPTION:Join a Nature Center educator for a lesson on the benefits of compost and how to start a low-cost compost bin at your house. Geared towards ages 10+ Program is $5 per adult\, $1 for kids under 18 (cash or check). Please reserve your spot 24-hours in advance by calling the office at 518-793-0511.
URL:https://friendsofmoreaulake.org/event/raise-a-toast-to-compost/
END:VEVENT
BEGIN:VEVENT
DTSTART;TZID=America/New_York:20240929T100000
DTEND;TZID=America/New_York:20240929T150000
DTSTAMP:20260423T050230
CREATED:20240819T134703Z
LAST-MODIFIED:20240820T140435Z
UID:10012526-1727604000-1727622000@friendsofmoreaulake.org
SUMMARY:Nature Center Open Weekends
DESCRIPTION:
URL:https://friendsofmoreaulake.org/event/nature-center-open-3/2024-09-29/
END:VEVENT
BEGIN:VEVENT
DTSTART;TZID=America/New_York:20240930T080000
DTEND;TZID=America/New_York:20240930T170000
DTSTAMP:20260423T050230
CREATED:20240901T141534Z
LAST-MODIFIED:20241002T193921Z
UID:10012756-1727683200-1727715600@friendsofmoreaulake.org
SUMMARY:Moreau Lake Kayak
DESCRIPTION:Join an educator on a peaceful morning paddle around Moreau Lake. Limited rentals are available or bring your own kayak. This program is for people aged 18 and older if you need to rent a kayak or 13+ if you have your own kayak. The cost is $5 (or $15 including kayak rental). Check in and pay (cash or check) at the office upon arrival. Please reserve your spot 24-hours in advance by calling the office at 518-793-0511.
URL:https://friendsofmoreaulake.org/event/moreau-lake-kayak-5/2024-09-30/
END:VEVENT
BEGIN:VEVENT
DTSTART;TZID=America/New_York:20241002T183000
DTEND;TZID=America/New_York:20241002T200000
DTSTAMP:20260423T050230
CREATED:20241002T191934Z
LAST-MODIFIED:20241002T191934Z
UID:10012935-1727893800-1727899200@friendsofmoreaulake.org
SUMMARY:New Moon at the Observatory
DESCRIPTION:Come to the beach to take a view at the dark sky with our telescope. We have a volunteer astronomer to teach us about the stars! Please register in advance by calling 518-793-0511.
URL:https://friendsofmoreaulake.org/event/new-moon-at-the-observatory/
END:VEVENT
BEGIN:VEVENT
DTSTART;TZID=America/New_York:20241003T100000
DTEND;TZID=America/New_York:20241003T113000
DTSTAMP:20260423T050230
CREATED:20241002T192018Z
LAST-MODIFIED:20241002T192018Z
UID:10012936-1727949600-1727955000@friendsofmoreaulake.org
SUMMARY:Homeschool Pop-Up: Autumn
DESCRIPTION:This program is all about fall! We will be covering topics of animal behavior\, leaves changing and weather changes. This program is geared toward homeschool students ages 6-12 years old\, but all are welcome. Please register in advance by calling 518-793-0511.
URL:https://friendsofmoreaulake.org/event/homeschool-pop-up-autumn/
END:VEVENT
BEGIN:VEVENT
DTSTART;TZID=America/New_York:20241004T100000
DTEND;TZID=America/New_York:20241004T150000
DTSTAMP:20260423T050230
CREATED:20240819T134703Z
LAST-MODIFIED:20240820T140435Z
UID:10012527-1728036000-1728054000@friendsofmoreaulake.org
SUMMARY:Nature Center Open Weekends
DESCRIPTION:
URL:https://friendsofmoreaulake.org/event/nature-center-open-3/2024-10-04/
END:VEVENT
BEGIN:VEVENT
DTSTART;TZID=America/New_York:20241005T100000
DTEND;TZID=America/New_York:20241005T120000
DTSTAMP:20260423T050230
CREATED:20241002T192233Z
LAST-MODIFIED:20241002T194128Z
UID:10012941-1728122400-1728129600@friendsofmoreaulake.org
SUMMARY:K9 Tick Awareness and Disease Prevention
DESCRIPTION:Meet with a seasoned and retired vet tech turned Park Educator to talk about tick awareness and disease prevention including but not limited to lyme\, ehrlichia and anaplasmosis information. This is a drop in event at the nature center. Friendly and well-behaved dogs are welcome\, please keep everyone leashed.
URL:https://friendsofmoreaulake.org/event/k9-tick-awareness-and-disease-prevention/
END:VEVENT
BEGIN:VEVENT
DTSTART;TZID=America/New_York:20241005T100000
DTEND;TZID=America/New_York:20241005T150000
DTSTAMP:20260423T050230
CREATED:20240819T134703Z
LAST-MODIFIED:20240820T140435Z
UID:10012528-1728122400-1728140400@friendsofmoreaulake.org
SUMMARY:Nature Center Open Weekends
DESCRIPTION:
URL:https://friendsofmoreaulake.org/event/nature-center-open-3/2024-10-05/
END:VEVENT
BEGIN:VEVENT
DTSTART;TZID=America/New_York:20241006T100000
DTEND;TZID=America/New_York:20241006T120000
DTSTAMP:20260423T050230
CREATED:20241002T192326Z
LAST-MODIFIED:20241002T193440Z
UID:10012942-1728208800-1728216000@friendsofmoreaulake.org
SUMMARY:Big Bend Hike
DESCRIPTION:Join an educator on this flat hike of about 6 miles at our beautiful new space with great birding and wildlife viewing\, and gorgeous views of mountains and the Hudson River. Better for ages 14+. Please dress appropriately for the weather with hiking shoes\, plenty of water and a lunch or snack. We will meet at the park office and caravan to the new trailhead. Program is $5 per adult\, $1 for under 18 (cash or check). Please register in advance by calling the office at 518-793-0511.
URL:https://friendsofmoreaulake.org/event/big-bend-hike/2024-10-06/
END:VEVENT
BEGIN:VEVENT
DTSTART;TZID=America/New_York:20241006T100000
DTEND;TZID=America/New_York:20241006T150000
DTSTAMP:20260423T050230
CREATED:20240819T134703Z
LAST-MODIFIED:20240820T140435Z
UID:10012529-1728208800-1728226800@friendsofmoreaulake.org
SUMMARY:Nature Center Open Weekends
DESCRIPTION:
URL:https://friendsofmoreaulake.org/event/nature-center-open-3/2024-10-06/
END:VEVENT
BEGIN:VEVENT
DTSTART;TZID=America/New_York:20241006T130000
DTEND;TZID=America/New_York:20241006T143000
DTSTAMP:20260423T050230
CREATED:20241002T192502Z
LAST-MODIFIED:20241002T192502Z
UID:10012943-1728219600-1728225000@friendsofmoreaulake.org
SUMMARY:Autumn Leaves
DESCRIPTION:Have you ever wondered what makes the leaves change? Why are they all different colors? Why do some leaves hang on the whole winter long? Join a nature center educator to have these questions answered and more! Open to all ages.
URL:https://friendsofmoreaulake.org/event/autumn-leaves/
END:VEVENT
BEGIN:VEVENT
DTSTART;TZID=America/New_York:20241009T130000
DTEND;TZID=America/New_York:20241009T150000
DTSTAMP:20260423T050230
CREATED:20240901T141534Z
LAST-MODIFIED:20241002T193921Z
UID:10012945-1728478800-1728486000@friendsofmoreaulake.org
SUMMARY:Moreau Lake Kayak
DESCRIPTION:Join an educator on a peaceful morning paddle around Moreau Lake. Limited rentals are available or bring your own kayak. This program is for people aged 18 and older if you need to rent a kayak or 13+ if you have your own kayak. The cost is $5 (or $15 including kayak rental). Check in and pay (cash or check) at the office upon arrival. Please reserve your spot 24-hours in advance by calling the office at 518-793-0511.
URL:https://friendsofmoreaulake.org/event/moreau-lake-kayak-5/2024-10-09/
END:VEVENT
BEGIN:VEVENT
DTSTART;TZID=America/New_York:20241010T100000
DTEND;TZID=America/New_York:20241010T120000
DTSTAMP:20260423T050230
CREATED:20241002T192741Z
LAST-MODIFIED:20241002T192741Z
UID:10012946-1728554400-1728561600@friendsofmoreaulake.org
SUMMARY:Potters Point Hike
DESCRIPTION:Join an educator on a fun and mild bushwack hike. There are some deer paths and well worn walkways we can follow but we will be exploring this beautiful piece of property. This program is for people of all ages\, it’s an easy-moderate hike of about 1 miles. Pay $1 per child and $5 per adult (cash or check) at the office upon arrival. Please register in advance by calling 518-793-0511.
URL:https://friendsofmoreaulake.org/event/potters-point-hike/
END:VEVENT
BEGIN:VEVENT
DTSTART;TZID=America/New_York:20241011T100000
DTEND;TZID=America/New_York:20241011T150000
DTSTAMP:20260423T050230
CREATED:20240819T134703Z
LAST-MODIFIED:20240820T140435Z
UID:10012530-1728640800-1728658800@friendsofmoreaulake.org
SUMMARY:Nature Center Open Weekends
DESCRIPTION:
URL:https://friendsofmoreaulake.org/event/nature-center-open-3/2024-10-11/
END:VEVENT
BEGIN:VEVENT
DTSTART;TZID=America/New_York:20241012T090000
DTEND;TZID=America/New_York:20241012T110000
DTSTAMP:20260423T050230
CREATED:20241002T192823Z
LAST-MODIFIED:20241002T192823Z
UID:10012947-1728723600-1728730800@friendsofmoreaulake.org
SUMMARY:Appreciate Local Birds
DESCRIPTION:Appreciating local birds and long-distance migration. We will discuss the importance of controlling light pollution to lesson the impact on our migratory birds. Open to all ages\, reservations not required. $5 per adult\, $1 per child.
URL:https://friendsofmoreaulake.org/event/appreciate-local-birds/
END:VEVENT
BEGIN:VEVENT
DTSTART;TZID=America/New_York:20241012T100000
DTEND;TZID=America/New_York:20241012T150000
DTSTAMP:20260423T050230
CREATED:20240819T134703Z
LAST-MODIFIED:20240820T140435Z
UID:10012531-1728727200-1728745200@friendsofmoreaulake.org
SUMMARY:Nature Center Open Weekends
DESCRIPTION:
URL:https://friendsofmoreaulake.org/event/nature-center-open-3/2024-10-12/
END:VEVENT
BEGIN:VEVENT
DTSTART;TZID=America/New_York:20241013T100000
DTEND;TZID=America/New_York:20241013T150000
DTSTAMP:20260423T050230
CREATED:20240819T134703Z
LAST-MODIFIED:20240820T140435Z
UID:10012532-1728813600-1728831600@friendsofmoreaulake.org
SUMMARY:Nature Center Open Weekends
DESCRIPTION:
URL:https://friendsofmoreaulake.org/event/nature-center-open-3/2024-10-13/
END:VEVENT
BEGIN:VEVENT
DTSTART;TZID=America/New_York:20241013T130000
DTEND;TZID=America/New_York:20241013T150000
DTSTAMP:20260423T050230
CREATED:20241002T192911Z
LAST-MODIFIED:20241002T192911Z
UID:10012948-1728824400-1728831600@friendsofmoreaulake.org
SUMMARY:Celebration of Indigenous Peoples
DESCRIPTION:Join a nature center educator for a lesson on indigenous geography- which tribes live(d) where- and the food\, traditions\, dress and belief systems of native tribes in our area. Open to all ages\, reservations not required. $5 per adult\, $1 per child.
URL:https://friendsofmoreaulake.org/event/celebration-of-indigenous-peoples/
END:VEVENT
BEGIN:VEVENT
DTSTART;TZID=America/New_York:20241014T100000
DTEND;TZID=America/New_York:20241014T120000
DTSTAMP:20260423T050230
CREATED:20241002T192951Z
LAST-MODIFIED:20241002T192951Z
UID:10012949-1728900000-1728907200@friendsofmoreaulake.org
SUMMARY:Gratitude Walk
DESCRIPTION:Come to Moreau for a guided Nature Walk. As we go we’ll pay particular attention to the beauty and peace of our natural surroundings and focus on our gratitude for being here to appreciate it. This is a beginner-rated walk on the Nature Trail\, suitable for those of all ages. Please register in advance by calling 518-793-0511.
URL:https://friendsofmoreaulake.org/event/gratitude-walk/
END:VEVENT
BEGIN:VEVENT
DTSTART;TZID=America/New_York:20241014T130000
DTEND;TZID=America/New_York:20241014T153000
DTSTAMP:20260423T050230
CREATED:20241002T193050Z
LAST-MODIFIED:20241002T193050Z
UID:10012950-1728910800-1728919800@friendsofmoreaulake.org
SUMMARY:Baker to Moreau Overlook
DESCRIPTION:Join an educator on a moderate-hard 2.5 mile hike from Baker Trail to Moreau Overlook with a beautiful view of our lake from above. Please wear the appropriate attire for the weather- sunscreen\, bug spray and water-resistant hiking shoes. Bring a snack and plenty of water. We will meet at the park office and caravan to the trailhead. This hike is for people 15+. The cost is $5 for adults (cash or check). Please register in advance by calling the office at 518-793-0511.
URL:https://friendsofmoreaulake.org/event/baker-to-moreau-overlook-3/
END:VEVENT
BEGIN:VEVENT
DTSTART;TZID=America/New_York:20241016T183000
DTEND;TZID=America/New_York:20241016T203000
DTSTAMP:20260423T050230
CREATED:20241002T193135Z
LAST-MODIFIED:20241002T193135Z
UID:10012951-1729103400-1729110600@friendsofmoreaulake.org
SUMMARY:Big Bend Full Moon Hike
DESCRIPTION:Join a park educator on a beginner hike at the new Big Bend Preserve. If the clouds cooperate\, we’ll get to enjoy the splendor of the full “Harvest” moon rising! This hike is family friendly and well-behaved dogs on a 6 foot or shorter leash are welcome. $1 per child\, $5 per adult is payable by cash or check at the office upon your arrival. We will meet at the park office and caravan to the trailhead. To reserve your spot call 518-793-0511- the earlier the better as this is a popular program and it fills up quickly.
URL:https://friendsofmoreaulake.org/event/big-bend-full-moon-hike/
END:VEVENT
BEGIN:VEVENT
DTSTART;TZID=America/New_York:20241018T100000
DTEND;TZID=America/New_York:20241018T150000
DTSTAMP:20260423T050230
CREATED:20240819T134703Z
LAST-MODIFIED:20240820T140435Z
UID:10012533-1729245600-1729263600@friendsofmoreaulake.org
SUMMARY:Nature Center Open Weekends
DESCRIPTION:
URL:https://friendsofmoreaulake.org/event/nature-center-open-3/2024-10-18/
END:VEVENT
BEGIN:VEVENT
DTSTART;TZID=America/New_York:20241019T100000
DTEND;TZID=America/New_York:20241019T140000
DTSTAMP:20260423T050230
CREATED:20241002T193227Z
LAST-MODIFIED:20241002T193227Z
UID:10012952-1729332000-1729346400@friendsofmoreaulake.org
SUMMARY:Halloween Needle Felted Creatures
DESCRIPTION:Join a talented needle felter and try out this fun craft that should result in a very cute or creepy take home. Please register in advance by calling the office at 518-793-0511. $5 for adults and $1 for children.
URL:https://friendsofmoreaulake.org/event/halloween-needle-felted-creatures/
END:VEVENT
BEGIN:VEVENT
DTSTART;TZID=America/New_York:20241019T100000
DTEND;TZID=America/New_York:20241019T150000
DTSTAMP:20260423T050230
CREATED:20240819T134703Z
LAST-MODIFIED:20240820T140435Z
UID:10012534-1729332000-1729350000@friendsofmoreaulake.org
SUMMARY:Nature Center Open Weekends
DESCRIPTION:
URL:https://friendsofmoreaulake.org/event/nature-center-open-3/2024-10-19/
END:VEVENT
BEGIN:VEVENT
DTSTART;TZID=America/New_York:20241020T100000
DTEND;TZID=America/New_York:20241020T120000
DTSTAMP:20260423T050230
CREATED:20241002T193307Z
LAST-MODIFIED:20241002T193307Z
UID:10012953-1729418400-1729425600@friendsofmoreaulake.org
SUMMARY:Ghastly Crafts
DESCRIPTION:Need some friendly ghosts to “haunt” your home? Join a nature center educator to make ghastly crafts such as leaf ghost window clings\, egg carton ghost portraits and lollipop ghosts. Open to all ages. Please register in advance by calling the office at 518-793-0511\, cost is $1 per person.
URL:https://friendsofmoreaulake.org/event/ghastly-crafts/
END:VEVENT
BEGIN:VEVENT
DTSTART;TZID=America/New_York:20241020T100000
DTEND;TZID=America/New_York:20241020T150000
DTSTAMP:20260423T050230
CREATED:20240819T134703Z
LAST-MODIFIED:20240820T140435Z
UID:10012535-1729418400-1729436400@friendsofmoreaulake.org
SUMMARY:Nature Center Open Weekends
DESCRIPTION:
URL:https://friendsofmoreaulake.org/event/nature-center-open-3/2024-10-20/
END:VEVENT
END:VCALENDAR