BEGIN:VCALENDAR
VERSION:2.0
PRODID:-//Friends of Moreau Lake State Park, Inc. - ECPv6.15.20//NONSGML v1.0//EN
CALSCALE:GREGORIAN
METHOD:PUBLISH
X-ORIGINAL-URL:https://friendsofmoreaulake.org
X-WR-CALDESC:Events for Friends of Moreau Lake State Park, Inc.
REFRESH-INTERVAL;VALUE=DURATION:PT1H
X-Robots-Tag:noindex
X-PUBLISHED-TTL:PT1H
BEGIN:VTIMEZONE
TZID:America/New_York
BEGIN:DAYLIGHT
TZOFFSETFROM:-0500
TZOFFSETTO:-0400
TZNAME:EDT
DTSTART:20230312T070000
END:DAYLIGHT
BEGIN:STANDARD
TZOFFSETFROM:-0400
TZOFFSETTO:-0500
TZNAME:EST
DTSTART:20231105T060000
END:STANDARD
BEGIN:DAYLIGHT
TZOFFSETFROM:-0500
TZOFFSETTO:-0400
TZNAME:EDT
DTSTART:20240310T070000
END:DAYLIGHT
BEGIN:STANDARD
TZOFFSETFROM:-0400
TZOFFSETTO:-0500
TZNAME:EST
DTSTART:20241103T060000
END:STANDARD
BEGIN:DAYLIGHT
TZOFFSETFROM:-0500
TZOFFSETTO:-0400
TZNAME:EDT
DTSTART:20250309T070000
END:DAYLIGHT
BEGIN:STANDARD
TZOFFSETFROM:-0400
TZOFFSETTO:-0500
TZNAME:EST
DTSTART:20251102T060000
END:STANDARD
END:VTIMEZONE
BEGIN:VEVENT
DTSTART;TZID=America/New_York:20240907T090000
DTEND;TZID=America/New_York:20240907T110000
DTSTAMP:20260422T200307
CREATED:20240901T140627Z
LAST-MODIFIED:20240901T140627Z
UID:10012735-1725699600-1725706800@friendsofmoreaulake.org
SUMMARY:Back to "school" fishing
DESCRIPTION:Before we are all expected to hit the books and get back to school and work come to the Nature Center and kids (under 13) can borrow a pole and try their hand at some fishing fun. This is a drop in event so please come and try for 5 minutes or 2 hours. We will supply poles\, a little safety lesson and some worms. This event will cost $1 per child. If you bring your own worms we will waive the fee. No sign ups are required for this program.
URL:https://friendsofmoreaulake.org/event/back-to-school-fishing/
END:VEVENT
BEGIN:VEVENT
DTSTART;TZID=America/New_York:20240907T100000
DTEND;TZID=America/New_York:20240907T150000
DTSTAMP:20260422T200307
CREATED:20240819T134703Z
LAST-MODIFIED:20240820T140435Z
UID:10012516-1725703200-1725721200@friendsofmoreaulake.org
SUMMARY:Nature Center Open Weekends
DESCRIPTION:
URL:https://friendsofmoreaulake.org/event/nature-center-open-3/2024-09-07/
END:VEVENT
BEGIN:VEVENT
DTSTART;TZID=America/New_York:20240908T100000
DTEND;TZID=America/New_York:20240908T150000
DTSTAMP:20260422T200307
CREATED:20240819T134703Z
LAST-MODIFIED:20240820T140435Z
UID:10012517-1725789600-1725807600@friendsofmoreaulake.org
SUMMARY:Nature Center Open Weekends
DESCRIPTION:
URL:https://friendsofmoreaulake.org/event/nature-center-open-3/2024-09-08/
END:VEVENT
BEGIN:VEVENT
DTSTART;TZID=America/New_York:20240910T100000
DTEND;TZID=America/New_York:20240910T120000
DTSTAMP:20260422T200307
CREATED:20240901T140810Z
LAST-MODIFIED:20240901T140810Z
UID:10012737-1725962400-1725969600@friendsofmoreaulake.org
SUMMARY:Baker to Moreau Overlook
DESCRIPTION:Join an educator on a moderate 2.5 mile hike from Baker Trail to Moreau Overlook with a beautiful view of our lake from above. Please wear the appropriate attire for the weather- sunscreen\, bug spray and water-resistant hiking shoes. Bring a snack and plenty of water. We will meet at the park office and caravan to the trailhead. This hike is for people 15+. The cost is $5 for adults (cash or check). Please reserve your spot 24-hours in advance by calling the office at 518-793-0511.
URL:https://friendsofmoreaulake.org/event/baker-to-moreau-overlook-2/
END:VEVENT
BEGIN:VEVENT
DTSTART;TZID=America/New_York:20240912T093000
DTEND;TZID=America/New_York:20240912T113000
DTSTAMP:20260422T200307
CREATED:20240901T140903Z
LAST-MODIFIED:20240901T141410Z
UID:10012738-1726133400-1726140600@friendsofmoreaulake.org
SUMMARY:Forest Bathing
DESCRIPTION:Coined shinrin-yoku in Japan in the 1980’s\, forest bathing is the eco therapeutic practice of spending time immersed in nature\, absorbing it with all your senses. The physiological and psychological benefits last for days afterward with the additional benefit of a new appreciation of our precious woodland and its inhabitants. This is a beginner-rated walk along the Nature Trail with long pauses to sit and enhance our awareness of our surroundings\, it is an approximately 1-hour program. A small mat is beneficial to ensure a dry seat and wear warmer clothes as we will be sitting for longer periods of time. This program is limited to those age 14 and up. Pay $5 per person (cash or check) at the office upon arrival. Please register in advance by calling 518-793-0511.
URL:https://friendsofmoreaulake.org/event/forest-bathing-7577/2024-09-12/
END:VEVENT
BEGIN:VEVENT
DTSTART;TZID=America/New_York:20240912T103000
DTEND;TZID=America/New_York:20240912T123000
DTSTAMP:20260422T200307
CREATED:20240901T141000Z
LAST-MODIFIED:20240901T141000Z
UID:10012739-1726137000-1726144200@friendsofmoreaulake.org
SUMMARY:Spring Overlook Hike
DESCRIPTION:This is a steep hike with a beautiful overlook! This hike is roughly a mile up and a mile back down. We will snack at the top and take a water break and photo break. Please wear appropriate hiking boots and clothing for the weather. We will meet at the park office and caravan to the new trailhead. Program is $5 per adult\, $1 for under 18 (cash or check). Please reserve your spot 24-hours in advance by calling the office at 518-793-0511.
URL:https://friendsofmoreaulake.org/event/spring-overlook-hike-2/
END:VEVENT
BEGIN:VEVENT
DTSTART;TZID=America/New_York:20240913T100000
DTEND;TZID=America/New_York:20240913T150000
DTSTAMP:20260422T200307
CREATED:20240819T134703Z
LAST-MODIFIED:20240820T140435Z
UID:10012518-1726221600-1726239600@friendsofmoreaulake.org
SUMMARY:Nature Center Open Weekends
DESCRIPTION:
URL:https://friendsofmoreaulake.org/event/nature-center-open-3/2024-09-13/
END:VEVENT
BEGIN:VEVENT
DTSTART;TZID=America/New_York:20240913T110000
DTEND;TZID=America/New_York:20240913T120000
DTSTAMP:20260422T200307
CREATED:20240901T141041Z
LAST-MODIFIED:20240901T141041Z
UID:10012740-1726225200-1726228800@friendsofmoreaulake.org
SUMMARY:Looney-Tunes
DESCRIPTION:Join a Nature Center educator for a celebration of loons! Learn about their habitat\, diet\, calls migration patterns and other special behaviors through a combination of hands-on activities and facts from the educator. Open to all ages! Program is $5 per adult\, $1 for kids (cash or check). Please reserve your spot 24-hours in advance by calling the office at 518-793-0511.
URL:https://friendsofmoreaulake.org/event/looney-tunes/
END:VEVENT
BEGIN:VEVENT
DTSTART;TZID=America/New_York:20240914T100000
DTEND;TZID=America/New_York:20240914T150000
DTSTAMP:20260422T200307
CREATED:20240819T134703Z
LAST-MODIFIED:20240820T140435Z
UID:10012519-1726308000-1726326000@friendsofmoreaulake.org
SUMMARY:Nature Center Open Weekends
DESCRIPTION:
URL:https://friendsofmoreaulake.org/event/nature-center-open-3/2024-09-14/
END:VEVENT
BEGIN:VEVENT
DTSTART;TZID=America/New_York:20240914T110000
DTEND;TZID=America/New_York:20240914T153000
DTSTAMP:20260422T200307
CREATED:20240901T141135Z
LAST-MODIFIED:20240901T141151Z
UID:10012741-1726311600-1726327800@friendsofmoreaulake.org
SUMMARY:NatureFest!
DESCRIPTION:
URL:https://friendsofmoreaulake.org/event/naturefest/
END:VEVENT
BEGIN:VEVENT
DTSTART;TZID=America/New_York:20240915T083000
DTEND;TZID=America/New_York:20240915T103000
DTSTAMP:20260422T200307
CREATED:20240901T141233Z
LAST-MODIFIED:20250429T154649Z
UID:10012742-1726389000-1726396200@friendsofmoreaulake.org
SUMMARY:Big Bend: Beginner Birding
DESCRIPTION:Calling all beginner birders! Bring your binoculars if you have them and we will check out the wide variety of over 100 species of birds that we have identified at our new preserve. This will be a short start-and-stop hike. We will meet at the park office and caravan to Big Bend. Geared toward ages 12+. Please reserve your spot 24-hours in advance by calling the office at 518-793-0511.
URL:https://friendsofmoreaulake.org/event/big-bend-beginner-birding/2024-09-15/
END:VEVENT
BEGIN:VEVENT
DTSTART;TZID=America/New_York:20240915T100000
DTEND;TZID=America/New_York:20240915T150000
DTSTAMP:20260422T200307
CREATED:20240819T134703Z
LAST-MODIFIED:20240820T140435Z
UID:10012520-1726394400-1726412400@friendsofmoreaulake.org
SUMMARY:Nature Center Open Weekends
DESCRIPTION:
URL:https://friendsofmoreaulake.org/event/nature-center-open-3/2024-09-15/
END:VEVENT
BEGIN:VEVENT
DTSTART;TZID=America/New_York:20240915T110000
DTEND;TZID=America/New_York:20240915T130000
DTSTAMP:20260422T200307
CREATED:20240901T141313Z
LAST-MODIFIED:20240901T141331Z
UID:10012743-1726398000-1726405200@friendsofmoreaulake.org
SUMMARY:Big Bend: Plant Walk
DESCRIPTION:Join an educator on our new trails to seek out the variety of plants we have on our trails. We will also have a conversation and tutorial on how to use iNaturalist and other plant identifying apps. This will be a start and stop short walk. This program is for all ages. We will meet at the park office and caravan to the new trailhead. $5 per adult and $1 per child (cash or check) at the park office upon arrival. Please reserve your spot 24-hours in advance by calling the office at 518-793-0511.
URL:https://friendsofmoreaulake.org/event/big-bend-plant-walk/
END:VEVENT
BEGIN:VEVENT
DTSTART;TZID=America/New_York:20240916T080000
DTEND;TZID=America/New_York:20240916T170000
DTSTAMP:20260422T200307
CREATED:20240901T140903Z
LAST-MODIFIED:20240901T141410Z
UID:10012744-1726473600-1726506000@friendsofmoreaulake.org
SUMMARY:Forest Bathing
DESCRIPTION:Coined shinrin-yoku in Japan in the 1980’s\, forest bathing is the eco therapeutic practice of spending time immersed in nature\, absorbing it with all your senses. The physiological and psychological benefits last for days afterward with the additional benefit of a new appreciation of our precious woodland and its inhabitants. This is a beginner-rated walk along the Nature Trail with long pauses to sit and enhance our awareness of our surroundings\, it is an approximately 1-hour program. A small mat is beneficial to ensure a dry seat and wear warmer clothes as we will be sitting for longer periods of time. This program is limited to those age 14 and up. Pay $5 per person (cash or check) at the office upon arrival. Please register in advance by calling 518-793-0511.
URL:https://friendsofmoreaulake.org/event/forest-bathing-7577/2024-09-16/
END:VEVENT
BEGIN:VEVENT
DTSTART;TZID=America/New_York:20240916T190000
DTEND;TZID=America/New_York:20240916T203000
DTSTAMP:20260422T200307
CREATED:20240901T141455Z
LAST-MODIFIED:20240901T141455Z
UID:10012745-1726513200-1726518600@friendsofmoreaulake.org
SUMMARY:Full Moon Hike at Big Bend
DESCRIPTION:Join a park educator on a beginner hike at the new Big Bend Preserve. If the clouds cooperate\, we’ll get to enjoy the splendor of the full “Harvest” moon rising! This hike is family friendly and well-behaved dogs on a 6 foot or shorter leash are welcome. $1 per child\, $5 per adult is payable by cash or check at the office upon your arrival. We will meet at the park office and caravan to the trailhead. To reserve your spot call 518-793-0511- the earlier the better as this is a popular program and it fills up quickly.
URL:https://friendsofmoreaulake.org/event/full-moon-hike-at-big-bend/
END:VEVENT
BEGIN:VEVENT
DTSTART;TZID=America/New_York:20240917T100000
DTEND;TZID=America/New_York:20240917T120000
DTSTAMP:20260422T200307
CREATED:20240901T141534Z
LAST-MODIFIED:20241002T193921Z
UID:10012746-1726567200-1726574400@friendsofmoreaulake.org
SUMMARY:Moreau Lake Kayak
DESCRIPTION:Join an educator on a peaceful morning paddle around Moreau Lake. Limited rentals are available or bring your own kayak. This program is for people aged 18 and older if you need to rent a kayak or 13+ if you have your own kayak. The cost is $5 (or $15 including kayak rental). Check in and pay (cash or check) at the office upon arrival. Please reserve your spot 24-hours in advance by calling the office at 518-793-0511.
URL:https://friendsofmoreaulake.org/event/moreau-lake-kayak-5/2024-09-17/
END:VEVENT
BEGIN:VEVENT
DTSTART;TZID=America/New_York:20240918T100000
DTEND;TZID=America/New_York:20240918T120000
DTSTAMP:20260422T200307
CREATED:20240901T141626Z
LAST-MODIFIED:20240901T141626Z
UID:10012747-1726653600-1726660800@friendsofmoreaulake.org
SUMMARY:Homeschool Pop-Up: Leave No Trace
DESCRIPTION:Join an educator at the nature center to learn how to enjoy the outdoors while respecting each other and wildlife. We will learn how humans impact the outdoors and play some fun games to put it into perspective. This class is geared toward aged 6+ homeschool groups\, but is open to the public (siblings welcome). The class is $1 per child. Please reserve your spot 24-hours in advance by calling the office at 518-793-0511.
URL:https://friendsofmoreaulake.org/event/homeschool-pop-up-leave-no-trace/
END:VEVENT
BEGIN:VEVENT
DTSTART;TZID=America/New_York:20240919T100000
DTEND;TZID=America/New_York:20240919T123000
DTSTAMP:20260422T200307
CREATED:20240901T141707Z
LAST-MODIFIED:20240901T141707Z
UID:10012748-1726740000-1726749000@friendsofmoreaulake.org
SUMMARY:Stonewall Trail Hike
DESCRIPTION:This is a guided hike on a lesser-known trail along the Hudson River with the added interest of logging history and old foundations. This 3.5-mile hike has some steeper parts. Meet at the office and convoy or carpool to the trailhead. Please wear the appropriate attire for the weather- sunscreen\, bug spray and water-resistant hiking shoes. The cost is $5 for adults\, payable by cash or check at the office upon your arrival. Please reserve your spot 24-hours in advance by calling the office at 518-793-0511.
URL:https://friendsofmoreaulake.org/event/stonewall-trail-hike-2/
END:VEVENT
BEGIN:VEVENT
DTSTART;TZID=America/New_York:20240920T100000
DTEND;TZID=America/New_York:20240920T150000
DTSTAMP:20260422T200307
CREATED:20240819T134703Z
LAST-MODIFIED:20240820T140435Z
UID:10012521-1726826400-1726844400@friendsofmoreaulake.org
SUMMARY:Nature Center Open Weekends
DESCRIPTION:
URL:https://friendsofmoreaulake.org/event/nature-center-open-3/2024-09-20/
END:VEVENT
BEGIN:VEVENT
DTSTART;TZID=America/New_York:20240921T100000
DTEND;TZID=America/New_York:20240921T120000
DTSTAMP:20260422T200307
CREATED:20240901T141801Z
LAST-MODIFIED:20240901T141801Z
UID:10012749-1726912800-1726920000@friendsofmoreaulake.org
SUMMARY:Mushroom March: Hike to ID Fun-gis
DESCRIPTION:Join a Nature Center educator for a walk around the lake where we will locate and identify mushrooms along the trail. Geared towards ages 14+. Program is $5 per adult\, $1 for kids under 18 (cash or check). Please reserve your spot 24-hours in advance by calling the office at 518-793-0511.
URL:https://friendsofmoreaulake.org/event/mushroom-march-hike-to-id-fun-gis/
END:VEVENT
BEGIN:VEVENT
DTSTART;TZID=America/New_York:20240921T100000
DTEND;TZID=America/New_York:20240921T150000
DTSTAMP:20260422T200307
CREATED:20240819T134703Z
LAST-MODIFIED:20240820T140435Z
UID:10012522-1726912800-1726930800@friendsofmoreaulake.org
SUMMARY:Nature Center Open Weekends
DESCRIPTION:
URL:https://friendsofmoreaulake.org/event/nature-center-open-3/2024-09-21/
END:VEVENT
BEGIN:VEVENT
DTSTART;TZID=America/New_York:20240922T100000
DTEND;TZID=America/New_York:20240922T150000
DTSTAMP:20260422T200307
CREATED:20240819T134703Z
LAST-MODIFIED:20240820T140435Z
UID:10012523-1726999200-1727017200@friendsofmoreaulake.org
SUMMARY:Nature Center Open Weekends
DESCRIPTION:
URL:https://friendsofmoreaulake.org/event/nature-center-open-3/2024-09-22/
END:VEVENT
BEGIN:VEVENT
DTSTART;TZID=America/New_York:20240922T183000
DTEND;TZID=America/New_York:20240922T193000
DTSTAMP:20260422T200307
CREATED:20240901T141852Z
LAST-MODIFIED:20240901T141852Z
UID:10012750-1727029800-1727033400@friendsofmoreaulake.org
SUMMARY:Autumn Equinox S'more and Stories
DESCRIPTION:We’ll be celebrating the Autumn Equinox by the fire with s’mores and some local storytellers who will have family friendly stories for the evening. This is for all ages. $1 per child and $5 per adult (cash or check) at the office upon arrival.\nPlease reserve your spot 24-hours in advance by calling the office at 518-793-0511.
URL:https://friendsofmoreaulake.org/event/autumn-equinox-smore-and-stories/
END:VEVENT
BEGIN:VEVENT
DTSTART;TZID=America/New_York:20240924T090000
DTEND;TZID=America/New_York:20240924T110000
DTSTAMP:20260422T200307
CREATED:20240901T142055Z
LAST-MODIFIED:20240901T142055Z
UID:10012752-1727168400-1727175600@friendsofmoreaulake.org
SUMMARY:Mud Pond Hike
DESCRIPTION:This hike is about 2.5 miles of mostly flat terrain. We will start on the nature trail and continue onto the mud pond trail which will take us on a nice hike around the pond with a water view most of the way. We will see what mother nature has to offer and stop along the way for water and teachable moments.
URL:https://friendsofmoreaulake.org/event/mud-pond-hike-5/
END:VEVENT
BEGIN:VEVENT
DTSTART;TZID=America/New_York:20240925T100000
DTEND;TZID=America/New_York:20240925T120000
DTSTAMP:20260422T200307
CREATED:20240901T142143Z
LAST-MODIFIED:20240901T142143Z
UID:10012753-1727258400-1727265600@friendsofmoreaulake.org
SUMMARY:Homeschool Pop-Up: Food Chain
DESCRIPTION:Join an educator at the nature center for another homeschool pop-up with the topic of food chains in the wild. We will talk about how the order in which living things depend on each other to survive! This class is geared toward aged 6+ homeschool groups but is open to the public (siblings welcome). The class is $1 per child. Please reserve your spot 24-hours in advance by calling the office at 518-793-0511.
URL:https://friendsofmoreaulake.org/event/homeschool-pop-up-food-chain-2/
END:VEVENT
BEGIN:VEVENT
DTSTART;TZID=America/New_York:20240927T100000
DTEND;TZID=America/New_York:20240927T150000
DTSTAMP:20260422T200307
CREATED:20240819T134703Z
LAST-MODIFIED:20240820T140435Z
UID:10012524-1727431200-1727449200@friendsofmoreaulake.org
SUMMARY:Nature Center Open Weekends
DESCRIPTION:
URL:https://friendsofmoreaulake.org/event/nature-center-open-3/2024-09-27/
END:VEVENT
BEGIN:VEVENT
DTSTART;TZID=America/New_York:20240927T120000
DTEND;TZID=America/New_York:20240927T133000
DTSTAMP:20260422T200307
CREATED:20240901T142232Z
LAST-MODIFIED:20240901T142232Z
UID:10012754-1727438400-1727443800@friendsofmoreaulake.org
SUMMARY:Fresh Brewed Tea in your own backyard
DESCRIPTION:Join a Nature Center educator for a lesson on which native and common garden plants can be used to brew homemade teas! Geared towards ages 12+. Program is $5 per adult\, $1 for kids under 18 (cash or check). Please reserve your spot 24-hours in advance by calling the office at 518-793-0511.
URL:https://friendsofmoreaulake.org/event/fresh-brewed-tea-in-your-own-backyard/
END:VEVENT
BEGIN:VEVENT
DTSTART;TZID=America/New_York:20240928T080000
DTEND;TZID=America/New_York:20240928T170000
DTSTAMP:20260422T200307
CREATED:20240901T141534Z
LAST-MODIFIED:20241002T193921Z
UID:10012755-1727510400-1727542800@friendsofmoreaulake.org
SUMMARY:Moreau Lake Kayak
DESCRIPTION:Join an educator on a peaceful morning paddle around Moreau Lake. Limited rentals are available or bring your own kayak. This program is for people aged 18 and older if you need to rent a kayak or 13+ if you have your own kayak. The cost is $5 (or $15 including kayak rental). Check in and pay (cash or check) at the office upon arrival. Please reserve your spot 24-hours in advance by calling the office at 518-793-0511.
URL:https://friendsofmoreaulake.org/event/moreau-lake-kayak-5/2024-09-28/
END:VEVENT
BEGIN:VEVENT
DTSTART;TZID=America/New_York:20240928T100000
DTEND;TZID=America/New_York:20240928T150000
DTSTAMP:20260422T200307
CREATED:20240819T134703Z
LAST-MODIFIED:20240820T140435Z
UID:10012525-1727517600-1727535600@friendsofmoreaulake.org
SUMMARY:Nature Center Open Weekends
DESCRIPTION:
URL:https://friendsofmoreaulake.org/event/nature-center-open-3/2024-09-28/
END:VEVENT
BEGIN:VEVENT
DTSTART;TZID=America/New_York:20240928T130000
DTEND;TZID=America/New_York:20240928T140000
DTSTAMP:20260422T200307
CREATED:20240901T142358Z
LAST-MODIFIED:20240901T142410Z
UID:10012757-1727528400-1727532000@friendsofmoreaulake.org
SUMMARY:Raise a Toast to Compost
DESCRIPTION:Join a Nature Center educator for a lesson on the benefits of compost and how to start a low-cost compost bin at your house. Geared towards ages 10+ Program is $5 per adult\, $1 for kids under 18 (cash or check). Please reserve your spot 24-hours in advance by calling the office at 518-793-0511.
URL:https://friendsofmoreaulake.org/event/raise-a-toast-to-compost/
END:VEVENT
END:VCALENDAR