BEGIN:VCALENDAR
VERSION:2.0
PRODID:-//Friends of Moreau Lake State Park, Inc. - ECPv6.15.20//NONSGML v1.0//EN
CALSCALE:GREGORIAN
METHOD:PUBLISH
X-WR-CALNAME:Friends of Moreau Lake State Park, Inc.
X-ORIGINAL-URL:https://friendsofmoreaulake.org
X-WR-CALDESC:Events for Friends of Moreau Lake State Park, Inc.
REFRESH-INTERVAL;VALUE=DURATION:PT1H
X-Robots-Tag:noindex
X-PUBLISHED-TTL:PT1H
BEGIN:VTIMEZONE
TZID:America/New_York
BEGIN:DAYLIGHT
TZOFFSETFROM:-0500
TZOFFSETTO:-0400
TZNAME:EDT
DTSTART:20240310T070000
END:DAYLIGHT
BEGIN:STANDARD
TZOFFSETFROM:-0400
TZOFFSETTO:-0500
TZNAME:EST
DTSTART:20241103T060000
END:STANDARD
BEGIN:DAYLIGHT
TZOFFSETFROM:-0500
TZOFFSETTO:-0400
TZNAME:EDT
DTSTART:20250309T070000
END:DAYLIGHT
BEGIN:STANDARD
TZOFFSETFROM:-0400
TZOFFSETTO:-0500
TZNAME:EST
DTSTART:20251102T060000
END:STANDARD
BEGIN:DAYLIGHT
TZOFFSETFROM:-0500
TZOFFSETTO:-0400
TZNAME:EDT
DTSTART:20260308T070000
END:DAYLIGHT
BEGIN:STANDARD
TZOFFSETFROM:-0400
TZOFFSETTO:-0500
TZNAME:EST
DTSTART:20261101T060000
END:STANDARD
END:VTIMEZONE
BEGIN:VEVENT
DTSTART;TZID=America/New_York:20250722T093000
DTEND;TZID=America/New_York:20250722T120000
DTSTAMP:20260419T202938
CREATED:20250630T141438Z
LAST-MODIFIED:20250630T141438Z
UID:10022736-1753176600-1753185600@friendsofmoreaulake.org
SUMMARY:Baker to Moreau Overlook Hike
DESCRIPTION:Join an educator on a moderate 2.5 mile hike with an elevation gain of 521 feet on Baker Trail to Moreau Overlook with a beautiful view of our lake from above. Please wear the appropriate attire for the weather- sunscreen\, bug spray and water-resistant hiking shoes. Bring a snack and plenty of water. We will meet at the park office and caravan to the trailhead. This hike is free and for people 13+. Please register in advance by calling 518-793-0511
URL:https://friendsofmoreaulake.org/event/baker-to-moreau-overlook-hike-2/
END:VEVENT
BEGIN:VEVENT
DTSTART;TZID=America/New_York:20250723T130000
DTEND;TZID=America/New_York:20250723T140000
DTSTAMP:20260419T202938
CREATED:20250630T140713Z
LAST-MODIFIED:20250630T140713Z
UID:10022724-1753275600-1753279200@friendsofmoreaulake.org
SUMMARY:The Friends Kid's Craft at the Nature Center
DESCRIPTION:Join the Friends of Moreau Lake State Park at the Nature Center to make a fun craft every Wednesday from July 9th to August 13th. This program is geared toward younger children\, but everyone is welcome! This program is free\, and no registration is required. You only must pay the entry fee if you are planning on spending the day at the park.
URL:https://friendsofmoreaulake.org/event/the-friends-kids-craft-at-the-nature-center/2025-07-23/
END:VEVENT
BEGIN:VEVENT
DTSTART;TZID=America/New_York:20250724T203000
DTEND;TZID=America/New_York:20250724T223000
DTSTAMP:20260419T202938
CREATED:20250630T141223Z
LAST-MODIFIED:20250730T142117Z
UID:10022733-1753389000-1753396200@friendsofmoreaulake.org
SUMMARY:Movie Night
DESCRIPTION:We will be hosting another movie night! Movie will be announced closer to the date\, but will be family friendly! Bring a chair\, your favorite blanket\, and a flashlight. Movie will begin when it gets dark enough. Our concessionaire\, Big Tony’s\, will be open all night for dinner/snacks and we will have free popcorn (while supplies last). No park entry fee and the movie is free. Open to all ages of the public AND to our campers! The observatory will be open if the weather cooperates. Well-behaved dogs on a 6 foot or shorter leash are welcome. Registration is not required. If you have any questions\, call 518-793-0511.
URL:https://friendsofmoreaulake.org/event/movie-night/2025-07-24/
END:VEVENT
BEGIN:VEVENT
DTSTART;TZID=America/New_York:20250727T090000
DTEND;TZID=America/New_York:20250727T110000
DTSTAMP:20260419T202938
CREATED:20250630T140410Z
LAST-MODIFIED:20250630T140410Z
UID:10022720-1753606800-1753614000@friendsofmoreaulake.org
SUMMARY:Sunday Scenic Paddle
DESCRIPTION:Ease into your Sunday with a peaceful morning kayak on Moreau Lake led by a park educator. Limited kayak rentals and life jackets are available for free and first come\, first served with 6 rentals available or bring your own kayak. This program is free and for people aged 18 and older if you need to rent a kayak or 13+ if you have your own kayak. Limited to 10 participants. When you arrive\, please tell the toll booth operator that you are there for a program. Registration: Required\, please register in advance by calling the office at 518-793-0511.
URL:https://friendsofmoreaulake.org/event/sunday-scenic-paddle/2025-07-27/
END:VEVENT
BEGIN:VEVENT
DTSTART;TZID=America/New_York:20250728T090000
DTEND;TZID=America/New_York:20250728T110000
DTSTAMP:20260419T202938
CREATED:20250630T141622Z
LAST-MODIFIED:20250630T141622Z
UID:10022738-1753693200-1753700400@friendsofmoreaulake.org
SUMMARY:Moreau Lake Birding Kayak
DESCRIPTION:Bring your binoculars and join an educator on a peaceful morning paddle around Moreau Lake and also look for birds! We are limited to 5 rentals or bring your own kayak. This program is free and 13+ in order to borrow a kayak. Please tell the booth operator that you are there for our program and check in at the office. You must register by calling 518-793-0511.
URL:https://friendsofmoreaulake.org/event/moreau-lake-birding-kayak/
END:VEVENT
BEGIN:VEVENT
DTSTART;TZID=America/New_York:20250730T130000
DTEND;TZID=America/New_York:20250730T140000
DTSTAMP:20260419T202938
CREATED:20250630T140713Z
LAST-MODIFIED:20250630T140713Z
UID:10022725-1753880400-1753884000@friendsofmoreaulake.org
SUMMARY:The Friends Kid's Craft at the Nature Center
DESCRIPTION:Join the Friends of Moreau Lake State Park at the Nature Center to make a fun craft every Wednesday from July 9th to August 13th. This program is geared toward younger children\, but everyone is welcome! This program is free\, and no registration is required. You only must pay the entry fee if you are planning on spending the day at the park.
URL:https://friendsofmoreaulake.org/event/the-friends-kids-craft-at-the-nature-center/2025-07-30/
END:VEVENT
BEGIN:VEVENT
DTSTART;TZID=America/New_York:20250731T100000
DTEND;TZID=America/New_York:20250731T150000
DTSTAMP:20260419T202938
CREATED:20250630T141533Z
LAST-MODIFIED:20250630T141533Z
UID:10022737-1753956000-1753974000@friendsofmoreaulake.org
SUMMARY:Bark Ranger: Dog Hiking Safety 101 - Drop-In
DESCRIPTION:Planning to hit the trails with your pup? Join us for a fun and informative session all about safe hiking with dogs. We’ll cover trail etiquette\, heat safety\, paw protection\, wildlife awareness\, and what to pack in your dog’s trail bag. Dogs must be at least 6 months old\, leashed\, current on vaccines\, and non-aggressive. Registration is not required.
URL:https://friendsofmoreaulake.org/event/bark-ranger-dog-hiking-safety-101-drop-in/
END:VEVENT
BEGIN:VEVENT
DTSTART;TZID=America/New_York:20250801T093000
DTEND;TZID=America/New_York:20250801T103000
DTSTAMP:20260419T202938
CREATED:20250730T140529Z
LAST-MODIFIED:20260401T212333Z
UID:10029865-1754040600-1754044200@friendsofmoreaulake.org
SUMMARY:Wiggly Wanderers
DESCRIPTION:Wiggly Wanderers is a casual and fun program that is offered to walking toddlers\, carriable babies and their caregivers. This is a beginner’s hike/wander series with not too much distance for toddlers who are ready to move and caregivers who are willing and able to baby wear and/or carry their toddler if their legs get too tired. Strollers will not work for these programs. We meet at the nature center parking lot. This program is free and does not require registration\, please tell the toll booth operator that you are there for a program.
URL:https://friendsofmoreaulake.org/event/wiggly-wanderers/2025-08-01/
END:VEVENT
BEGIN:VEVENT
DTSTART;TZID=America/New_York:20250803T090000
DTEND;TZID=America/New_York:20250803T110000
DTSTAMP:20260419T202938
CREATED:20250730T140628Z
LAST-MODIFIED:20250730T140628Z
UID:10029922-1754211600-1754218800@friendsofmoreaulake.org
SUMMARY:Scenic Paddle
DESCRIPTION:Ease into your Sunday with a peaceful morning kayak on Moreau Lake led by a park educator. Limited kayak rentals and life jackets are available for free and first come\, first served with 6 rentals available or bring your own kayak. This program is free and for people aged 18 and older if you need to rent a kayak or 13+ if you have your own kayak. Limited to 10 participants. When you arrive\, please tell the toll booth operator that you are there for a program. Registration is required\, please register in advance by calling the office at 518-793-0511.
URL:https://friendsofmoreaulake.org/event/scenic-paddle/2025-08-03/
END:VEVENT
BEGIN:VEVENT
DTSTART;TZID=America/New_York:20250805T083000
DTEND;TZID=America/New_York:20250805T103000
DTSTAMP:20260419T202938
CREATED:20250730T140709Z
LAST-MODIFIED:20250730T140727Z
UID:10029924-1754382600-1754389800@friendsofmoreaulake.org
SUMMARY:Potter's Point Hike
DESCRIPTION:Join an educator on a roughly one mile hike and see the Hudson from another view point . This hike is NOT stroller friendly so if you have a younger sibling who wants to join\, plan to carry them if they get tired. Bring water and snacks are more than welcome. Please register in advance by calling 518-793-0511.
URL:https://friendsofmoreaulake.org/event/potters-point-hike-2/
END:VEVENT
BEGIN:VEVENT
DTSTART;TZID=America/New_York:20250806T130000
DTEND;TZID=America/New_York:20250806T140000
DTSTAMP:20260419T202938
CREATED:20250630T140713Z
LAST-MODIFIED:20250630T140713Z
UID:10022726-1754485200-1754488800@friendsofmoreaulake.org
SUMMARY:The Friends Kid's Craft at the Nature Center
DESCRIPTION:Join the Friends of Moreau Lake State Park at the Nature Center to make a fun craft every Wednesday from July 9th to August 13th. This program is geared toward younger children\, but everyone is welcome! This program is free\, and no registration is required. You only must pay the entry fee if you are planning on spending the day at the park.
URL:https://friendsofmoreaulake.org/event/the-friends-kids-craft-at-the-nature-center/2025-08-06/
END:VEVENT
BEGIN:VEVENT
DTSTART;TZID=America/New_York:20250806T130000
DTEND;TZID=America/New_York:20250806T140000
DTSTAMP:20260419T202938
CREATED:20250730T141341Z
LAST-MODIFIED:20250730T141341Z
UID:10029925-1754485200-1754488800@friendsofmoreaulake.org
SUMMARY:Friends Crafts at the Nature Center
DESCRIPTION:Join the Friends of Moreau Lake State Park at the Nature Center to make a fun craft every Wednesday from July 9th to August 13th. This program is geared toward younger children\, but everyone is welcome! This program is free\, and no registration is required. You only have to pay the entry fee if you are planning on spending the day at the park.
URL:https://friendsofmoreaulake.org/event/friends-crafts-at-the-nature-center/2025-08-06/
END:VEVENT
BEGIN:VEVENT
DTSTART;TZID=America/New_York:20250808T093000
DTEND;TZID=America/New_York:20250808T103000
DTSTAMP:20260419T202938
CREATED:20250730T140529Z
LAST-MODIFIED:20260401T212333Z
UID:10029866-1754645400-1754649000@friendsofmoreaulake.org
SUMMARY:Wiggly Wanderers
DESCRIPTION:Wiggly Wanderers is a casual and fun program that is offered to walking toddlers\, carriable babies and their caregivers. This is a beginner’s hike/wander series with not too much distance for toddlers who are ready to move and caregivers who are willing and able to baby wear and/or carry their toddler if their legs get too tired. Strollers will not work for these programs. We meet at the nature center parking lot. This program is free and does not require registration\, please tell the toll booth operator that you are there for a program.
URL:https://friendsofmoreaulake.org/event/wiggly-wanderers/2025-08-08/
END:VEVENT
BEGIN:VEVENT
DTSTART;TZID=America/New_York:20250808T110000
DTEND;TZID=America/New_York:20250808T120000
DTSTAMP:20260419T202938
CREATED:20250730T141421Z
LAST-MODIFIED:20250730T141421Z
UID:10029927-1754650800-1754654400@friendsofmoreaulake.org
SUMMARY:Bobcat Chat
DESCRIPTION:Join an educator at the nature center to talk about New York’s native wild cat! This program is free and open to all ages. Please tell the booth operator you are there for a program. Registration is required by calling the office at 518-793-0511.
URL:https://friendsofmoreaulake.org/event/bobcat-chat/
END:VEVENT
BEGIN:VEVENT
DTSTART;TZID=America/New_York:20250809T090000
DTEND;TZID=America/New_York:20250809T103000
DTSTAMP:20260419T202938
CREATED:20250630T140257Z
LAST-MODIFIED:20250730T141613Z
UID:10029928-1754730000-1754735400@friendsofmoreaulake.org
SUMMARY:Nature Flow: Morning Stretch and Stillness
DESCRIPTION:Start your day grounded and refreshed with a gentle stretching session in the natural beauty of Moreau Lake. Join an educator for a guided experience designed to awaken your body and calm your mind through breathwork\, intentional movement\, and quiet reflection. This program takes place outdoors\, please bring a mat or towel and dress comfortably. This program is free and for ages 6 and older. Limited to 15 participants. When you arrive\, please tell the toll booth operator that you are there for a program. Registration is required\, please register by calling the office at 518-793-0511.
URL:https://friendsofmoreaulake.org/event/nature-flow-morning-stretch-and-stillness/2025-08-09/
END:VEVENT
BEGIN:VEVENT
DTSTART;TZID=America/New_York:20250810T093000
DTEND;TZID=America/New_York:20250810T120000
DTSTAMP:20260419T202938
CREATED:20250730T141725Z
LAST-MODIFIED:20250730T141725Z
UID:10029930-1754818200-1754827200@friendsofmoreaulake.org
SUMMARY:Monthly Hiking challenge
DESCRIPTION:Join the monthly hiking challenge where we will explore the wide variety of trails at Moreau Lake State Park! This month we will be doing the Stonewall Trail which is 3.5 miles with an elevation gain loss of 420 feet. The trails can be muddy so please wear the appropriate attire for the weather with water-resistant hiking shoes\, and trekking poles if you need them. Bring a snack and plenty of water or a lunch. As always\, we will meet at the park office and caravan to the trail head. This is a free hike and for ages 13+. We have a limit of 25 people\, please register in advance by calling the office at 518-793-0511.
URL:https://friendsofmoreaulake.org/event/monthly-hiking-challenge-5/
END:VEVENT
BEGIN:VEVENT
DTSTART;TZID=America/New_York:20250811T203000
DTEND;TZID=America/New_York:20250811T220000
DTSTAMP:20260419T202938
CREATED:20250730T141813Z
LAST-MODIFIED:20250730T141813Z
UID:10029931-1754944200-1754949600@friendsofmoreaulake.org
SUMMARY:Full Moon Kayak
DESCRIPTION:Join a park educator on a leisurely paddle around Moreau Lake. If the clouds cooperate\, we’ll get to enjoy the splendor of the full “Sturgeon” moon rising above the mountains. We have very limited rentals so if you need a kayak\, so call soon. Meet at the office to check in and then head down to the beach parking lot (not boat launch). This is a free program and for ages 13+. You must register by calling the office at 518-793-0511.
URL:https://friendsofmoreaulake.org/event/full-moon-kayak-5/
END:VEVENT
BEGIN:VEVENT
DTSTART;TZID=America/New_York:20250813T130000
DTEND;TZID=America/New_York:20250813T140000
DTSTAMP:20260419T202938
CREATED:20250630T140713Z
LAST-MODIFIED:20250630T140713Z
UID:10022727-1755090000-1755093600@friendsofmoreaulake.org
SUMMARY:The Friends Kid's Craft at the Nature Center
DESCRIPTION:Join the Friends of Moreau Lake State Park at the Nature Center to make a fun craft every Wednesday from July 9th to August 13th. This program is geared toward younger children\, but everyone is welcome! This program is free\, and no registration is required. You only must pay the entry fee if you are planning on spending the day at the park.
URL:https://friendsofmoreaulake.org/event/the-friends-kids-craft-at-the-nature-center/2025-08-13/
END:VEVENT
BEGIN:VEVENT
DTSTART;TZID=America/New_York:20250813T130000
DTEND;TZID=America/New_York:20250813T140000
DTSTAMP:20260419T202938
CREATED:20250730T141341Z
LAST-MODIFIED:20250730T141341Z
UID:10029926-1755090000-1755093600@friendsofmoreaulake.org
SUMMARY:Friends Crafts at the Nature Center
DESCRIPTION:Join the Friends of Moreau Lake State Park at the Nature Center to make a fun craft every Wednesday from July 9th to August 13th. This program is geared toward younger children\, but everyone is welcome! This program is free\, and no registration is required. You only have to pay the entry fee if you are planning on spending the day at the park.
URL:https://friendsofmoreaulake.org/event/friends-crafts-at-the-nature-center/2025-08-13/
END:VEVENT
BEGIN:VEVENT
DTSTART;TZID=America/New_York:20250814T083000
DTEND;TZID=America/New_York:20250814T100000
DTSTAMP:20260419T202938
CREATED:20250730T141903Z
LAST-MODIFIED:20250730T141903Z
UID:10029932-1755160200-1755165600@friendsofmoreaulake.org
SUMMARY:Nature Trail Hike
DESCRIPTION:Join an educator on a kid-friendly hike\, well-behaved dogs are welcome on a 6 foot or shorter leash. This is an easy 2- mile loop\, but not accessible for strollers. Please wear appropriate clothing for the weather\, sneakers or hiking boots and bring water. The hike is free and for all ages. Be sure to register in advance by calling the office at 518-793-0511.
URL:https://friendsofmoreaulake.org/event/nature-trail-hike/
END:VEVENT
BEGIN:VEVENT
DTSTART;TZID=America/New_York:20250814T090000
DTEND;TZID=America/New_York:20250814T110000
DTSTAMP:20260419T202938
CREATED:20250730T141942Z
LAST-MODIFIED:20250730T141942Z
UID:10029933-1755162000-1755169200@friendsofmoreaulake.org
SUMMARY:Hudson River Kayak
DESCRIPTION:Join some educators to kayak on one of the most historic and biodiverse waterways in NY. We will meet at the park office and then convoy to Sherman Island boat launch. We are limited to 3 rentals due to transporting restrictions\, we have 10 spots available if you bring your own kayak. This program is for people aged 18 and older if you need to rent a kayak or 13+ if you have your own kayak. Please reserve you spot in advance by calling the office at 518-793-0511.
URL:https://friendsofmoreaulake.org/event/hudson-river-kayak-3/
END:VEVENT
BEGIN:VEVENT
DTSTART;TZID=America/New_York:20250815T093000
DTEND;TZID=America/New_York:20250815T103000
DTSTAMP:20260419T202938
CREATED:20250730T140529Z
LAST-MODIFIED:20260401T212333Z
UID:10029867-1755250200-1755253800@friendsofmoreaulake.org
SUMMARY:Wiggly Wanderers
DESCRIPTION:Wiggly Wanderers is a casual and fun program that is offered to walking toddlers\, carriable babies and their caregivers. This is a beginner’s hike/wander series with not too much distance for toddlers who are ready to move and caregivers who are willing and able to baby wear and/or carry their toddler if their legs get too tired. Strollers will not work for these programs. We meet at the nature center parking lot. This program is free and does not require registration\, please tell the toll booth operator that you are there for a program.
URL:https://friendsofmoreaulake.org/event/wiggly-wanderers/2025-08-15/
END:VEVENT
BEGIN:VEVENT
DTSTART;TZID=America/New_York:20250817T080000
DTEND;TZID=America/New_York:20250817T170000
DTSTAMP:20260419T202938
CREATED:20250730T140628Z
LAST-MODIFIED:20250730T140628Z
UID:10029923-1755417600-1755450000@friendsofmoreaulake.org
SUMMARY:Scenic Paddle
DESCRIPTION:Ease into your Sunday with a peaceful morning kayak on Moreau Lake led by a park educator. Limited kayak rentals and life jackets are available for free and first come\, first served with 6 rentals available or bring your own kayak. This program is free and for people aged 18 and older if you need to rent a kayak or 13+ if you have your own kayak. Limited to 10 participants. When you arrive\, please tell the toll booth operator that you are there for a program. Registration is required\, please register in advance by calling the office at 518-793-0511.
URL:https://friendsofmoreaulake.org/event/scenic-paddle/2025-08-17/
END:VEVENT
BEGIN:VEVENT
DTSTART;TZID=America/New_York:20250817T110000
DTEND;TZID=America/New_York:20250817T120000
DTSTAMP:20260419T202938
CREATED:20250730T142028Z
LAST-MODIFIED:20250730T142028Z
UID:10029934-1755428400-1755432000@friendsofmoreaulake.org
SUMMARY:National Honey Bee Day Celebration
DESCRIPTION:Come join an educator at the nature center to learn all about the honeybee! Although they are not a native species\, they are still such an important pollinator in any ecosystem. This program is free and for all ages. Please tell the booth operator that you are there for a program. Registration is required by calling the office at 518-793-0511.
URL:https://friendsofmoreaulake.org/event/national-honey-bee-day-celebration/
END:VEVENT
BEGIN:VEVENT
DTSTART;TZID=America/New_York:20250821T200000
DTEND;TZID=America/New_York:20250821T220000
DTSTAMP:20260419T202938
CREATED:20250630T141223Z
LAST-MODIFIED:20250730T142117Z
UID:10029935-1755806400-1755813600@friendsofmoreaulake.org
SUMMARY:Movie Night
DESCRIPTION:We will be hosting another movie night! Movie will be announced closer to the date\, but will be family friendly! Bring a chair\, your favorite blanket\, and a flashlight. Movie will begin when it gets dark enough. Our concessionaire\, Big Tony’s\, will be open all night for dinner/snacks and we will have free popcorn (while supplies last). No park entry fee and the movie is free. Open to all ages of the public AND to our campers! The observatory will be open if the weather cooperates. Well-behaved dogs on a 6 foot or shorter leash are welcome. Registration is not required. If you have any questions\, call 518-793-0511.
URL:https://friendsofmoreaulake.org/event/movie-night/2025-08-21/
END:VEVENT
BEGIN:VEVENT
DTSTART;TZID=America/New_York:20250822T093000
DTEND;TZID=America/New_York:20250822T103000
DTSTAMP:20260419T202938
CREATED:20250730T140529Z
LAST-MODIFIED:20260401T212333Z
UID:10029868-1755855000-1755858600@friendsofmoreaulake.org
SUMMARY:Wiggly Wanderers
DESCRIPTION:Wiggly Wanderers is a casual and fun program that is offered to walking toddlers\, carriable babies and their caregivers. This is a beginner’s hike/wander series with not too much distance for toddlers who are ready to move and caregivers who are willing and able to baby wear and/or carry their toddler if their legs get too tired. Strollers will not work for these programs. We meet at the nature center parking lot. This program is free and does not require registration\, please tell the toll booth operator that you are there for a program.
URL:https://friendsofmoreaulake.org/event/wiggly-wanderers/2025-08-22/
END:VEVENT
BEGIN:VEVENT
DTSTART;TZID=America/New_York:20250823T090000
DTEND;TZID=America/New_York:20250823T103000
DTSTAMP:20260419T202938
CREATED:20250630T140257Z
LAST-MODIFIED:20250730T141613Z
UID:10029929-1755939600-1755945000@friendsofmoreaulake.org
SUMMARY:Nature Flow: Morning Stretch and Stillness
DESCRIPTION:Start your day grounded and refreshed with a gentle stretching session in the natural beauty of Moreau Lake. Join an educator for a guided experience designed to awaken your body and calm your mind through breathwork\, intentional movement\, and quiet reflection. This program takes place outdoors\, please bring a mat or towel and dress comfortably. This program is free and for ages 6 and older. Limited to 15 participants. When you arrive\, please tell the toll booth operator that you are there for a program. Registration is required\, please register by calling the office at 518-793-0511.
URL:https://friendsofmoreaulake.org/event/nature-flow-morning-stretch-and-stillness/2025-08-23/
END:VEVENT
BEGIN:VEVENT
DTSTART;TZID=America/New_York:20250824T110000
DTEND;TZID=America/New_York:20250824T123000
DTSTAMP:20260419T202938
CREATED:20250730T142156Z
LAST-MODIFIED:20250730T142156Z
UID:10029936-1756033200-1756038600@friendsofmoreaulake.org
SUMMARY:Wetland Talk
DESCRIPTION:Join an educator at the nature center to discuss the importance of Wetlands and observe World Mosquito Day. Wetlands are vital to biologically diverse ecosystems-creating habitat for fish\, waterfowl\, aquatic insects\, wildlife\, and helps purify polluted water. This program is free and for all ages. Please tell the booth operator that you are there for a program. Registration is required by calling the office at 518-793-0511.
URL:https://friendsofmoreaulake.org/event/wetland-talk/
END:VEVENT
BEGIN:VEVENT
DTSTART;TZID=America/New_York:20250826T160000
DTEND;TZID=America/New_York:20250826T173000
DTSTAMP:20260419T202938
CREATED:20250730T142251Z
LAST-MODIFIED:20250730T142251Z
UID:10029937-1756224000-1756229400@friendsofmoreaulake.org
SUMMARY:Moreau Reptiles at Crandall Library
DESCRIPTION:Follow Moreau Lake State Park’s turtles down the road to Crandall library for a short talk on reptiles! This is free and for all ages. This program has limited spaces\, so please register for the program or waitlist on their website: https://crandall.librarycalendar.com/event/reptile-profile-10483
URL:https://friendsofmoreaulake.org/event/moreau-reptiles-at-crandall-library/
END:VEVENT
BEGIN:VEVENT
DTSTART;TZID=America/New_York:20250829T093000
DTEND;TZID=America/New_York:20250829T103000
DTSTAMP:20260419T202938
CREATED:20250730T140529Z
LAST-MODIFIED:20260401T212333Z
UID:10029869-1756459800-1756463400@friendsofmoreaulake.org
SUMMARY:Wiggly Wanderers
DESCRIPTION:Wiggly Wanderers is a casual and fun program that is offered to walking toddlers\, carriable babies and their caregivers. This is a beginner’s hike/wander series with not too much distance for toddlers who are ready to move and caregivers who are willing and able to baby wear and/or carry their toddler if their legs get too tired. Strollers will not work for these programs. We meet at the nature center parking lot. This program is free and does not require registration\, please tell the toll booth operator that you are there for a program.
URL:https://friendsofmoreaulake.org/event/wiggly-wanderers/2025-08-29/
END:VEVENT
END:VCALENDAR