BEGIN:VCALENDAR
VERSION:2.0
PRODID:-//Friends of Moreau Lake State Park, Inc. - ECPv6.15.20//NONSGML v1.0//EN
CALSCALE:GREGORIAN
METHOD:PUBLISH
X-WR-CALNAME:Friends of Moreau Lake State Park, Inc.
X-ORIGINAL-URL:https://friendsofmoreaulake.org
X-WR-CALDESC:Events for Friends of Moreau Lake State Park, Inc.
REFRESH-INTERVAL;VALUE=DURATION:PT1H
X-Robots-Tag:noindex
X-PUBLISHED-TTL:PT1H
BEGIN:VTIMEZONE
TZID:America/New_York
BEGIN:DAYLIGHT
TZOFFSETFROM:-0500
TZOFFSETTO:-0400
TZNAME:EDT
DTSTART:20240310T070000
END:DAYLIGHT
BEGIN:STANDARD
TZOFFSETFROM:-0400
TZOFFSETTO:-0500
TZNAME:EST
DTSTART:20241103T060000
END:STANDARD
BEGIN:DAYLIGHT
TZOFFSETFROM:-0500
TZOFFSETTO:-0400
TZNAME:EDT
DTSTART:20250309T070000
END:DAYLIGHT
BEGIN:STANDARD
TZOFFSETFROM:-0400
TZOFFSETTO:-0500
TZNAME:EST
DTSTART:20251102T060000
END:STANDARD
BEGIN:DAYLIGHT
TZOFFSETFROM:-0500
TZOFFSETTO:-0400
TZNAME:EDT
DTSTART:20260308T070000
END:DAYLIGHT
BEGIN:STANDARD
TZOFFSETFROM:-0400
TZOFFSETTO:-0500
TZNAME:EST
DTSTART:20261101T060000
END:STANDARD
END:VTIMEZONE
BEGIN:VEVENT
DTSTART;TZID=America/New_York:20250221T110000
DTEND;TZID=America/New_York:20250221T123000
DTSTAMP:20260420T030743
CREATED:20250128T152506Z
LAST-MODIFIED:20250128T152506Z
UID:10014950-1740135600-1740141000@friendsofmoreaulake.org
SUMMARY:All About Snow and Snow Sculpting
DESCRIPTION:Ever wonder how snowflakes form? Why some snow is great for packing and some snow is dry and dusty? Join our nature center employees for a presentation on snow! After we know all there is to know about snow\, we will go outside and (weather permitting) make snow sculptures! If there is no snow to sculpt with\, we will draw plans for our next snowy day. Please reserve your spot 24-hours in advance by calling the office at 518-793-0511.
URL:https://friendsofmoreaulake.org/event/all-about-snow-and-snow-sculpting/
END:VEVENT
BEGIN:VEVENT
DTSTART;TZID=America/New_York:20250221T100000
DTEND;TZID=America/New_York:20250221T150000
DTSTAMP:20260420T030743
CREATED:20240819T134703Z
LAST-MODIFIED:20240820T140435Z
UID:10012587-1740132000-1740150000@friendsofmoreaulake.org
SUMMARY:Nature Center Open Weekends
DESCRIPTION:
URL:https://friendsofmoreaulake.org/event/nature-center-open-3/2025-02-21/
END:VEVENT
BEGIN:VEVENT
DTSTART;TZID=America/New_York:20250219T130000
DTEND;TZID=America/New_York:20250219T150000
DTSTAMP:20260420T030743
CREATED:20250128T152255Z
LAST-MODIFIED:20250128T152255Z
UID:10014949-1739970000-1739977200@friendsofmoreaulake.org
SUMMARY:Guided Hike: Reading the Landscape
DESCRIPTION:Join an educator on a start and stop hike for a couple miles to investigate the forested landscape. Learning from Tom Wessels’ books and videos on understanding the history\, human activity\, and natural events like storms and fires and how it formed the physical forest around us. This program is free and geared toward 13+.
URL:https://friendsofmoreaulake.org/event/guided-hike-reading-the-landscape/
END:VEVENT
BEGIN:VEVENT
DTSTART;TZID=America/New_York:20250219T110000
DTEND;TZID=America/New_York:20250219T130000
DTSTAMP:20260420T030743
CREATED:20250128T152118Z
LAST-MODIFIED:20250128T152151Z
UID:10014948-1739962800-1739970000@friendsofmoreaulake.org
SUMMARY:Friends Craft at the Nature Center
DESCRIPTION:The friends will be at the nature center making a couple different crafts\, celebrating the Chinese New Year with a snake craft\, a snow globe\, and coffee cup suet feeders. “The Year of the Snake in the Chinese zodiac is a time for transformation\, self-improvement\, and embracing new possibilities.” Please register 24 hours in advance at 518-793-0511.
URL:https://friendsofmoreaulake.org/event/friends-craft-at-the-nature-center/
END:VEVENT
BEGIN:VEVENT
DTSTART;TZID=America/New_York:20250218T090000
DTEND;TZID=America/New_York:20250218T120000
DTSTAMP:20260420T030743
CREATED:20240227T133208Z
LAST-MODIFIED:20250128T151958Z
UID:10014947-1739869200-1739880000@friendsofmoreaulake.org
SUMMARY:Eagle Watch
DESCRIPTION:Join a Park Educator on a convoy-style journey along the Hudson River to try to spot our local Bald Eagles. We will be getting in and out of vehicles at a few locations and\, with a little luck\, viewing the eagles through binoculars and a scope so make sure to bring your hat and gloves! If you have binoculars bring them\, we do have a couple of pair to pass around as well. To reserve your spot call 518-793-0511.
URL:https://friendsofmoreaulake.org/event/eagle-watch-2/2025-02-18/
END:VEVENT
BEGIN:VEVENT
DTSTART;TZID=America/New_York:20250217T140000
DTEND;TZID=America/New_York:20250217T160000
DTSTAMP:20260420T030743
CREATED:20250128T154036Z
LAST-MODIFIED:20250128T154036Z
UID:10014961-1739800800-1739808000@friendsofmoreaulake.org
SUMMARY:Reptile Profile
DESCRIPTION:Join an educator in the nature center to meet our resident reptiles! We at Moreau take care of six New York native turtles and two snakes that cannot be released into the wild and are wonderful little educators. Learn about their exciting lives\, what they like to eat\, and what they use for shell-ter at the Nature Center. This program is for all ages. Please reserve your spot 24-hours in advance by calling the office at 518-793-0511.
URL:https://friendsofmoreaulake.org/event/reptile-profile-9/
END:VEVENT
BEGIN:VEVENT
DTSTART;TZID=America/New_York:20250216T120000
DTEND;TZID=America/New_York:20250216T140000
DTSTAMP:20260420T030743
CREATED:20250128T153734Z
LAST-MODIFIED:20250128T153734Z
UID:10014960-1739707200-1739714400@friendsofmoreaulake.org
SUMMARY:Kid's Ice Fishing Clinic\, Two Sessions
DESCRIPTION:Come to the boat launch to learn how to ice fish\, what kind of fish are in our lake and a little about ice safety. This program is free and weather permitting. There will be two separate sessions: 10am-12pm and 12pm-2pm with a limit of 25 kids per session. Call the park office to register 518-793-0511\, space is limited!
URL:https://friendsofmoreaulake.org/event/kids-ice-fishing-clinic-two-sessions/2025-02-16/2/
END:VEVENT
BEGIN:VEVENT
DTSTART;TZID=America/New_York:20250216T100000
DTEND;TZID=America/New_York:20250216T150000
DTSTAMP:20260420T030743
CREATED:20240819T134703Z
LAST-MODIFIED:20240820T140435Z
UID:10012586-1739700000-1739718000@friendsofmoreaulake.org
SUMMARY:Nature Center Open Weekends
DESCRIPTION:
URL:https://friendsofmoreaulake.org/event/nature-center-open-3/2025-02-16/
END:VEVENT
BEGIN:VEVENT
DTSTART;TZID=America/New_York:20250216T100000
DTEND;TZID=America/New_York:20250216T120000
DTSTAMP:20260420T030743
CREATED:20250128T153734Z
LAST-MODIFIED:20250128T153734Z
UID:10014959-1739700000-1739707200@friendsofmoreaulake.org
SUMMARY:Kid's Ice Fishing Clinic\, Two Sessions
DESCRIPTION:Come to the boat launch to learn how to ice fish\, what kind of fish are in our lake and a little about ice safety. This program is free and weather permitting. There will be two separate sessions: 10am-12pm and 12pm-2pm with a limit of 25 kids per session. Call the park office to register 518-793-0511\, space is limited!
URL:https://friendsofmoreaulake.org/event/kids-ice-fishing-clinic-two-sessions/2025-02-16/1/
END:VEVENT
BEGIN:VEVENT
DTSTART;TZID=America/New_York:20250215T120000
DTEND;TZID=America/New_York:20250215T140000
DTSTAMP:20260420T030743
CREATED:20250128T153557Z
LAST-MODIFIED:20250128T153557Z
UID:10014958-1739620800-1739628000@friendsofmoreaulake.org
SUMMARY:Nature Gratitude Journal
DESCRIPTION:Maintaining a grateful mindset promotes emotional strength and well-being\, and luckily for us\, this planet gives us plenty to appreciate! Come to the Nature Center to build your own journal\, go for a guided nature-centric gratitude journaling session\, and walk (weather permitting). This is a free program geared toward ages 13+ but all are welcome. Please register 24-hours in advance by calling 518-793-0511.
URL:https://friendsofmoreaulake.org/event/nature-gratitude-journal/
END:VEVENT
BEGIN:VEVENT
DTSTART;TZID=America/New_York:20250215T100000
DTEND;TZID=America/New_York:20250215T150000
DTSTAMP:20260420T030743
CREATED:20240819T134703Z
LAST-MODIFIED:20240820T140435Z
UID:10012585-1739613600-1739631600@friendsofmoreaulake.org
SUMMARY:Nature Center Open Weekends
DESCRIPTION:
URL:https://friendsofmoreaulake.org/event/nature-center-open-3/2025-02-15/
END:VEVENT
BEGIN:VEVENT
DTSTART;TZID=America/New_York:20250215T100000
DTEND;TZID=America/New_York:20250215T120000
DTSTAMP:20260420T030743
CREATED:20250128T151018Z
LAST-MODIFIED:20260130T202604Z
UID:10014936-1739613600-1739620800@friendsofmoreaulake.org
SUMMARY:Therapy Dog at the Warming Hut
DESCRIPTION:Stop by the warming hut to meet a volunteer therapy dog! Bryn is a 19-month-old dog who has been training to be a therapy dog since she was 4 months old. She has been helping people feel welcome all over Saratoga and Washington county and would love to see you too!
URL:https://friendsofmoreaulake.org/event/therapy-dog-at-the-warming-hut/2025-02-15/
END:VEVENT
BEGIN:VEVENT
DTSTART;TZID=America/New_York:20250214T180000
DTEND;TZID=America/New_York:20250214T200000
DTSTAMP:20260420T030743
CREATED:20250128T153516Z
LAST-MODIFIED:20250128T153516Z
UID:10014957-1739556000-1739563200@friendsofmoreaulake.org
SUMMARY:Luminary Walk
DESCRIPTION:Join us at the park for an illuminated walk down to the beach\, the observatory will be open to look at the night sky and there will be a craft to make a heart lantern at the Warming Hut along with treats and hot chocolate\, bring your own mug if you can! This is a free event for all ages. No registration required.
URL:https://friendsofmoreaulake.org/event/luminary-walk/
END:VEVENT
BEGIN:VEVENT
DTSTART;TZID=America/New_York:20250214T100000
DTEND;TZID=America/New_York:20250214T150000
DTSTAMP:20260420T030743
CREATED:20240819T134703Z
LAST-MODIFIED:20240820T140435Z
UID:10012584-1739527200-1739545200@friendsofmoreaulake.org
SUMMARY:Nature Center Open Weekends
DESCRIPTION:
URL:https://friendsofmoreaulake.org/event/nature-center-open-3/2025-02-14/
END:VEVENT
BEGIN:VEVENT
DTSTART;TZID=America/New_York:20250213T100000
DTEND;TZID=America/New_York:20250213T120000
DTSTAMP:20260420T030743
CREATED:20250128T153425Z
LAST-MODIFIED:20250128T153425Z
UID:10014956-1739440800-1739448000@friendsofmoreaulake.org
SUMMARY:Homeschool: Animal Adaptations
DESCRIPTION:Join an educator at the Nature Center to about all the interesting ways animals have adapted physically or behaviorally to survive in their environment. This program is geared toward homeschool students ages 6-12 years old\, but all are welcome. Please register in advance by calling 518-793-0511.
URL:https://friendsofmoreaulake.org/event/homeschool-animal-adaptations/
END:VEVENT
BEGIN:VEVENT
DTSTART;TZID=America/New_York:20250212T173000
DTEND;TZID=America/New_York:20250212T200000
DTSTAMP:20260420T030743
CREATED:20250128T153349Z
LAST-MODIFIED:20250128T153349Z
UID:10014955-1739381400-1739390400@friendsofmoreaulake.org
SUMMARY:Full Moon Hike at Big Bend
DESCRIPTION:Join a park educator on a beginner hike and if the clouds cooperate\, we’ll get to enjoy the splendor of the full “Snow Moon” rising above the mountains! This hike is free and is family friendly and well-behaved dogs on a 6 foot or shorter leash are welcome. To reserve your spot call 518-793-0511 the earlier the better as this is a popular program and it fills up quickly.
URL:https://friendsofmoreaulake.org/event/full-moon-hike-at-big-bend-4/
END:VEVENT
BEGIN:VEVENT
DTSTART;TZID=America/New_York:20250212T090000
DTEND;TZID=America/New_York:20250212T120000
DTSTAMP:20260420T030743
CREATED:20240227T133208Z
LAST-MODIFIED:20250128T151958Z
UID:10014946-1739350800-1739361600@friendsofmoreaulake.org
SUMMARY:Eagle Watch
DESCRIPTION:Join a Park Educator on a convoy-style journey along the Hudson River to try to spot our local Bald Eagles. We will be getting in and out of vehicles at a few locations and\, with a little luck\, viewing the eagles through binoculars and a scope so make sure to bring your hat and gloves! If you have binoculars bring them\, we do have a couple of pair to pass around as well. To reserve your spot call 518-793-0511.
URL:https://friendsofmoreaulake.org/event/eagle-watch-2/2025-02-12/
END:VEVENT
BEGIN:VEVENT
DTSTART;TZID=America/New_York:20250211T100000
DTEND;TZID=America/New_York:20250211T130000
DTSTAMP:20260420T030743
CREATED:20250128T151802Z
LAST-MODIFIED:20250128T151802Z
UID:10014945-1739268000-1739278800@friendsofmoreaulake.org
SUMMARY:Baker to Moreau Overlook Hike
DESCRIPTION:Join an educator on a moderate-hard 2.5 mile hike from Baker Trail to Moreau Overlook with a beautiful view of our lake from above. Please wear the appropriate attire for the weather with sunscreen\, and water-resistant hiking shoes. We have micro spikes and snowshoes to borrow. Bring a snack and plenty of water. We will meet at the park office and caravan to the trailhead. This hike is free and for people 13+. Please register in advance by calling the office at 518-793-0511.
URL:https://friendsofmoreaulake.org/event/baker-to-moreau-overlook-hike/
END:VEVENT
BEGIN:VEVENT
DTSTART;TZID=America/New_York:20250209T110000
DTEND;TZID=America/New_York:20250209T123000
DTSTAMP:20260420T030743
CREATED:20250128T151718Z
LAST-MODIFIED:20250128T151718Z
UID:10014944-1739098800-1739104200@friendsofmoreaulake.org
SUMMARY:All About Muskrats
DESCRIPTION:Come to the Nature Center for a muskrat presentation to discuss their habitats\, diets\, and behaviors. Did you know that these great swimmers can hold their breath underwater for about 20 minutes?! Geared toward ages 6+. Please reserve your spot in advance by calling the office at 518-793-0511.
URL:https://friendsofmoreaulake.org/event/all-about-muskrats/
END:VEVENT
BEGIN:VEVENT
DTSTART;TZID=America/New_York:20250209T100000
DTEND;TZID=America/New_York:20250209T150000
DTSTAMP:20260420T030743
CREATED:20240819T134703Z
LAST-MODIFIED:20240820T140435Z
UID:10012583-1739095200-1739113200@friendsofmoreaulake.org
SUMMARY:Nature Center Open Weekends
DESCRIPTION:
URL:https://friendsofmoreaulake.org/event/nature-center-open-3/2025-02-09/
END:VEVENT
BEGIN:VEVENT
DTSTART;TZID=America/New_York:20250208T100000
DTEND;TZID=America/New_York:20250208T150000
DTSTAMP:20260420T030743
CREATED:20240819T134703Z
LAST-MODIFIED:20240820T140435Z
UID:10012582-1739008800-1739026800@friendsofmoreaulake.org
SUMMARY:Nature Center Open Weekends
DESCRIPTION:
URL:https://friendsofmoreaulake.org/event/nature-center-open-3/2025-02-08/
END:VEVENT
BEGIN:VEVENT
DTSTART;TZID=America/New_York:20250208T100000
DTEND;TZID=America/New_York:20250208T140000
DTSTAMP:20260420T030743
CREATED:20250128T151335Z
LAST-MODIFIED:20250128T151335Z
UID:10014941-1739008800-1739023200@friendsofmoreaulake.org
SUMMARY:Making a heart lantern
DESCRIPTION:Stop by the Nature Center any time to join an educator in using harvested invasive plants to create a small heart shaped lantern to carry on our Valentine’s Day luminary walk! This is a free program for all ages and all supplies provided. Please reserve your spot in advance by calling the office at 518-793-0511.
URL:https://friendsofmoreaulake.org/event/making-a-heart-lantern/
END:VEVENT
BEGIN:VEVENT
DTSTART;TZID=America/New_York:20250208T100000
DTEND;TZID=America/New_York:20250208T120000
DTSTAMP:20260420T030743
CREATED:20250128T151018Z
LAST-MODIFIED:20260130T202604Z
UID:10014935-1739008800-1739016000@friendsofmoreaulake.org
SUMMARY:Therapy Dog at the Warming Hut
DESCRIPTION:Stop by the warming hut to meet a volunteer therapy dog! Bryn is a 19-month-old dog who has been training to be a therapy dog since she was 4 months old. She has been helping people feel welcome all over Saratoga and Washington county and would love to see you too!
URL:https://friendsofmoreaulake.org/event/therapy-dog-at-the-warming-hut/2025-02-08/
END:VEVENT
BEGIN:VEVENT
DTSTART;TZID=America/New_York:20250207T100000
DTEND;TZID=America/New_York:20250207T150000
DTSTAMP:20260420T030743
CREATED:20240819T134703Z
LAST-MODIFIED:20240820T140435Z
UID:10012581-1738922400-1738940400@friendsofmoreaulake.org
SUMMARY:Nature Center Open Weekends
DESCRIPTION:
URL:https://friendsofmoreaulake.org/event/nature-center-open-3/2025-02-07/
END:VEVENT
BEGIN:VEVENT
DTSTART;TZID=America/New_York:20250202T110000
DTEND;TZID=America/New_York:20250202T120000
DTSTAMP:20260420T030743
CREATED:20250128T151110Z
LAST-MODIFIED:20250128T151110Z
UID:10014937-1738494000-1738497600@friendsofmoreaulake.org
SUMMARY:Groundhog Day Celebration
DESCRIPTION:Come to the Nature Center to learn fun facts about nature’s “meteorologists” the groundhog! We will watch a video\, read a picture book\, and make our own groundhog masks. This program is geared toward ages 6-12\, but all are welcome to stop by any time and learn about groundhogs and make a mask! Please reserve your spot in advance by calling the office at 518-793-0511.
URL:https://friendsofmoreaulake.org/event/groundhog-day-celebration/
END:VEVENT
BEGIN:VEVENT
DTSTART;TZID=America/New_York:20250202T100000
DTEND;TZID=America/New_York:20250202T150000
DTSTAMP:20260420T030743
CREATED:20240819T134703Z
LAST-MODIFIED:20240820T140435Z
UID:10012580-1738490400-1738508400@friendsofmoreaulake.org
SUMMARY:Nature Center Open Weekends
DESCRIPTION:
URL:https://friendsofmoreaulake.org/event/nature-center-open-3/2025-02-02/
END:VEVENT
BEGIN:VEVENT
DTSTART;TZID=America/New_York:20250201T100000
DTEND;TZID=America/New_York:20250201T150000
DTSTAMP:20260420T030743
CREATED:20240819T134703Z
LAST-MODIFIED:20240820T140435Z
UID:10012579-1738404000-1738422000@friendsofmoreaulake.org
SUMMARY:Nature Center Open Weekends
DESCRIPTION:
URL:https://friendsofmoreaulake.org/event/nature-center-open-3/2025-02-01/
END:VEVENT
BEGIN:VEVENT
DTSTART;TZID=America/New_York:20250201T100000
DTEND;TZID=America/New_York:20250201T120000
DTSTAMP:20260420T030743
CREATED:20250128T151018Z
LAST-MODIFIED:20260130T202604Z
UID:10014934-1738404000-1738411200@friendsofmoreaulake.org
SUMMARY:Therapy Dog at the Warming Hut
DESCRIPTION:Stop by the warming hut to meet a volunteer therapy dog! Bryn is a 19-month-old dog who has been training to be a therapy dog since she was 4 months old. She has been helping people feel welcome all over Saratoga and Washington county and would love to see you too!
URL:https://friendsofmoreaulake.org/event/therapy-dog-at-the-warming-hut/2025-02-01/
END:VEVENT
BEGIN:VEVENT
DTSTART;TZID=America/New_York:20250131T100000
DTEND;TZID=America/New_York:20250131T150000
DTSTAMP:20260420T030743
CREATED:20240819T134703Z
LAST-MODIFIED:20240820T140435Z
UID:10012578-1738317600-1738335600@friendsofmoreaulake.org
SUMMARY:Nature Center Open Weekends
DESCRIPTION:
URL:https://friendsofmoreaulake.org/event/nature-center-open-3/2025-01-31/
END:VEVENT
BEGIN:VEVENT
DTSTART;TZID=America/New_York:20250127T173000
DTEND;TZID=America/New_York:20250127T190000
DTSTAMP:20260420T030743
CREATED:20241223T143601Z
LAST-MODIFIED:20241223T143601Z
UID:10013421-1737999000-1738004400@friendsofmoreaulake.org
SUMMARY:New Moon at the Observatory
DESCRIPTION:Come to the beach to take a view at the dark sky with our telescope. We have a volunteer astronomer to teach us about the stars! If you have a telescope at home that you need help troubleshooting\, the astronomer is welcoming people to bring there’s if they have any questions. This program is free. Please register in advance by calling 518-793-0511.
URL:https://friendsofmoreaulake.org/event/new-moon-at-the-observatory-2/
END:VEVENT
END:VCALENDAR