BEGIN:VCALENDAR
VERSION:2.0
PRODID:-//Friends of Moreau Lake State Park, Inc. - ECPv6.15.20//NONSGML v1.0//EN
CALSCALE:GREGORIAN
METHOD:PUBLISH
X-WR-CALNAME:Friends of Moreau Lake State Park, Inc.
X-ORIGINAL-URL:https://friendsofmoreaulake.org
X-WR-CALDESC:Events for Friends of Moreau Lake State Park, Inc.
REFRESH-INTERVAL;VALUE=DURATION:PT1H
X-Robots-Tag:noindex
X-PUBLISHED-TTL:PT1H
BEGIN:VTIMEZONE
TZID:America/New_York
BEGIN:DAYLIGHT
TZOFFSETFROM:-0500
TZOFFSETTO:-0400
TZNAME:EDT
DTSTART:20230312T070000
END:DAYLIGHT
BEGIN:STANDARD
TZOFFSETFROM:-0400
TZOFFSETTO:-0500
TZNAME:EST
DTSTART:20231105T060000
END:STANDARD
BEGIN:DAYLIGHT
TZOFFSETFROM:-0500
TZOFFSETTO:-0400
TZNAME:EDT
DTSTART:20240310T070000
END:DAYLIGHT
BEGIN:STANDARD
TZOFFSETFROM:-0400
TZOFFSETTO:-0500
TZNAME:EST
DTSTART:20241103T060000
END:STANDARD
BEGIN:DAYLIGHT
TZOFFSETFROM:-0500
TZOFFSETTO:-0400
TZNAME:EDT
DTSTART:20250309T070000
END:DAYLIGHT
BEGIN:STANDARD
TZOFFSETFROM:-0400
TZOFFSETTO:-0500
TZNAME:EST
DTSTART:20251102T060000
END:STANDARD
END:VTIMEZONE
BEGIN:VEVENT
DTSTART;TZID=America/New_York:20241212T100000
DTEND;TZID=America/New_York:20241212T110000
DTSTAMP:20260420T074106
CREATED:20241201T155146Z
LAST-MODIFIED:20241201T155146Z
UID:10013247-1733997600-1734001200@friendsofmoreaulake.org
SUMMARY:Homeschool Pop-Up: Evergreens
DESCRIPTION:Join an educator at the Nature Center to learn about the wonderful world of our Evergreen Trees in New York State. This program is geared toward homeschool students ages 6-12 years old\, but all are welcome. $1 per child when you arrive (cash or check). Please register in advance by calling 518-793-0511.
URL:https://friendsofmoreaulake.org/event/homeschool-pop-up-evergreens/
END:VEVENT
BEGIN:VEVENT
DTSTART;TZID=America/New_York:20241209T100000
DTEND;TZID=America/New_York:20241209T120000
DTSTAMP:20260420T074106
CREATED:20241201T155001Z
LAST-MODIFIED:20241201T155001Z
UID:10013245-1733738400-1733745600@friendsofmoreaulake.org
SUMMARY:Baker to Moreau Overlook
DESCRIPTION:Join an educator on a moderate-hard 2.5 mile hike from Baker Trail to Moreau Overlook with a beautiful view of our lake from above. Please wear the appropriate attire for the weather with sunscreen\, bug spray and water-resistant hiking shoes. Bring a snack and plenty of water. We will meet at the park office and caravan to the trailhead. This hike is for people 13+. The cost is $5 for 18+ (cash or check). Please register in advance by calling the office at 518-793-0511.
URL:https://friendsofmoreaulake.org/event/baker-to-moreau-overlook-5/
END:VEVENT
BEGIN:VEVENT
DTSTART;TZID=America/New_York:20241208T100000
DTEND;TZID=America/New_York:20241208T150000
DTSTAMP:20260420T074106
CREATED:20240819T134703Z
LAST-MODIFIED:20240820T140435Z
UID:10012556-1733652000-1733670000@friendsofmoreaulake.org
SUMMARY:Nature Center Open Weekends
DESCRIPTION:
URL:https://friendsofmoreaulake.org/event/nature-center-open-3/2024-12-08/
END:VEVENT
BEGIN:VEVENT
DTSTART;TZID=America/New_York:20241207T100000
DTEND;TZID=America/New_York:20241207T150000
DTSTAMP:20260420T074106
CREATED:20240819T134703Z
LAST-MODIFIED:20240820T140435Z
UID:10012555-1733565600-1733583600@friendsofmoreaulake.org
SUMMARY:Nature Center Open Weekends
DESCRIPTION:
URL:https://friendsofmoreaulake.org/event/nature-center-open-3/2024-12-07/
END:VEVENT
BEGIN:VEVENT
DTSTART;TZID=America/New_York:20241207T100000
DTEND;TZID=America/New_York:20241207T120000
DTSTAMP:20260420T074106
CREATED:20241201T154656Z
LAST-MODIFIED:20241201T154656Z
UID:10013242-1733565600-1733572800@friendsofmoreaulake.org
SUMMARY:Friends Kid's Crafts
DESCRIPTION:
URL:https://friendsofmoreaulake.org/event/friends-kids-crafts-2/
END:VEVENT
BEGIN:VEVENT
DTSTART;TZID=America/New_York:20241206T120000
DTEND;TZID=America/New_York:20241206T130000
DTSTAMP:20260420T074106
CREATED:20241201T154606Z
LAST-MODIFIED:20241201T154606Z
UID:10013241-1733486400-1733490000@friendsofmoreaulake.org
SUMMARY:Campaign Sign Bird/Bat Houses
DESCRIPTION:There’s a big bump in plastic waste after the election! This post-election season bring in your signs and join a nature center employee in upcycling them to give birds and bats a home. We will provide instruction and art supplies for house customization. Open to All Ages. No Registration required for this event.
URL:https://friendsofmoreaulake.org/event/campaign-sign-bird-bat-houses/
END:VEVENT
BEGIN:VEVENT
DTSTART;TZID=America/New_York:20241206T100000
DTEND;TZID=America/New_York:20241206T150000
DTSTAMP:20260420T074106
CREATED:20240819T134703Z
LAST-MODIFIED:20240820T140435Z
UID:10012554-1733479200-1733497200@friendsofmoreaulake.org
SUMMARY:Nature Center Open Weekends
DESCRIPTION:
URL:https://friendsofmoreaulake.org/event/nature-center-open-3/2024-12-06/
END:VEVENT
BEGIN:VEVENT
DTSTART;TZID=America/New_York:20241204T180000
DTEND;TZID=America/New_York:20241204T200000
DTSTAMP:20260420T074106
CREATED:20241201T154331Z
LAST-MODIFIED:20241201T154331Z
UID:10013236-1733335200-1733342400@friendsofmoreaulake.org
SUMMARY:New Moon - Observatory
DESCRIPTION:Come to the beach to take a view at the dark sky with our telescope. We have a volunteer astronomer to teach us about the stars! If you have a telescope at home that you need help troubleshooting\, the astronomer is welcoming people to bring there’s if they have any questions. The program is for all ages $1/ child and $5/ adult. Please register in advance by calling 518-793-0511.
URL:https://friendsofmoreaulake.org/event/new-moon-observatory/
END:VEVENT
BEGIN:VEVENT
DTSTART;TZID=America/New_York:20241202T100000
DTEND;TZID=America/New_York:20241202T120000
DTSTAMP:20260420T074106
CREATED:20241201T154249Z
LAST-MODIFIED:20241201T154249Z
UID:10013235-1733133600-1733140800@friendsofmoreaulake.org
SUMMARY:Mud Pond Hike
DESCRIPTION:Join an Educator on a beginner 2.1 mile hike from Nature Trail to Mud Pond where we will see some beaver lodges\, maybe some water fowl\, and lots of Hemlock trees. Please wear the appropriate attire for the weather- sunscreen\, bug spray and water-resistant hiking shoes. Bring a snack and plenty of water. This can be for all ages\, but be aware of the distance\, the up and down terrain and weather. The cost is $5 for adults and $1 for kids (cash or check). Please reserve your spot 24-hours in advance by calling the office at 518-793-0511.
URL:https://friendsofmoreaulake.org/event/mud-pond-hike-7/
END:VEVENT
BEGIN:VEVENT
DTSTART;TZID=America/New_York:20241201T100000
DTEND;TZID=America/New_York:20241201T150000
DTSTAMP:20260420T074106
CREATED:20240819T134703Z
LAST-MODIFIED:20240820T140435Z
UID:10012553-1733047200-1733065200@friendsofmoreaulake.org
SUMMARY:Nature Center Open Weekends
DESCRIPTION:
URL:https://friendsofmoreaulake.org/event/nature-center-open-3/2024-12-01/
END:VEVENT
BEGIN:VEVENT
DTSTART;TZID=America/New_York:20241130T130000
DTEND;TZID=America/New_York:20241130T150000
DTSTAMP:20260420T074106
CREATED:20241118T170615Z
LAST-MODIFIED:20241118T170615Z
UID:10013196-1732971600-1732978800@friendsofmoreaulake.org
SUMMARY:Holiday Wreath Making
DESCRIPTION:
URL:https://friendsofmoreaulake.org/event/holiday-wreath-making/2024-11-30/2/
END:VEVENT
BEGIN:VEVENT
DTSTART;TZID=America/New_York:20241130T100000
DTEND;TZID=America/New_York:20241130T150000
DTSTAMP:20260420T074106
CREATED:20241031T160001Z
LAST-MODIFIED:20241031T160001Z
UID:10013112-1732960800-1732978800@friendsofmoreaulake.org
SUMMARY:The Friends Annual Wreath Making
DESCRIPTION:The annual wreath making with the Friends of Moreau Lake State Park is finally here! There are limited spots available\, but two sessions so please register on the Friends website www.friendsofmoreaulake.org. \nThe RSVP will be open within two weeks!
URL:https://friendsofmoreaulake.org/event/the-friends-annual-wreath-making/
END:VEVENT
BEGIN:VEVENT
DTSTART;TZID=America/New_York:20241130T100000
DTEND;TZID=America/New_York:20241130T150000
DTSTAMP:20260420T074106
CREATED:20240819T134703Z
LAST-MODIFIED:20240820T140435Z
UID:10012552-1732960800-1732978800@friendsofmoreaulake.org
SUMMARY:Nature Center Open Weekends
DESCRIPTION:
URL:https://friendsofmoreaulake.org/event/nature-center-open-3/2024-11-30/
END:VEVENT
BEGIN:VEVENT
DTSTART;TZID=America/New_York:20241130T100000
DTEND;TZID=America/New_York:20241130T120000
DTSTAMP:20260420T074106
CREATED:20241118T170615Z
LAST-MODIFIED:20241118T170615Z
UID:10013195-1732960800-1732968000@friendsofmoreaulake.org
SUMMARY:Holiday Wreath Making
DESCRIPTION:
URL:https://friendsofmoreaulake.org/event/holiday-wreath-making/2024-11-30/1/
END:VEVENT
BEGIN:VEVENT
DTSTART;TZID=America/New_York:20241129T113000
DTEND;TZID=America/New_York:20241129T150000
DTSTAMP:20260420T074106
CREATED:20241031T155755Z
LAST-MODIFIED:20241031T155755Z
UID:10013111-1732879800-1732892400@friendsofmoreaulake.org
SUMMARY:DIY Holiday Decor
DESCRIPTION:Come to the Nature Center to make your own holiday décor! +. Program is $5 per adult\, $1 for under 18 (cash or check). Please reserve your spot 24-hours in advance by calling the office at 518-793-0511.
URL:https://friendsofmoreaulake.org/event/diy-holiday-decor/
END:VEVENT
BEGIN:VEVENT
DTSTART;TZID=America/New_York:20241129T100000
DTEND;TZID=America/New_York:20241129T150000
DTSTAMP:20260420T074106
CREATED:20240819T134703Z
LAST-MODIFIED:20240820T140435Z
UID:10012551-1732874400-1732892400@friendsofmoreaulake.org
SUMMARY:Nature Center Open Weekends
DESCRIPTION:
URL:https://friendsofmoreaulake.org/event/nature-center-open-3/2024-11-29/
END:VEVENT
BEGIN:VEVENT
DTSTART;TZID=America/New_York:20241125T100000
DTEND;TZID=America/New_York:20241125T120000
DTSTAMP:20260420T074106
CREATED:20241031T155637Z
LAST-MODIFIED:20241031T155659Z
UID:10013110-1732528800-1732536000@friendsofmoreaulake.org
SUMMARY:Beaver Hike
DESCRIPTION:Join a park educator on a 2 mile walk around the back pond and mud pond to talk about our resident beavers and see their dwellings. Learn about their lifestyles and habitat. Wear appropriate clothing and hiking shoes. Appropriate for all ages. Program is $5 per adult\, $1 for under 18 (cash or check). Please reserve your spot 24-hours in advance by calling the office at 518-793-0511.
URL:https://friendsofmoreaulake.org/event/beaver-hike/
END:VEVENT
BEGIN:VEVENT
DTSTART;TZID=America/New_York:20241124T100000
DTEND;TZID=America/New_York:20241124T150000
DTSTAMP:20260420T074106
CREATED:20240819T134703Z
LAST-MODIFIED:20240820T140435Z
UID:10012550-1732442400-1732460400@friendsofmoreaulake.org
SUMMARY:Nature Center Open Weekends
DESCRIPTION:
URL:https://friendsofmoreaulake.org/event/nature-center-open-3/2024-11-24/
END:VEVENT
BEGIN:VEVENT
DTSTART;TZID=America/New_York:20241123T100000
DTEND;TZID=America/New_York:20241123T150000
DTSTAMP:20260420T074106
CREATED:20240819T134703Z
LAST-MODIFIED:20240820T140435Z
UID:10012549-1732356000-1732374000@friendsofmoreaulake.org
SUMMARY:Nature Center Open Weekends
DESCRIPTION:
URL:https://friendsofmoreaulake.org/event/nature-center-open-3/2024-11-23/
END:VEVENT
BEGIN:VEVENT
DTSTART;TZID=America/New_York:20241123T100000
DTEND;TZID=America/New_York:20241123T120000
DTSTAMP:20260420T074106
CREATED:20241031T155239Z
LAST-MODIFIED:20241031T155239Z
UID:10013108-1732356000-1732363200@friendsofmoreaulake.org
SUMMARY:Winter Birding
DESCRIPTION:Calling all beginner birders! Let’s get acquainted with our winter birds! Winter is the best time to start birding as there are fewer birds to learn their calls and easier to spot against the snow and bare branches. Program is for all ages. $5 per adult\, $1 for under 18 (cash or check). Please reserve your spot 24-hours in advance by calling the office at 518-793-0511.
URL:https://friendsofmoreaulake.org/event/winter-birding/
END:VEVENT
BEGIN:VEVENT
DTSTART;TZID=America/New_York:20241122T100000
DTEND;TZID=America/New_York:20241122T150000
DTSTAMP:20260420T074106
CREATED:20240819T134703Z
LAST-MODIFIED:20240820T140435Z
UID:10012548-1732269600-1732287600@friendsofmoreaulake.org
SUMMARY:Nature Center Open Weekends
DESCRIPTION:
URL:https://friendsofmoreaulake.org/event/nature-center-open-3/2024-11-22/
END:VEVENT
BEGIN:VEVENT
DTSTART;TZID=America/New_York:20241117T110000
DTEND;TZID=America/New_York:20241117T130000
DTSTAMP:20260420T074106
CREATED:20241031T155100Z
LAST-MODIFIED:20241031T155100Z
UID:10013106-1731841200-1731848400@friendsofmoreaulake.org
SUMMARY:Mud Pond Hike
DESCRIPTION:Join an Educator on a beginner 2.1 mile hike from Nature Trail to Mud Pond. We might just see some beaver lodges. Please wear the appropriate attire for the weather- sunscreen\, bug spray and water-resistant hiking shoes. Bring a snack and plenty of water. The cost is $5 for adults (cash or check). Please reserve your spot 24-hours in advance by calling the office at 518-793-0511.
URL:https://friendsofmoreaulake.org/event/mud-pond-hike-6/
END:VEVENT
BEGIN:VEVENT
DTSTART;TZID=America/New_York:20241117T100000
DTEND;TZID=America/New_York:20241117T150000
DTSTAMP:20260420T074106
CREATED:20240819T134703Z
LAST-MODIFIED:20240820T140435Z
UID:10012547-1731837600-1731855600@friendsofmoreaulake.org
SUMMARY:Nature Center Open Weekends
DESCRIPTION:
URL:https://friendsofmoreaulake.org/event/nature-center-open-3/2024-11-17/
END:VEVENT
BEGIN:VEVENT
DTSTART;TZID=America/New_York:20241116T100000
DTEND;TZID=America/New_York:20241116T150000
DTSTAMP:20260420T074106
CREATED:20240819T134703Z
LAST-MODIFIED:20240820T140435Z
UID:10012546-1731751200-1731769200@friendsofmoreaulake.org
SUMMARY:Nature Center Open Weekends
DESCRIPTION:
URL:https://friendsofmoreaulake.org/event/nature-center-open-3/2024-11-16/
END:VEVENT
BEGIN:VEVENT
DTSTART;TZID=America/New_York:20241116T080000
DTEND;TZID=America/New_York:20241116T170000
DTSTAMP:20260420T074106
CREATED:20241031T154801Z
LAST-MODIFIED:20241031T154801Z
UID:10013104-1731744000-1731776400@friendsofmoreaulake.org
SUMMARY:100 Tails on the Trails
DESCRIPTION:We are encouraging people to hike our trails this Saturday to celebrate the 100 year anniversary of parks with your favorite dog\, horse\, cat or kid with a ponytail. This is a self-guided hike; we will not be guiding any hikes this day. Send us your pictures on Facebook @MoreauLakeStatePark and tag #100TailsOnTheTrails. For any questions call 518-793-0511
URL:https://friendsofmoreaulake.org/event/100-tails-on-the-trails/
END:VEVENT
BEGIN:VEVENT
DTSTART;TZID=America/New_York:20241115T100000
DTEND;TZID=America/New_York:20241115T150000
DTSTAMP:20260420T074106
CREATED:20240819T134703Z
LAST-MODIFIED:20240820T140435Z
UID:10012545-1731664800-1731682800@friendsofmoreaulake.org
SUMMARY:Nature Center Open Weekends
DESCRIPTION:
URL:https://friendsofmoreaulake.org/event/nature-center-open-3/2024-11-15/
END:VEVENT
BEGIN:VEVENT
DTSTART;TZID=America/New_York:20241114T173000
DTEND;TZID=America/New_York:20241114T193000
DTSTAMP:20260420T074106
CREATED:20241031T154713Z
LAST-MODIFIED:20241031T154713Z
UID:10013103-1731605400-1731612600@friendsofmoreaulake.org
SUMMARY:Full Moon Hike at Big Bend
DESCRIPTION:Join a park educator on a beginner hike at the new Big Bend Preserve. If the clouds cooperate\, we’ll get to enjoy the splendor of the full “Beaver” moon rising! This hike is family friendly and well-behaved dogs on a 6 foot or shorter leash are welcome. $1 per child\, $5 per adult is payable by cash or check at the office upon your arrival. We will meet at the park office and caravan to the trailhead. To reserve your spot call 518-793-0511- the earlier the better as this is a popular program and it fills up quickly.
URL:https://friendsofmoreaulake.org/event/full-moon-hike-at-big-bend-2/
END:VEVENT
BEGIN:VEVENT
DTSTART;TZID=America/New_York:20241114T100000
DTEND;TZID=America/New_York:20241114T113000
DTSTAMP:20260420T074106
CREATED:20241031T154625Z
LAST-MODIFIED:20241031T154625Z
UID:10013102-1731578400-1731583800@friendsofmoreaulake.org
SUMMARY:Homeschool Pop-Up: Turkeys
DESCRIPTION:Join an educator at the Nature Center to learn about the Turkeys of New York and do a fun craft for Thanksgiving. This program is geared toward homeschool students ages 6-12 years old\, but all are welcome. $1 per child when you arrive (cash or check). Please register in advance by calling 518-793-0511.
URL:https://friendsofmoreaulake.org/event/homeschool-pop-up-turkeys/
END:VEVENT
BEGIN:VEVENT
DTSTART;TZID=America/New_York:20241111T140000
DTEND;TZID=America/New_York:20241111T150000
DTSTAMP:20260420T074106
CREATED:20241031T154539Z
LAST-MODIFIED:20241031T154539Z
UID:10013101-1731333600-1731337200@friendsofmoreaulake.org
SUMMARY:Reptile Profile
DESCRIPTION:Join an educator in the nature center to meet our resident reptiles! We at Moreau take care of six New York native turtles and three snakes that cannot be released into the wild and are wonderful little educators. Learn about their exciting lives\, what they like to eat\, and what they use for shell-ter at the Nature Center. This program is for all ages. The cost is $5 for adults\, $1 for children (cash or check) at the office upon arrival. Please reserve your spot 24 hours in advance by calling the office at 518-793-0511.
URL:https://friendsofmoreaulake.org/event/reptile-profile-7/
END:VEVENT
BEGIN:VEVENT
DTSTART;TZID=America/New_York:20241111T100000
DTEND;TZID=America/New_York:20241111T120000
DTSTAMP:20260420T074106
CREATED:20241031T154456Z
LAST-MODIFIED:20241223T143251Z
UID:10013100-1731319200-1731326400@friendsofmoreaulake.org
SUMMARY:Family hike at Big Bend
DESCRIPTION:This is a family friendly hike in which we will attempt to do an out-and-back hike of about 2 miles at the newly opened Big Bend Preserve. This is dog friendly for leashed and well-behaved dogs as well as stroller friendly\, the path is loose dirt so plan accordingly. Please dress appropriately for the weather\, hiking shoes\, and water. We will meet at the park office and caravan to the new trailhead. Program is $1 per child and $5 per adult (cash or check). Please reserve your spot 24-hours in advance by calling the office at 518-793-0511.
URL:https://friendsofmoreaulake.org/event/family-hike-at-big-bend-2/2024-11-11/
END:VEVENT
END:VCALENDAR