BEGIN:VCALENDAR
VERSION:2.0
PRODID:-//Friends of Moreau Lake State Park, Inc. - ECPv6.15.20//NONSGML v1.0//EN
CALSCALE:GREGORIAN
METHOD:PUBLISH
X-WR-CALNAME:Friends of Moreau Lake State Park, Inc.
X-ORIGINAL-URL:https://friendsofmoreaulake.org
X-WR-CALDESC:Events for Friends of Moreau Lake State Park, Inc.
REFRESH-INTERVAL;VALUE=DURATION:PT1H
X-Robots-Tag:noindex
X-PUBLISHED-TTL:PT1H
BEGIN:VTIMEZONE
TZID:America/New_York
BEGIN:DAYLIGHT
TZOFFSETFROM:-0500
TZOFFSETTO:-0400
TZNAME:EDT
DTSTART:20220313T070000
END:DAYLIGHT
BEGIN:STANDARD
TZOFFSETFROM:-0400
TZOFFSETTO:-0500
TZNAME:EST
DTSTART:20221106T060000
END:STANDARD
BEGIN:DAYLIGHT
TZOFFSETFROM:-0500
TZOFFSETTO:-0400
TZNAME:EDT
DTSTART:20230312T070000
END:DAYLIGHT
BEGIN:STANDARD
TZOFFSETFROM:-0400
TZOFFSETTO:-0500
TZNAME:EST
DTSTART:20231105T060000
END:STANDARD
BEGIN:DAYLIGHT
TZOFFSETFROM:-0500
TZOFFSETTO:-0400
TZNAME:EDT
DTSTART:20240310T070000
END:DAYLIGHT
BEGIN:STANDARD
TZOFFSETFROM:-0400
TZOFFSETTO:-0500
TZNAME:EST
DTSTART:20241103T060000
END:STANDARD
BEGIN:DAYLIGHT
TZOFFSETFROM:-0500
TZOFFSETTO:-0400
TZNAME:EDT
DTSTART:20250309T070000
END:DAYLIGHT
BEGIN:STANDARD
TZOFFSETFROM:-0400
TZOFFSETTO:-0500
TZNAME:EST
DTSTART:20251102T060000
END:STANDARD
END:VTIMEZONE
BEGIN:VEVENT
DTSTART;TZID=America/New_York:20240103T090000
DTEND;TZID=America/New_York:20240103T113000
DTSTAMP:20260425T121604
CREATED:20231124T173707Z
LAST-MODIFIED:20240119T141749Z
UID:10005062-1704272400-1704281400@friendsofmoreaulake.org
SUMMARY:Eagle Watch
DESCRIPTION:Join a park educator on a convoy-style journey along the Hudson River to try to spot our local Bald Eagles. We will be getting in and out of vehicles at a few locations and\, with a little luck\, viewing the eagles through binoculars and a scope so make sure to bring your hat and gloves! If you have binoculars bring them\, we do have a couple of pair to pass around as well. Reservations are required at least 24 hours in advance. The cost is $5 per adult (18+) and $1 per child\, payable by cash or check at the office upon your arrival. To reserve your spot call 518-793-0511.
URL:https://friendsofmoreaulake.org/event/eagle-watch/2024-01-03/
END:VEVENT
BEGIN:VEVENT
DTSTART;TZID=America/New_York:20240102T100000
DTEND;TZID=America/New_York:20240102T120000
DTSTAMP:20260425T121604
CREATED:20231223T141445Z
LAST-MODIFIED:20231223T141445Z
UID:10005061-1704189600-1704196800@friendsofmoreaulake.org
SUMMARY:Triple Trail Hike
DESCRIPTION:Tuesday\, January 2nd @ 10am Triple Trail Hike\nA guided hike approximately a 1.2 mile loop on Nature Trail\, Red Oak Ridge and Moreau Overlook. Please dress appropriately for weather\, with warm clothes and waterproof boots\, bring microspikes and poles if you have them\, we have snowshoes and microspikes to rent for $5. Please reserve your spot in advance by calling the office at 518-793-0511. Program fees waived this month in lieu of a non-perishable donation for our local food drive.
URL:https://friendsofmoreaulake.org/event/triple-trail-hike/
END:VEVENT
BEGIN:VEVENT
DTSTART;TZID=America/New_York:20240101T130000
DTEND;TZID=America/New_York:20240101T150000
DTSTAMP:20260425T121604
CREATED:20231223T141404Z
LAST-MODIFIED:20231223T141404Z
UID:10005060-1704114000-1704121200@friendsofmoreaulake.org
SUMMARY:First Day Hike
DESCRIPTION:10 am Nature Trail hike- This is a family friendly hike of about 2 miles starting at the office and winding around Moreau Lake.\n1 pm Mud Pond hike- This is a family friendly hike of about 2 miles from the Nature trail around Mud Pond. Join the Friends at the Warming Hut for Hot Chocolate throughout the day. \nFree! No sign-ups necessary! Non-perishable donations for our local food pantry encouraged!
URL:https://friendsofmoreaulake.org/event/first-day-hike/2024-01-01/2/
END:VEVENT
BEGIN:VEVENT
DTSTART;TZID=America/New_York:20240101T100000
DTEND;TZID=America/New_York:20240101T120000
DTSTAMP:20260425T121604
CREATED:20231223T141404Z
LAST-MODIFIED:20231223T141404Z
UID:10005059-1704103200-1704110400@friendsofmoreaulake.org
SUMMARY:First Day Hike
DESCRIPTION:10 am Nature Trail hike- This is a family friendly hike of about 2 miles starting at the office and winding around Moreau Lake.\n1 pm Mud Pond hike- This is a family friendly hike of about 2 miles from the Nature trail around Mud Pond. Join the Friends at the Warming Hut for Hot Chocolate throughout the day. \nFree! No sign-ups necessary! Non-perishable donations for our local food pantry encouraged!
URL:https://friendsofmoreaulake.org/event/first-day-hike/2024-01-01/1/
END:VEVENT
BEGIN:VEVENT
DTSTART;TZID=America/New_York:20231229T110000
DTEND;TZID=America/New_York:20231229T150000
DTSTAMP:20260425T121604
CREATED:20231124T174446Z
LAST-MODIFIED:20231124T174446Z
UID:10002937-1703847600-1703862000@friendsofmoreaulake.org
SUMMARY:Nature Collages
DESCRIPTION:Stop by the Nature Center to join us in recycling old magazines to make nature collages; a fun way to create art out of things we may throw away. An engaging activity where we can talk about all the cool creatures that may come across the pages. The cost is $5 for adults and $1 for kids (cash or check) at the office upon arrival. You can register in advance at 518-793-0511.
URL:https://friendsofmoreaulake.org/event/nature-collages/
END:VEVENT
BEGIN:VEVENT
DTSTART;TZID=America/New_York:20231227T170000
DTEND;TZID=America/New_York:20231227T190000
DTSTAMP:20260425T121604
CREATED:20231124T174345Z
LAST-MODIFIED:20231124T174345Z
UID:10002936-1703696400-1703703600@friendsofmoreaulake.org
SUMMARY:Full Moon Hike
DESCRIPTION:Come see a different side of MLSP! Join an educator on a beginner-rated\, family friendly hike around the lake. Weather willing\, we’ll see the full Cold moon rise above treetops. The cost is $1 per child\, $5 per adult (cash or check)\, payable at the office upon arrival. Registration is required at least 24 hours in advance\, please call 518-793-0511.
URL:https://friendsofmoreaulake.org/event/full-moon-hike-3/
END:VEVENT
BEGIN:VEVENT
DTSTART;TZID=America/New_York:20231227T100000
DTEND;TZID=America/New_York:20231227T120000
DTSTAMP:20260425T121604
CREATED:20231204T184147Z
LAST-MODIFIED:20231204T184147Z
UID:10003751-1703671200-1703678400@friendsofmoreaulake.org
SUMMARY:Kid's Holiday School Break Crafts
DESCRIPTION:The Friend’s are hosting a craft program for kid’s during the holiday school break. More information to follow!
URL:https://friendsofmoreaulake.org/event/kids-holiday-school-break-crafts/
END:VEVENT
BEGIN:VEVENT
DTSTART;TZID=America/New_York:20231226T110000
DTEND;TZID=America/New_York:20231226T130000
DTSTAMP:20260425T121604
CREATED:20231124T174109Z
LAST-MODIFIED:20231124T174109Z
UID:10002934-1703588400-1703595600@friendsofmoreaulake.org
SUMMARY:Red Oak Ridge to Moreau Overlook Hike
DESCRIPTION:This guided hike of about 2 miles will take us up the Red Oak Ridge to the Moreau Overlook\, down to the Nature trail and back to the office. Wear warm\, waterproof boots and bring microspikes- if you don’t have them\, they may be borrowed at the office. Cost is $5\, reserve your spot in advance by calling the office at 518-793-0511.
URL:https://friendsofmoreaulake.org/event/red-oak-ridge-to-moreau-overlook-hike/
END:VEVENT
BEGIN:VEVENT
DTSTART;TZID=America/New_York:20231225T110000
DTEND;TZID=America/New_York:20231225T123000
DTSTAMP:20260425T121604
CREATED:20231124T174009Z
LAST-MODIFIED:20231124T174009Z
UID:10002933-1703502000-1703507400@friendsofmoreaulake.org
SUMMARY:Christmas Day Walk
DESCRIPTION:Looking for something different to do this Christmas day? Bundle up and Join an educator on an easy-going\, family friendly walk next to Moreau Lake! We may hear and see birds (maybe even an eagle!)\, animal tracks\, shells\, feathers; there’s no telling what Nature might gift us with. There is no fee for this walk. Please reserve your spot in advance by calling 518-793-0511.
URL:https://friendsofmoreaulake.org/event/christmas-day-walk/
END:VEVENT
BEGIN:VEVENT
DTSTART;TZID=America/New_York:20231223T100000
DTEND;TZID=America/New_York:20231223T140000
DTSTAMP:20260425T121604
CREATED:20231124T173915Z
LAST-MODIFIED:20231124T173915Z
UID:10002932-1703325600-1703340000@friendsofmoreaulake.org
SUMMARY:Natural Ornament Craft
DESCRIPTION:Join an educator in the Nature Center to make lovely handmade nature ornament. Cost is $1 per child\, $5 per adult. This is a drop in event and we look forward to seeing you.
URL:https://friendsofmoreaulake.org/event/natural-ornament-craft/
END:VEVENT
BEGIN:VEVENT
DTSTART;TZID=America/New_York:20231221T180000
DTEND;TZID=America/New_York:20231221T200000
DTSTAMP:20260425T121604
CREATED:20231124T173812Z
LAST-MODIFIED:20231124T173812Z
UID:10002931-1703181600-1703188800@friendsofmoreaulake.org
SUMMARY:Winter Solstice Bonfire
DESCRIPTION:Join us in celebrating the winter solstice with a nighttime bonfire. A time to appreciate what is lost to the frost and remember what is promised by spring. Bring cups\, plates\, and a fork because we will be making hot chocolate and tinfoil dinners over the fire. We will be talking about fire starting and fire safety. The cost is $5 for adults and $1 for kids (cash or check) at the office upon arrival. Please register 24 hours in advance at 518-793-0511.
URL:https://friendsofmoreaulake.org/event/winter-solstice-bonfire/
END:VEVENT
BEGIN:VEVENT
DTSTART;TZID=America/New_York:20231220T110000
DTEND;TZID=America/New_York:20231220T133000
DTSTAMP:20260425T121604
CREATED:20231124T173630Z
LAST-MODIFIED:20231124T173630Z
UID:10002929-1703070000-1703079000@friendsofmoreaulake.org
SUMMARY:Western Ridge to Lake Ann Hike
DESCRIPTION:This guided\, out-and-back hike of approximately 4.5 miles will begin on the Western Ridge Trail where we’ll get most of the elevation out of the way and proceed to the Lake Ann trail. Bring a lunch to enjoy at the Lake Ann lean-to. Wear warm\, waterproof boots and bring microspikes- if you don’t have them\, they may be borrowed at the office. Cost is $5\, reserve your spot in advance by calling the office at 518-793-0511.
URL:https://friendsofmoreaulake.org/event/western-ridge-to-lake-ann-hike/
END:VEVENT
BEGIN:VEVENT
DTSTART;TZID=America/New_York:20231220T110000
DTEND;TZID=America/New_York:20231220T130000
DTSTAMP:20260425T121604
CREATED:20231124T173707Z
LAST-MODIFIED:20240119T141749Z
UID:10002930-1703070000-1703077200@friendsofmoreaulake.org
SUMMARY:Eagle Watch
DESCRIPTION:Join a park educator on a convoy-style journey along the Hudson River to try to spot our local Bald Eagles. We will be getting in and out of vehicles at a few locations and\, with a little luck\, viewing the eagles through binoculars and a scope so make sure to bring your hat and gloves! If you have binoculars bring them\, we do have a couple of pair to pass around as well. Reservations are required at least 24 hours in advance. The cost is $5 per adult (18+) and $1 per child\, payable by cash or check at the office upon your arrival. To reserve your spot call 518-793-0511.
URL:https://friendsofmoreaulake.org/event/eagle-watch/2023-12-20/
END:VEVENT
BEGIN:VEVENT
DTSTART;TZID=America/New_York:20231219T100000
DTEND;TZID=America/New_York:20231219T120000
DTSTAMP:20260425T121604
CREATED:20231124T173527Z
LAST-MODIFIED:20231124T173527Z
UID:10002928-1702980000-1702987200@friendsofmoreaulake.org
SUMMARY:Baker Trail Hike
DESCRIPTION:Baker trail is roughly a 2-mile hike round trip on an out and back route. The cost is $5 at the office upon arrival. We have snowshoes and crampons to borrow. Please register at least 24 hours in advance at 518-793-0511.
URL:https://friendsofmoreaulake.org/event/baker-trail-hike-2/
END:VEVENT
BEGIN:VEVENT
DTSTART;TZID=America/New_York:20231212T190000
DTEND;TZID=America/New_York:20231212T210000
DTSTAMP:20260425T121604
CREATED:20230823T164245Z
LAST-MODIFIED:20230823T164245Z
UID:10001113-1702407600-1702414800@friendsofmoreaulake.org
SUMMARY:Friends of Moreau Lake Monthly Meeting
DESCRIPTION:Please join us for our monthly general membership board meeting. It is open to the public and is held the second Tuesday of every month at 7pm via ZOOM.  The agenda is sent prior to the meeting to all members. If you would like to come to the meeting but are not a member\, please email: comments@fomlsp.org and we will send you the information to ZOOM as well as the agenda.
URL:https://friendsofmoreaulake.org/event/friends-of-moreau-lake-monthly-meeting/2023-12-12/
ATTACH;FMTTYPE=image/png:https://friendsofmoreaulake.org/wp-content/uploads/2021/10/New-Logo-200x200-1-e1633961946679.png
END:VEVENT
BEGIN:VEVENT
DTSTART;TZID=America/New_York:20231212T110000
DTEND;TZID=America/New_York:20231212T130000
DTSTAMP:20260425T121604
CREATED:20231124T173221Z
LAST-MODIFIED:20231124T173221Z
UID:10002925-1702378800-1702386000@friendsofmoreaulake.org
SUMMARY:Stonewall Trail Hike
DESCRIPTION:This beginner level guided hike of just over 3 miles is on park property the other side of the Hudson. Access is closed once it snows so Lake Bonita will be the alternate hike should there be snow accumulation. Wear warm\, waterproof boots and bring microspikes- if you don’t have them\, they may be borrowed at the office. Cost is $5\, reserve your spot in advance by calling the office at 518-793-0511.
URL:https://friendsofmoreaulake.org/event/stonewall-trail-hike/
END:VEVENT
BEGIN:VEVENT
DTSTART;TZID=America/New_York:20231209T110000
DTEND;TZID=America/New_York:20231209T130000
DTSTAMP:20260425T121604
CREATED:20231124T173044Z
LAST-MODIFIED:20231124T173044Z
UID:10002923-1702119600-1702126800@friendsofmoreaulake.org
SUMMARY:Card Making
DESCRIPTION:Join an educator in the Nature Center to make lovely handmade holiday cards. Cost is $1 per child\, $5 per adult. Register in advance by calling 518-793-0511.
URL:https://friendsofmoreaulake.org/event/card-making/
END:VEVENT
BEGIN:VEVENT
DTSTART;TZID=America/New_York:20231206T130000
DTEND;TZID=America/New_York:20231206T140000
DTSTAMP:20260425T121604
CREATED:20231124T172703Z
LAST-MODIFIED:20231124T172703Z
UID:10002918-1701867600-1701871200@friendsofmoreaulake.org
SUMMARY:Courteous Critters
DESCRIPTION:Humans are not the only animals to give gifts. Come learn about some of our native animals as well as animals around the world who give great gifts to secure a mate or a bond. This is a nice reminder to humans of the true purpose of gift-giving\, to strengthen our social relationships with the ones we love. Come to the nature center to learn from an educator about some of these courteous critters. The cost is $5 for adults and $1 for kids (cash or check) at the office upon arrival. You can register in advance at 518-793-0511.
URL:https://friendsofmoreaulake.org/event/courteous-critters/
END:VEVENT
BEGIN:VEVENT
DTSTART;TZID=America/New_York:20231205T100000
DTEND;TZID=America/New_York:20231205T120000
DTSTAMP:20260425T121604
CREATED:20231124T172607Z
LAST-MODIFIED:20231124T172607Z
UID:10002917-1701770400-1701777600@friendsofmoreaulake.org
SUMMARY:Lake Bonita to Lake Ann Lean-To
DESCRIPTION:Join an educator on an approximately 3 mile out and back hike from Lake Bonita to Lake Anne Lean-to. Bring a snack to take a break and eat at the lean-to! The cost is $5 at the office upon arrival. We have snowshoes and crampons to borrow. Please register at least 24 hours in advance at 518-793-0511.
URL:https://friendsofmoreaulake.org/event/lake-bonita-to-lake-ann-lean-to/
END:VEVENT
BEGIN:VEVENT
DTSTART;TZID=America/New_York:20231202T100000
DTEND;TZID=America/New_York:20231202T120000
DTSTAMP:20260425T121604
CREATED:20231124T175548Z
LAST-MODIFIED:20231124T180055Z
UID:10002939-1701511200-1701518400@friendsofmoreaulake.org
SUMMARY:Kid's Crafts hosted by Friends of Moreau *FREE EVENT*
DESCRIPTION:
URL:https://friendsofmoreaulake.org/event/kids-crafts-hosted-by-friends-of-moreau/
ATTACH;FMTTYPE=image/png:https://friendsofmoreaulake.org/wp-content/uploads/2021/10/New-Logo-200x200-1-e1633961946679.png
END:VEVENT
BEGIN:VEVENT
DTSTART;TZID=America/New_York:20231202T100000
DTEND;TZID=America/New_York:20231202T120000
DTSTAMP:20260425T121604
CREATED:20231124T175333Z
LAST-MODIFIED:20231130T142412Z
UID:10002938-1701511200-1701518400@friendsofmoreaulake.org
SUMMARY:Friend's Kids Craft *FREE EVENT*
DESCRIPTION:Join the Friends of Moreau for this free event for the kids.
URL:https://friendsofmoreaulake.org/event/friends-kids-craft/
ATTACH;FMTTYPE=image/png:https://friendsofmoreaulake.org/wp-content/uploads/2021/10/New-Logo-200x200-1-e1633961946679.png
END:VEVENT
BEGIN:VEVENT
DTSTART;TZID=America/New_York:20231201T110000
DTEND;TZID=America/New_York:20231201T123000
DTSTAMP:20260425T121604
CREATED:20231124T172516Z
LAST-MODIFIED:20231124T172516Z
UID:10002916-1701428400-1701433800@friendsofmoreaulake.org
SUMMARY:Tai Chi and Chai Tea
DESCRIPTION:Join us for a morning flow with a Tai Chi and Qi Gong instructor and enjoy chai tea at noon. This new event will set you up for a day of lowered stress and a teach you a new skill. Please register at least 24 hours in advance at 518-793-0511.
URL:https://friendsofmoreaulake.org/event/tai-chi-and-chai-tea/
END:VEVENT
BEGIN:VEVENT
DTSTART;TZID=America/New_York:20231128T120000
DTEND;TZID=America/New_York:20231128T140000
DTSTAMP:20260425T121604
CREATED:20231031T164131Z
LAST-MODIFIED:20231031T165334Z
UID:10002451-1701172800-1701180000@friendsofmoreaulake.org
SUMMARY:Forest Bathing
DESCRIPTION:Coined shinrin-yoku in Japan in the 1980’s\, forest bathing is the ecotherapeutic practice of spending time immersed in nature\, absorbing it with all of your senses. The physiological and psychological benefits last for days afterward with the additional benefit of a new appreciation of our precious woodland and its inhabitants. This is a beginner-rated walk along the Nature Trail with long pauses to sit and enhance our awareness of our surroundings and it is approximately a 2-hour program. A small mat is beneficial to ensure a dry seat. This program is limited to those age 14 and up. Pay $5 per person (cash or check) at the office upon arrival. Registration is required at least 24 hours in advance\, call 518-793-0511.
URL:https://friendsofmoreaulake.org/event/forest-bathing-1248/2023-11-28/
END:VEVENT
BEGIN:VEVENT
DTSTART;TZID=America/New_York:20231127T190000
DTEND;TZID=America/New_York:20231127T210000
DTSTAMP:20260425T121604
CREATED:20230823T164522Z
LAST-MODIFIED:20230823T164558Z
UID:10001136-1701111600-1701118800@friendsofmoreaulake.org
SUMMARY:Friends of Moreau Lake Monthly Membership Committee Meeting
DESCRIPTION:Please join us for our monthly membership committee meeting. It is open to the public and is held the last Monday of every month at 7pm via ZOOM.  The agenda is sent prior to the meeting to all members. If you would like to come to the membership committee meeting but are not a member\, please email: comments@fomlsp.org and we will send you the information to ZOOM as well as the agenda.
URL:https://friendsofmoreaulake.org/event/friends-of-moreau-lake-monthly-membership-committee-meeting/2023-11-27/
ATTACH;FMTTYPE=image/png:https://friendsofmoreaulake.org/wp-content/uploads/2021/10/New-Logo-200x200-1-e1633961946679.png
END:VEVENT
BEGIN:VEVENT
DTSTART;TZID=America/New_York:20231127T130000
DTEND;TZID=America/New_York:20231127T150000
DTSTAMP:20260425T121604
CREATED:20231031T165255Z
LAST-MODIFIED:20231031T165255Z
UID:10002450-1701090000-1701097200@friendsofmoreaulake.org
SUMMARY:Baker Trail Hike
DESCRIPTION:Join an educator led hike on the Baker trail to the Moreau Overlook. This is an out and back\, moderate rated hike of about 2 miles. The cost is $5 each (cash or check)\, payable at the office upon arrival. Registration is required at least 24 hours in advance\, please call 518-793-0511.
URL:https://friendsofmoreaulake.org/event/baker-trail-hike/
END:VEVENT
BEGIN:VEVENT
DTSTART;TZID=America/New_York:20231126T160000
DTEND;TZID=America/New_York:20231126T180000
DTSTAMP:20260425T121604
CREATED:20231031T165215Z
LAST-MODIFIED:20231031T165215Z
UID:10002449-1701014400-1701021600@friendsofmoreaulake.org
SUMMARY:Full Moon Hike
DESCRIPTION:Come see a different side of MLSP! Join an educator on a beginner-rated\, family friendly hike around the lake. Weather willing\, we’ll see the full Beaver moon rise above tree tops. The cost is $1 per child\, $5 per adult (cash or check)\, payable at the office upon arrival. Registration is required at least 24 hours in advance\, please call 518-793-0511.
URL:https://friendsofmoreaulake.org/event/full-moon-hike/
END:VEVENT
BEGIN:VEVENT
DTSTART;TZID=America/New_York:20231126T130000
DTEND;TZID=America/New_York:20231126T140000
DTSTAMP:20260425T121604
CREATED:20231031T165138Z
LAST-MODIFIED:20231031T165138Z
UID:10002448-1701003600-1701007200@friendsofmoreaulake.org
SUMMARY:Making Cordage from Dogbane
DESCRIPTION:Though we often walk right past them\, we are surrounded by plants which are useful in so many ways! Hemp Dogbane is a native perennial traditionally used to make string or cordage from the fibers and in this program we will use it to make rope. Suitable for all ages. The cost is $1 per child\, $5 per adult (cash or check)\, payable at the office upon arrival. Registration is required at least 24 hours in advance\, please call 518-793-0511.
URL:https://friendsofmoreaulake.org/event/making-cordage-from-dogbane/
END:VEVENT
BEGIN:VEVENT
DTSTART;TZID=America/New_York:20231125T100000
DTEND;TZID=America/New_York:20231125T150000
DTSTAMP:20260425T121604
CREATED:20231031T164914Z
LAST-MODIFIED:20231031T165453Z
UID:10002447-1700906400-1700924400@friendsofmoreaulake.org
SUMMARY:Friends Hosted Wreath Making
DESCRIPTION:Friends of Moreau Lake Holiday Wreath-making event at Moreau Lake State Park on Saturday\, Nov. 25. 2 Sessions available – 10:00am – Noon\, and 1:00pm – 3:00pm. Strict limit of 12 people per session\, First come\, first served. Please note that this event is designed for adults only.\n$25 per person\, includes decorations\, ribbons\, and help to make your own wreath.\nPlease RSVP via this form by Wednesday\, Nov. 22\, 2023.
URL:https://friendsofmoreaulake.org/event/friends-hosted-wreath-making/
ATTACH;FMTTYPE=image/jpeg:https://friendsofmoreaulake.org/wp-content/uploads/2023/10/2023-wreath-flyer-v1.jpg
END:VEVENT
BEGIN:VEVENT
DTSTART;TZID=America/New_York:20231123T120000
DTEND;TZID=America/New_York:20231123T140000
DTSTAMP:20260425T121604
CREATED:20231031T164657Z
LAST-MODIFIED:20231031T164657Z
UID:10002446-1700740800-1700748000@friendsofmoreaulake.org
SUMMARY:Thanksgiving Gratitude Walk
DESCRIPTION:Come to Moreau this Thanksgiving for a guided Nature Walk. As we go we’ll pay particular attention to the beauty and peace of our natural surroundings and focus on our gratitude for being here to appreciate it. This is a beginner-rated walk on the Nature Trail\, suitable for those of all ages. Registration is required at least 24 hours in advance\, call 518-793-0511.
URL:https://friendsofmoreaulake.org/event/thanksgiving-gratitude-walk-2/
END:VEVENT
BEGIN:VEVENT
DTSTART;TZID=America/New_York:20231122T100000
DTEND;TZID=America/New_York:20231122T110000
DTSTAMP:20260425T121604
CREATED:20231031T164601Z
LAST-MODIFIED:20231031T164601Z
UID:10002445-1700647200-1700650800@friendsofmoreaulake.org
SUMMARY:Learn to Sprout
DESCRIPTION:If you’ve ever wanted to try your hand at growing your own delicious and nutritious sprouts\, here’s the perfect opportunity to learn how and why you should. Bring a friend and a clean wide-mouth canning jar\, the other materials will be provided. The cost is $5 each (cash or check)\, payable at the office upon arrival. Registration is required at least 24 hours in advance\, please call 518-793-0511.
URL:https://friendsofmoreaulake.org/event/learn-to-sprout/
END:VEVENT
END:VCALENDAR