BEGIN:VCALENDAR
VERSION:2.0
PRODID:-//Friends of Moreau Lake State Park, Inc. - ECPv6.15.20//NONSGML v1.0//EN
CALSCALE:GREGORIAN
METHOD:PUBLISH
X-WR-CALNAME:Friends of Moreau Lake State Park, Inc.
X-ORIGINAL-URL:https://friendsofmoreaulake.org
X-WR-CALDESC:Events for Friends of Moreau Lake State Park, Inc.
REFRESH-INTERVAL;VALUE=DURATION:PT1H
X-Robots-Tag:noindex
X-PUBLISHED-TTL:PT1H
BEGIN:VTIMEZONE
TZID:America/New_York
BEGIN:DAYLIGHT
TZOFFSETFROM:-0500
TZOFFSETTO:-0400
TZNAME:EDT
DTSTART:20220313T070000
END:DAYLIGHT
BEGIN:STANDARD
TZOFFSETFROM:-0400
TZOFFSETTO:-0500
TZNAME:EST
DTSTART:20221106T060000
END:STANDARD
BEGIN:DAYLIGHT
TZOFFSETFROM:-0500
TZOFFSETTO:-0400
TZNAME:EDT
DTSTART:20230312T070000
END:DAYLIGHT
BEGIN:STANDARD
TZOFFSETFROM:-0400
TZOFFSETTO:-0500
TZNAME:EST
DTSTART:20231105T060000
END:STANDARD
BEGIN:DAYLIGHT
TZOFFSETFROM:-0500
TZOFFSETTO:-0400
TZNAME:EDT
DTSTART:20240310T070000
END:DAYLIGHT
BEGIN:STANDARD
TZOFFSETFROM:-0400
TZOFFSETTO:-0500
TZNAME:EST
DTSTART:20241103T060000
END:STANDARD
END:VTIMEZONE
BEGIN:VEVENT
DTSTART;TZID=America/New_York:20231016T100000
DTEND;TZID=America/New_York:20231016T123000
DTSTAMP:20260425T230228
CREATED:20230915T132557Z
LAST-MODIFIED:20230915T132557Z
UID:10001165-1697450400-1697459400@friendsofmoreaulake.org
SUMMARY:Lake Bonita Hike
DESCRIPTION:Join an educator on a guided hike around the lovely Lake Bonita. This is a beginner hike with a few steep hills on a 1.7 mile loop. Wear sturdy\, waterproof footwear. Reservations are required at least 24 hours in advance. The cost is $5 for adults (18+) and $1 per child\, payable by cash or check at the office upon your arrival. To reserve your spot call 51-793-0511.
URL:https://friendsofmoreaulake.org/event/lake-bonita-hike/
END:VEVENT
BEGIN:VEVENT
DTSTART;TZID=America/New_York:20231015T140000
DTEND;TZID=America/New_York:20231015T150000
DTSTAMP:20260425T230228
CREATED:20230915T132455Z
LAST-MODIFIED:20230915T132455Z
UID:10001164-1697378400-1697382000@friendsofmoreaulake.org
SUMMARY:Moreau Trail Steward Meeting
DESCRIPTION:A meeting to introduce the trail steward program to newcomers. The duties of a trail steward include walking a particular Moreau Lake State Park trail to identify maintenance needs\, cutting back branches with supplied loppers and hand saws\, and hanging trail signs when necessary. This meeting will provide crucial information on what to look for on the trails and you will be selecting your specific trail for the year. This meeting will be free\, but please register at least 24 hours in advance at 518-793-0511.
URL:https://friendsofmoreaulake.org/event/moreau-trail-steward-meeting/
END:VEVENT
BEGIN:VEVENT
DTSTART;TZID=America/New_York:20231015T110000
DTEND;TZID=America/New_York:20231015T120000
DTSTAMP:20260425T230228
CREATED:20230915T132403Z
LAST-MODIFIED:20230915T132403Z
UID:10001163-1697367600-1697371200@friendsofmoreaulake.org
SUMMARY:Turtle Talk
DESCRIPTION:Join an educator in the nature center to meet our resident turtles! We at Moreau take care of six New York native turtles that cannot be released into the wild and are wonderful little educators. Learn about their exciting lives\, what they like to eat\, and what they use for shell-ter at the Nature Center. The cost is $5 per person (cash or check) at the office upon arrival. Please register at least 24 hours in advance at 518-793-0511.
URL:https://friendsofmoreaulake.org/event/turtle-talk/
END:VEVENT
BEGIN:VEVENT
DTSTART;TZID=America/New_York:20231015T100000
DTEND;TZID=America/New_York:20231015T120000
DTSTAMP:20260425T230228
CREATED:20230823T154055Z
LAST-MODIFIED:20230915T131205Z
UID:10001147-1697364000-1697371200@friendsofmoreaulake.org
SUMMARY:Forest Bathing
DESCRIPTION:Coined shinrin-yoku in Japan in the 1980’s\, forest bathing is the ecotherapeutic practice of spending time immersed in nature\, absorbing it with all of your senses. The physiological and psychological benefits last for days afterward with the additional benefit of a new appreciation of our precious woodland and its inhabitants. This is a beginner-rated walk along the Nature Trail with long pauses to sit and enhance our awareness of our surroundings and it is approximately a 2-hour program. A small mat is beneficial to ensure a dry seat. This program is limited to those age 14 and up. Pay $5 per person (cash or check) at the office upon arrival. Registration is required at least 24 hours in advance\, please call the park office at 518-793-0511.
URL:https://friendsofmoreaulake.org/event/forest-bathing-2/2023-10-15/
END:VEVENT
BEGIN:VEVENT
DTSTART;TZID=America/New_York:20231014T190000
DTEND;TZID=America/New_York:20231014T210000
DTSTAMP:20260425T230228
CREATED:20230915T132322Z
LAST-MODIFIED:20230915T132322Z
UID:10001162-1697310000-1697317200@friendsofmoreaulake.org
SUMMARY:Astronomy Program
DESCRIPTION:The new moon brings dark skies\, perfect for stargazing. Join us on the beach as we explore the heavens through our observatory\, guided by Larry the Astronomer. We’ll check out constellations\, planets- even neighboring galaxies! The cost is $5 for adults and $1 per child\, payable by cash or check at the office upon your arrival. To reserve your spot call 518-793-0511.
URL:https://friendsofmoreaulake.org/event/astronomy-program/
END:VEVENT
BEGIN:VEVENT
DTSTART;TZID=America/New_York:20231014T090000
DTEND;TZID=America/New_York:20231014T110000
DTSTAMP:20260425T230228
CREATED:20230915T132236Z
LAST-MODIFIED:20230915T132236Z
UID:10001161-1697274000-1697281200@friendsofmoreaulake.org
SUMMARY:25th Celebration of Junior Naturalist Program/Become a Jr Naturalist
DESCRIPTION:Saturday\, October 14th 9am-11am 25th Celebration of Junior Naturalist Program/Become a Jr Naturalist\nEarn a commemorative junior naturalist badge while enjoying the nature center\, our resident animals and friendly fun staff. The program and badge highlight is salamanders\, red efts and newts. Come learn about the life cycle of amphibians and play games to help us learn. This is a free program with no sign up necessary. There will be “dirt cup” snacks available\, which will be nut free\, while supplies last! WE hope to see you there!
URL:https://friendsofmoreaulake.org/event/25th-celebration-of-junior-naturalist-program-become-a-jr-naturalist/
END:VEVENT
BEGIN:VEVENT
DTSTART;TZID=America/New_York:20231010T190000
DTEND;TZID=America/New_York:20231010T210000
DTSTAMP:20260425T230228
CREATED:20230823T164245Z
LAST-MODIFIED:20230823T164245Z
UID:10001111-1696964400-1696971600@friendsofmoreaulake.org
SUMMARY:Friends of Moreau Lake Monthly Meeting
DESCRIPTION:Please join us for our monthly general membership board meeting. It is open to the public and is held the second Tuesday of every month at 7pm via ZOOM.  The agenda is sent prior to the meeting to all members. If you would like to come to the meeting but are not a member\, please email: comments@fomlsp.org and we will send you the information to ZOOM as well as the agenda.
URL:https://friendsofmoreaulake.org/event/friends-of-moreau-lake-monthly-meeting/2023-10-10/
ATTACH;FMTTYPE=image/png:https://friendsofmoreaulake.org/wp-content/uploads/2021/10/New-Logo-200x200-1-e1633961946679.png
END:VEVENT
BEGIN:VEVENT
DTSTART;TZID=America/New_York:20231010T100000
DTEND;TZID=America/New_York:20231010T120000
DTSTAMP:20260425T230228
CREATED:20230823T154456Z
LAST-MODIFIED:20230915T131555Z
UID:10001151-1696932000-1696939200@friendsofmoreaulake.org
SUMMARY:Moreau Lake Kayak
DESCRIPTION:Join an educator on a peaceful morning paddle around Moreau Lake. Limited rentals are available\, or bring your own kayak. This program is for people age 18 and older. The cost is $5 or $15 including kayak rental. Check in and pay (cash or check) at the office upon arrival. Registration is required at least 24 hours in advance\, please call the park office at 518-793-0511.
URL:https://friendsofmoreaulake.org/event/moreau-lake-kayak-2/2023-10-10/
END:VEVENT
BEGIN:VEVENT
DTSTART;TZID=America/New_York:20231008T130000
DTEND;TZID=America/New_York:20231008T150000
DTSTAMP:20260425T230228
CREATED:20230915T132126Z
LAST-MODIFIED:20230915T132126Z
UID:10001160-1696770000-1696777200@friendsofmoreaulake.org
SUMMARY:Thanksgiving/Gratitude Walk
DESCRIPTION:Sunday\, October 8th 1 p.m. Thanksgiving/Gratitude Walk\nTo honor Indigenous People’s Day\, join park educators on a beginner-rated walk. As we walk\, we will discuss the Indigenous culture of giving thanks and learn about how being grateful and thankful can scientifically benefit our brains and bodies. This is a free program suitable for people of all ages. Registration is required at least 24 hours in advance\, please call 518-793-0511.
URL:https://friendsofmoreaulake.org/event/thanksgiving-gratitude-walk/
END:VEVENT
BEGIN:VEVENT
DTSTART;TZID=America/New_York:20231003T100000
DTEND;TZID=America/New_York:20231003T120000
DTSTAMP:20260425T230228
CREATED:20230823T154456Z
LAST-MODIFIED:20230915T131555Z
UID:10001150-1696327200-1696334400@friendsofmoreaulake.org
SUMMARY:Moreau Lake Kayak
DESCRIPTION:Join an educator on a peaceful morning paddle around Moreau Lake. Limited rentals are available\, or bring your own kayak. This program is for people age 18 and older. The cost is $5 or $15 including kayak rental. Check in and pay (cash or check) at the office upon arrival. Registration is required at least 24 hours in advance\, please call the park office at 518-793-0511.
URL:https://friendsofmoreaulake.org/event/moreau-lake-kayak-2/2023-10-03/
END:VEVENT
BEGIN:VEVENT
DTSTART;VALUE=DATE:20231002
DTEND;VALUE=DATE:20231007
DTSTAMP:20260425T230228
CREATED:20230928T152822Z
LAST-MODIFIED:20230928T152822Z
UID:10001192-1696204800-1696636799@friendsofmoreaulake.org
SUMMARY:Sherman Island Drawdown Notice
DESCRIPTION:
URL:https://friendsofmoreaulake.org/event/sherman-island-drawdown-notice/
END:VEVENT
BEGIN:VEVENT
DTSTART;TZID=America/New_York:20231001T140000
DTEND;TZID=America/New_York:20231001T153000
DTSTAMP:20260425T230228
CREATED:20230823T154647Z
LAST-MODIFIED:20230915T131319Z
UID:10001149-1696168800-1696174200@friendsofmoreaulake.org
SUMMARY:Family Hike
DESCRIPTION:Family hikes are slower paced\, easy-going walks intended to comfortably bring people together in nature. All ages and abilities are welcome to join in. The pace and path will be determined by the group at the time of the hike. At this time our trails are not able to accommodate strollers\, however\, we can stay to the roads making the hike more accessible. If this is something your party requires\, please let us know when you sign up. The cost is $5 for adults (18+) and $1 per child\, payable by cash or check at the office upon your arrival. Registration is required at least 24 hours in advance\, please call the park office at 518-793-0511.
URL:https://friendsofmoreaulake.org/event/family-hike-2/2023-10-01/
END:VEVENT
BEGIN:VEVENT
DTSTART;TZID=America/New_York:20231001T100000
DTEND;TZID=America/New_York:20231001T120000
DTSTAMP:20260425T230228
CREATED:20230823T154055Z
LAST-MODIFIED:20230915T131205Z
UID:10001146-1696154400-1696161600@friendsofmoreaulake.org
SUMMARY:Forest Bathing
DESCRIPTION:Coined shinrin-yoku in Japan in the 1980’s\, forest bathing is the ecotherapeutic practice of spending time immersed in nature\, absorbing it with all of your senses. The physiological and psychological benefits last for days afterward with the additional benefit of a new appreciation of our precious woodland and its inhabitants. This is a beginner-rated walk along the Nature Trail with long pauses to sit and enhance our awareness of our surroundings and it is approximately a 2-hour program. A small mat is beneficial to ensure a dry seat. This program is limited to those age 14 and up. Pay $5 per person (cash or check) at the office upon arrival. Registration is required at least 24 hours in advance\, please call the park office at 518-793-0511.
URL:https://friendsofmoreaulake.org/event/forest-bathing-2/2023-10-01/
END:VEVENT
BEGIN:VEVENT
DTSTART;TZID=America/New_York:20230928T180000
DTEND;TZID=America/New_York:20230928T200000
DTSTAMP:20260425T230228
CREATED:20230823T160109Z
LAST-MODIFIED:20230823T160109Z
UID:10001107-1695924000-1695931200@friendsofmoreaulake.org
SUMMARY:Full Moon Kayak
DESCRIPTION:Join us for an evening kayak trip around Moreau Lake! If conditions are right\, we’ll see the full moon rise. Rentals are available in limited numbers. The program is $5 per adult\, $15 with a rental (cash or check) and this is payable at the office upon arrival. Registration is required at least 24 hours in advance\, please call the park office at 518-793-0511.
URL:https://friendsofmoreaulake.org/event/full-moon-kayak/
END:VEVENT
BEGIN:VEVENT
DTSTART;TZID=America/New_York:20230926T100000
DTEND;TZID=America/New_York:20230926T120000
DTSTAMP:20260425T230228
CREATED:20230823T154456Z
LAST-MODIFIED:20230915T131555Z
UID:10001097-1695722400-1695729600@friendsofmoreaulake.org
SUMMARY:Moreau Lake Kayak
DESCRIPTION:Join an educator on a peaceful morning paddle around Moreau Lake. Limited rentals are available\, or bring your own kayak. This program is for people age 18 and older. The cost is $5 or $15 including kayak rental. Check in and pay (cash or check) at the office upon arrival. Registration is required at least 24 hours in advance\, please call the park office at 518-793-0511.
URL:https://friendsofmoreaulake.org/event/moreau-lake-kayak-2/2023-09-26/
END:VEVENT
BEGIN:VEVENT
DTSTART;TZID=America/New_York:20230925T190000
DTEND;TZID=America/New_York:20230925T210000
DTSTAMP:20260425T230228
CREATED:20230823T164522Z
LAST-MODIFIED:20230823T164558Z
UID:10001134-1695668400-1695675600@friendsofmoreaulake.org
SUMMARY:Friends of Moreau Lake Monthly Membership Committee Meeting
DESCRIPTION:Please join us for our monthly membership committee meeting. It is open to the public and is held the last Monday of every month at 7pm via ZOOM.  The agenda is sent prior to the meeting to all members. If you would like to come to the membership committee meeting but are not a member\, please email: comments@fomlsp.org and we will send you the information to ZOOM as well as the agenda.
URL:https://friendsofmoreaulake.org/event/friends-of-moreau-lake-monthly-membership-committee-meeting/2023-09-25/
ATTACH;FMTTYPE=image/png:https://friendsofmoreaulake.org/wp-content/uploads/2021/10/New-Logo-200x200-1-e1633961946679.png
END:VEVENT
BEGIN:VEVENT
DTSTART;TZID=America/New_York:20230925T130000
DTEND;TZID=America/New_York:20230925T150000
DTSTAMP:20260425T230228
CREATED:20230823T160027Z
LAST-MODIFIED:20230823T160027Z
UID:10001106-1695646800-1695654000@friendsofmoreaulake.org
SUMMARY:Lake Ann Hike
DESCRIPTION:The park educator will lead a hike starting on Lake Bonita trail and continuing to the Lake Ann lean-to. This hike will be around 4 miles long and has wonderful rolling hills and thick lush forests to walk through. The cost is $5 for adults (18+) and $1 per child\, payable by cash or check at the office upon your arrival. Registration is required at least 24 hours in advance\, please call the park office at 518-793-0511.
URL:https://friendsofmoreaulake.org/event/lake-ann-hike-2/
END:VEVENT
BEGIN:VEVENT
DTSTART;TZID=America/New_York:20230924T090000
DTEND;TZID=America/New_York:20230924T110000
DTSTAMP:20260425T230228
CREATED:20260425T181545Z
LAST-MODIFIED:20260425T181545Z
UID:10039993-1695546000-1695553200@friendsofmoreaulake.org
SUMMARY:Forest Bathing
DESCRIPTION:Coined shinrin-yoku in Japan in the 1980’s\, forest bathing is the ecotherapeutic practice of spending time immersed in nature\, absorbing it with all of your senses. The physiological and psychological benefits last for days afterward with the additional benefit of a new appreciation of our precious woodland and its inhabitants. This is a beginner-rated walk along the Nature Trail with long pauses to sit and enhance our awareness of our surroundings and it is approximately a 2-hour program. A small mat is beneficial to ensure a dry seat. This program is limited to those age 14 and up. Pay $5 per person (cash or check) at the office upon arrival. Registration is required at least 24 hours in advance\, please call the park office at 518-793-0511.
URL:https://friendsofmoreaulake.org/event/forest-bathing-33971/
END:VEVENT
BEGIN:VEVENT
DTSTART;TZID=America/New_York:20230924T090000
DTEND;TZID=America/New_York:20230924T110000
DTSTAMP:20260425T230228
CREATED:20260425T061644Z
LAST-MODIFIED:20260425T061644Z
UID:10039992-1695546000-1695553200@friendsofmoreaulake.org
SUMMARY:Forest Bathing
DESCRIPTION:Coined shinrin-yoku in Japan in the 1980’s\, forest bathing is the ecotherapeutic practice of spending time immersed in nature\, absorbing it with all of your senses. The physiological and psychological benefits last for days afterward with the additional benefit of a new appreciation of our precious woodland and its inhabitants. This is a beginner-rated walk along the Nature Trail with long pauses to sit and enhance our awareness of our surroundings and it is approximately a 2-hour program. A small mat is beneficial to ensure a dry seat. This program is limited to those age 14 and up. Pay $5 per person (cash or check) at the office upon arrival. Registration is required at least 24 hours in advance\, please call the park office at 518-793-0511.
URL:https://friendsofmoreaulake.org/event/forest-bathing-33970/
END:VEVENT
BEGIN:VEVENT
DTSTART;TZID=America/New_York:20230924T090000
DTEND;TZID=America/New_York:20230924T110000
DTSTAMP:20260425T230228
CREATED:20260424T181751Z
LAST-MODIFIED:20260424T181751Z
UID:10039991-1695546000-1695553200@friendsofmoreaulake.org
SUMMARY:Forest Bathing
DESCRIPTION:Coined shinrin-yoku in Japan in the 1980’s\, forest bathing is the ecotherapeutic practice of spending time immersed in nature\, absorbing it with all of your senses. The physiological and psychological benefits last for days afterward with the additional benefit of a new appreciation of our precious woodland and its inhabitants. This is a beginner-rated walk along the Nature Trail with long pauses to sit and enhance our awareness of our surroundings and it is approximately a 2-hour program. A small mat is beneficial to ensure a dry seat. This program is limited to those age 14 and up. Pay $5 per person (cash or check) at the office upon arrival. Registration is required at least 24 hours in advance\, please call the park office at 518-793-0511.
URL:https://friendsofmoreaulake.org/event/forest-bathing-33969/
END:VEVENT
BEGIN:VEVENT
DTSTART;TZID=America/New_York:20230924T090000
DTEND;TZID=America/New_York:20230924T110000
DTSTAMP:20260425T230228
CREATED:20260424T061747Z
LAST-MODIFIED:20260424T061747Z
UID:10039990-1695546000-1695553200@friendsofmoreaulake.org
SUMMARY:Forest Bathing
DESCRIPTION:Coined shinrin-yoku in Japan in the 1980’s\, forest bathing is the ecotherapeutic practice of spending time immersed in nature\, absorbing it with all of your senses. The physiological and psychological benefits last for days afterward with the additional benefit of a new appreciation of our precious woodland and its inhabitants. This is a beginner-rated walk along the Nature Trail with long pauses to sit and enhance our awareness of our surroundings and it is approximately a 2-hour program. A small mat is beneficial to ensure a dry seat. This program is limited to those age 14 and up. Pay $5 per person (cash or check) at the office upon arrival. Registration is required at least 24 hours in advance\, please call the park office at 518-793-0511.
URL:https://friendsofmoreaulake.org/event/forest-bathing-33968/
END:VEVENT
BEGIN:VEVENT
DTSTART;TZID=America/New_York:20230924T090000
DTEND;TZID=America/New_York:20230924T110000
DTSTAMP:20260425T230228
CREATED:20260423T181829Z
LAST-MODIFIED:20260423T181829Z
UID:10039989-1695546000-1695553200@friendsofmoreaulake.org
SUMMARY:Forest Bathing
DESCRIPTION:Coined shinrin-yoku in Japan in the 1980’s\, forest bathing is the ecotherapeutic practice of spending time immersed in nature\, absorbing it with all of your senses. The physiological and psychological benefits last for days afterward with the additional benefit of a new appreciation of our precious woodland and its inhabitants. This is a beginner-rated walk along the Nature Trail with long pauses to sit and enhance our awareness of our surroundings and it is approximately a 2-hour program. A small mat is beneficial to ensure a dry seat. This program is limited to those age 14 and up. Pay $5 per person (cash or check) at the office upon arrival. Registration is required at least 24 hours in advance\, please call the park office at 518-793-0511.
URL:https://friendsofmoreaulake.org/event/forest-bathing-33967/
END:VEVENT
BEGIN:VEVENT
DTSTART;TZID=America/New_York:20230924T090000
DTEND;TZID=America/New_York:20230924T110000
DTSTAMP:20260425T230228
CREATED:20260423T061432Z
LAST-MODIFIED:20260423T061432Z
UID:10039988-1695546000-1695553200@friendsofmoreaulake.org
SUMMARY:Forest Bathing
DESCRIPTION:Coined shinrin-yoku in Japan in the 1980’s\, forest bathing is the ecotherapeutic practice of spending time immersed in nature\, absorbing it with all of your senses. The physiological and psychological benefits last for days afterward with the additional benefit of a new appreciation of our precious woodland and its inhabitants. This is a beginner-rated walk along the Nature Trail with long pauses to sit and enhance our awareness of our surroundings and it is approximately a 2-hour program. A small mat is beneficial to ensure a dry seat. This program is limited to those age 14 and up. Pay $5 per person (cash or check) at the office upon arrival. Registration is required at least 24 hours in advance\, please call the park office at 518-793-0511.
URL:https://friendsofmoreaulake.org/event/forest-bathing-33966/
END:VEVENT
BEGIN:VEVENT
DTSTART;TZID=America/New_York:20230924T090000
DTEND;TZID=America/New_York:20230924T110000
DTSTAMP:20260425T230228
CREATED:20260422T181639Z
LAST-MODIFIED:20260422T181639Z
UID:10039987-1695546000-1695553200@friendsofmoreaulake.org
SUMMARY:Forest Bathing
DESCRIPTION:Coined shinrin-yoku in Japan in the 1980’s\, forest bathing is the ecotherapeutic practice of spending time immersed in nature\, absorbing it with all of your senses. The physiological and psychological benefits last for days afterward with the additional benefit of a new appreciation of our precious woodland and its inhabitants. This is a beginner-rated walk along the Nature Trail with long pauses to sit and enhance our awareness of our surroundings and it is approximately a 2-hour program. A small mat is beneficial to ensure a dry seat. This program is limited to those age 14 and up. Pay $5 per person (cash or check) at the office upon arrival. Registration is required at least 24 hours in advance\, please call the park office at 518-793-0511.
URL:https://friendsofmoreaulake.org/event/forest-bathing-33965/
END:VEVENT
BEGIN:VEVENT
DTSTART;TZID=America/New_York:20230924T090000
DTEND;TZID=America/New_York:20230924T110000
DTSTAMP:20260425T230228
CREATED:20260422T061650Z
LAST-MODIFIED:20260422T061650Z
UID:10039986-1695546000-1695553200@friendsofmoreaulake.org
SUMMARY:Forest Bathing
DESCRIPTION:Coined shinrin-yoku in Japan in the 1980’s\, forest bathing is the ecotherapeutic practice of spending time immersed in nature\, absorbing it with all of your senses. The physiological and psychological benefits last for days afterward with the additional benefit of a new appreciation of our precious woodland and its inhabitants. This is a beginner-rated walk along the Nature Trail with long pauses to sit and enhance our awareness of our surroundings and it is approximately a 2-hour program. A small mat is beneficial to ensure a dry seat. This program is limited to those age 14 and up. Pay $5 per person (cash or check) at the office upon arrival. Registration is required at least 24 hours in advance\, please call the park office at 518-793-0511.
URL:https://friendsofmoreaulake.org/event/forest-bathing-33964/
END:VEVENT
BEGIN:VEVENT
DTSTART;TZID=America/New_York:20230924T090000
DTEND;TZID=America/New_York:20230924T110000
DTSTAMP:20260425T230228
CREATED:20260421T181600Z
LAST-MODIFIED:20260421T181600Z
UID:10039985-1695546000-1695553200@friendsofmoreaulake.org
SUMMARY:Forest Bathing
DESCRIPTION:Coined shinrin-yoku in Japan in the 1980’s\, forest bathing is the ecotherapeutic practice of spending time immersed in nature\, absorbing it with all of your senses. The physiological and psychological benefits last for days afterward with the additional benefit of a new appreciation of our precious woodland and its inhabitants. This is a beginner-rated walk along the Nature Trail with long pauses to sit and enhance our awareness of our surroundings and it is approximately a 2-hour program. A small mat is beneficial to ensure a dry seat. This program is limited to those age 14 and up. Pay $5 per person (cash or check) at the office upon arrival. Registration is required at least 24 hours in advance\, please call the park office at 518-793-0511.
URL:https://friendsofmoreaulake.org/event/forest-bathing-33963/
END:VEVENT
BEGIN:VEVENT
DTSTART;TZID=America/New_York:20230924T090000
DTEND;TZID=America/New_York:20230924T110000
DTSTAMP:20260425T230228
CREATED:20260421T061804Z
LAST-MODIFIED:20260421T061804Z
UID:10039984-1695546000-1695553200@friendsofmoreaulake.org
SUMMARY:Forest Bathing
DESCRIPTION:Coined shinrin-yoku in Japan in the 1980’s\, forest bathing is the ecotherapeutic practice of spending time immersed in nature\, absorbing it with all of your senses. The physiological and psychological benefits last for days afterward with the additional benefit of a new appreciation of our precious woodland and its inhabitants. This is a beginner-rated walk along the Nature Trail with long pauses to sit and enhance our awareness of our surroundings and it is approximately a 2-hour program. A small mat is beneficial to ensure a dry seat. This program is limited to those age 14 and up. Pay $5 per person (cash or check) at the office upon arrival. Registration is required at least 24 hours in advance\, please call the park office at 518-793-0511.
URL:https://friendsofmoreaulake.org/event/forest-bathing-33962/
END:VEVENT
BEGIN:VEVENT
DTSTART;TZID=America/New_York:20230924T090000
DTEND;TZID=America/New_York:20230924T110000
DTSTAMP:20260425T230228
CREATED:20260420T181424Z
LAST-MODIFIED:20260420T181424Z
UID:10039983-1695546000-1695553200@friendsofmoreaulake.org
SUMMARY:Forest Bathing
DESCRIPTION:Coined shinrin-yoku in Japan in the 1980’s\, forest bathing is the ecotherapeutic practice of spending time immersed in nature\, absorbing it with all of your senses. The physiological and psychological benefits last for days afterward with the additional benefit of a new appreciation of our precious woodland and its inhabitants. This is a beginner-rated walk along the Nature Trail with long pauses to sit and enhance our awareness of our surroundings and it is approximately a 2-hour program. A small mat is beneficial to ensure a dry seat. This program is limited to those age 14 and up. Pay $5 per person (cash or check) at the office upon arrival. Registration is required at least 24 hours in advance\, please call the park office at 518-793-0511.
URL:https://friendsofmoreaulake.org/event/forest-bathing-33961/
END:VEVENT
BEGIN:VEVENT
DTSTART;TZID=America/New_York:20230924T090000
DTEND;TZID=America/New_York:20230924T110000
DTSTAMP:20260425T230228
CREATED:20260420T061617Z
LAST-MODIFIED:20260420T061617Z
UID:10039982-1695546000-1695553200@friendsofmoreaulake.org
SUMMARY:Forest Bathing
DESCRIPTION:Coined shinrin-yoku in Japan in the 1980’s\, forest bathing is the ecotherapeutic practice of spending time immersed in nature\, absorbing it with all of your senses. The physiological and psychological benefits last for days afterward with the additional benefit of a new appreciation of our precious woodland and its inhabitants. This is a beginner-rated walk along the Nature Trail with long pauses to sit and enhance our awareness of our surroundings and it is approximately a 2-hour program. A small mat is beneficial to ensure a dry seat. This program is limited to those age 14 and up. Pay $5 per person (cash or check) at the office upon arrival. Registration is required at least 24 hours in advance\, please call the park office at 518-793-0511.
URL:https://friendsofmoreaulake.org/event/forest-bathing-33960/
END:VEVENT
BEGIN:VEVENT
DTSTART;TZID=America/New_York:20230924T090000
DTEND;TZID=America/New_York:20230924T110000
DTSTAMP:20260425T230228
CREATED:20260419T181418Z
LAST-MODIFIED:20260419T181418Z
UID:10039981-1695546000-1695553200@friendsofmoreaulake.org
SUMMARY:Forest Bathing
DESCRIPTION:Coined shinrin-yoku in Japan in the 1980’s\, forest bathing is the ecotherapeutic practice of spending time immersed in nature\, absorbing it with all of your senses. The physiological and psychological benefits last for days afterward with the additional benefit of a new appreciation of our precious woodland and its inhabitants. This is a beginner-rated walk along the Nature Trail with long pauses to sit and enhance our awareness of our surroundings and it is approximately a 2-hour program. A small mat is beneficial to ensure a dry seat. This program is limited to those age 14 and up. Pay $5 per person (cash or check) at the office upon arrival. Registration is required at least 24 hours in advance\, please call the park office at 518-793-0511.
URL:https://friendsofmoreaulake.org/event/forest-bathing-33959/
END:VEVENT
END:VCALENDAR