BEGIN:VCALENDAR
VERSION:2.0
PRODID:-//Friends of Moreau Lake State Park, Inc. - ECPv6.15.20//NONSGML v1.0//EN
CALSCALE:GREGORIAN
METHOD:PUBLISH
X-WR-CALNAME:Friends of Moreau Lake State Park, Inc.
X-ORIGINAL-URL:https://friendsofmoreaulake.org
X-WR-CALDESC:Events for Friends of Moreau Lake State Park, Inc.
REFRESH-INTERVAL;VALUE=DURATION:PT1H
X-Robots-Tag:noindex
X-PUBLISHED-TTL:PT1H
BEGIN:VTIMEZONE
TZID:America/New_York
BEGIN:DAYLIGHT
TZOFFSETFROM:-0500
TZOFFSETTO:-0400
TZNAME:EDT
DTSTART:20250309T070000
END:DAYLIGHT
BEGIN:STANDARD
TZOFFSETFROM:-0400
TZOFFSETTO:-0500
TZNAME:EST
DTSTART:20251102T060000
END:STANDARD
BEGIN:DAYLIGHT
TZOFFSETFROM:-0500
TZOFFSETTO:-0400
TZNAME:EDT
DTSTART:20260308T070000
END:DAYLIGHT
BEGIN:STANDARD
TZOFFSETFROM:-0400
TZOFFSETTO:-0500
TZNAME:EST
DTSTART:20261101T060000
END:STANDARD
BEGIN:DAYLIGHT
TZOFFSETFROM:-0500
TZOFFSETTO:-0400
TZNAME:EDT
DTSTART:20270314T070000
END:DAYLIGHT
BEGIN:STANDARD
TZOFFSETFROM:-0400
TZOFFSETTO:-0500
TZNAME:EST
DTSTART:20271107T060000
END:STANDARD
END:VTIMEZONE
BEGIN:VEVENT
DTSTART;TZID=America/New_York:20260423T110000
DTEND;TZID=America/New_York:20260423T123000
DTSTAMP:20260423T020125
CREATED:20260401T213914Z
LAST-MODIFIED:20260401T213914Z
UID:10039934-1776942000-1776947400@friendsofmoreaulake.org
SUMMARY:Homeschool: Earth Day Celebration
DESCRIPTION:Join an educator for Moreau Lake State Park’s Science Series\, designed for homeschool families. Students in grades 1 to 4 (typically ages 6 to 9) will celebrate Earth Day with hands-on activities\, create crafts using recycled materials\, and learn how small actions can make a positive impact on the planet. This is a free program. Please register in advance by calling (518) 793-0511. Limit 25 per time slot.
URL:https://friendsofmoreaulake.org/event/homeschool-earth-day-celebration/
END:VEVENT
BEGIN:VEVENT
DTSTART;TZID=America/New_York:20260423T140000
DTEND;TZID=America/New_York:20260423T153000
DTSTAMP:20260423T020125
CREATED:20260401T214000Z
LAST-MODIFIED:20260401T214000Z
UID:10039935-1776952800-1776958200@friendsofmoreaulake.org
SUMMARY:Homechool: Environmental Stewardship
DESCRIPTION:Join an educator for Moreau Lake State Park’s Science Series\, designed for homeschool families. Students in grades 5 to 8 (typically ages 10 to 14) will explore sustainability and water conservation\, participate in a hands-on trash pickup\, and discuss ways to protect and care for the environment. This is a free program. Please register in advance by calling (518) 793-0511. Limit 25 per time slot.
URL:https://friendsofmoreaulake.org/event/homechool-environmental-stewardship/
END:VEVENT
BEGIN:VEVENT
DTSTART;TZID=America/New_York:20260423T190000
DTEND;TZID=America/New_York:20260423T203000
DTSTAMP:20260423T020125
CREATED:20260416T124418Z
LAST-MODIFIED:20260416T124755Z
UID:10039973-1776970800-1776976200@friendsofmoreaulake.org
SUMMARY:Friends Member-Only Peeper Walk
DESCRIPTION:As a member of the Friends – you’re invited to participate in a members-only event on April 23 at 7:00pm – we will meet at the beach. This month it’s our annual Peeper Walk. Join other members for the walk to view and listen for these little creatures who are calling their mates as loud as they can! The walk will be lead by our experienced members who will provide insight to the peepers as well as talk about vernal ponds around the park. These shallow\, woodland depressions are crucial for wildlife\, acting as “fish-free” breeding grounds for amphibians like salamanders and frogs\, as well as fairy shrimp. See if you can spot any of them…. \nIf you are not a member and would like to participate – please CLICK HERE \nThe Friends are 100% volunteer and find great joy in sharing our love of the park and all of the natural life within it. So – sign up today and we’re sure you’ll enjoy the walk and talk! \nPlease CLICK HERE to RSVP – this is a free vent so come on out.
URL:https://friendsofmoreaulake.org/event/friends-member-only-peeper-walk/
END:VEVENT
END:VCALENDAR