BEGIN:VCALENDAR
VERSION:2.0
PRODID:-//Friends of Moreau Lake State Park, Inc. - ECPv6.15.20//NONSGML v1.0//EN
CALSCALE:GREGORIAN
METHOD:PUBLISH
X-ORIGINAL-URL:https://friendsofmoreaulake.org
X-WR-CALDESC:Events for Friends of Moreau Lake State Park, Inc.
REFRESH-INTERVAL;VALUE=DURATION:PT1H
X-Robots-Tag:noindex
X-PUBLISHED-TTL:PT1H
BEGIN:VTIMEZONE
TZID:America/New_York
BEGIN:DAYLIGHT
TZOFFSETFROM:-0500
TZOFFSETTO:-0400
TZNAME:EDT
DTSTART:20240310T070000
END:DAYLIGHT
BEGIN:STANDARD
TZOFFSETFROM:-0400
TZOFFSETTO:-0500
TZNAME:EST
DTSTART:20241103T060000
END:STANDARD
BEGIN:DAYLIGHT
TZOFFSETFROM:-0500
TZOFFSETTO:-0400
TZNAME:EDT
DTSTART:20250309T070000
END:DAYLIGHT
BEGIN:STANDARD
TZOFFSETFROM:-0400
TZOFFSETTO:-0500
TZNAME:EST
DTSTART:20251102T060000
END:STANDARD
BEGIN:DAYLIGHT
TZOFFSETFROM:-0500
TZOFFSETTO:-0400
TZNAME:EDT
DTSTART:20260308T070000
END:DAYLIGHT
BEGIN:STANDARD
TZOFFSETFROM:-0400
TZOFFSETTO:-0500
TZNAME:EST
DTSTART:20261101T060000
END:STANDARD
END:VTIMEZONE
BEGIN:VEVENT
DTSTART;TZID=America/New_York:20251125T100000
DTEND;TZID=America/New_York:20251125T120000
DTSTAMP:20260421T070618
CREATED:20251027T160419Z
LAST-MODIFIED:20251027T160419Z
UID:10035976-1764064800-1764072000@friendsofmoreaulake.org
SUMMARY:Gratitude Walk
DESCRIPTION:Come to Moreau for a guided Nature Walk. As we go\, we’ll pay particular attention to the beauty and peace of our natural surroundings and focus on our gratitude for being here to appreciate it. This is a beginner-rated walk for an hour on the Nature Trail\, suitable for all ages. Please register in advance by calling 518-793-0511.
URL:https://friendsofmoreaulake.org/event/gratitude-walk-2/
END:VEVENT
BEGIN:VEVENT
DTSTART;TZID=America/New_York:20251125T110000
DTEND;TZID=America/New_York:20251125T123000
DTSTAMP:20260421T070618
CREATED:20251027T160508Z
LAST-MODIFIED:20251027T160508Z
UID:10035977-1764068400-1764073800@friendsofmoreaulake.org
SUMMARY:Cornhusk Doll Workshop
DESCRIPTION:Step back in time and create your very own traditional cornhusk doll! Learn about the cultural history behind these dolls and their connection to harvest traditions. All materials will be provided. This program is free and for ages 6+\, but all are welcome. Please register in advance by calling 518-793-0511.\nPlease note: Cornhusk doll making has deep Indigenous roots. This program is not a traditional cultural workshop\, but an educational activity inspired by historical practices.
URL:https://friendsofmoreaulake.org/event/cornhusk-doll-workshop/
END:VEVENT
END:VCALENDAR