BEGIN:VCALENDAR
VERSION:2.0
PRODID:-//Friends of Moreau Lake State Park, Inc. - ECPv6.15.20//NONSGML v1.0//EN
CALSCALE:GREGORIAN
METHOD:PUBLISH
X-ORIGINAL-URL:https://friendsofmoreaulake.org
X-WR-CALDESC:Events for Friends of Moreau Lake State Park, Inc.
REFRESH-INTERVAL;VALUE=DURATION:PT1H
X-Robots-Tag:noindex
X-PUBLISHED-TTL:PT1H
BEGIN:VTIMEZONE
TZID:America/New_York
BEGIN:DAYLIGHT
TZOFFSETFROM:-0500
TZOFFSETTO:-0400
TZNAME:EDT
DTSTART:20240310T070000
END:DAYLIGHT
BEGIN:STANDARD
TZOFFSETFROM:-0400
TZOFFSETTO:-0500
TZNAME:EST
DTSTART:20241103T060000
END:STANDARD
BEGIN:DAYLIGHT
TZOFFSETFROM:-0500
TZOFFSETTO:-0400
TZNAME:EDT
DTSTART:20250309T070000
END:DAYLIGHT
BEGIN:STANDARD
TZOFFSETFROM:-0400
TZOFFSETTO:-0500
TZNAME:EST
DTSTART:20251102T060000
END:STANDARD
BEGIN:DAYLIGHT
TZOFFSETFROM:-0500
TZOFFSETTO:-0400
TZNAME:EDT
DTSTART:20260308T070000
END:DAYLIGHT
BEGIN:STANDARD
TZOFFSETFROM:-0400
TZOFFSETTO:-0500
TZNAME:EST
DTSTART:20261101T060000
END:STANDARD
END:VTIMEZONE
BEGIN:VEVENT
DTSTART;TZID=America/New_York:20251106T110000
DTEND;TZID=America/New_York:20251106T123000
DTSTAMP:20260421T070620
CREATED:20251027T154828Z
LAST-MODIFIED:20251027T154828Z
UID:10035951-1762426800-1762432200@friendsofmoreaulake.org
SUMMARY:Homeschool Class: Filed Journaling
DESCRIPTION:Join an educator at the nature center to get started on your field journaling journey. We will supply journals\, or we can hand make them. We will learn about the importance of recording observations\, practice our skills\, and go on a short walk if we are able. This is free and geared to homeschool students 6+\, but all are welcome. Please reserve your spot in advance by calling the office at 518-793-0511.
URL:https://friendsofmoreaulake.org/event/homeschool-class-filed-journaling/
END:VEVENT
BEGIN:VEVENT
DTSTART;TZID=America/New_York:20251106T190000
DTEND;TZID=America/New_York:20251106T210000
DTSTAMP:20260421T070620
CREATED:20251027T154907Z
LAST-MODIFIED:20251027T154907Z
UID:10035952-1762455600-1762462800@friendsofmoreaulake.org
SUMMARY:Full Moon Hike
DESCRIPTION:Join a park educator on a beginner hike and if the clouds cooperate\, we’ll get to enjoy the splendor of the full “Beaver Moon” rising above the mountains! This hike is free\, is family friendly and well-behaved dogs on a 6 foot or shorter leash are welcome. This hike will not go the full 3.5 miles\, we will be going closer to 2.5 miles on flat terrain. Wear the appropriate clothing for the weather. Please register in advance by calling 518-793-0511 the earlier the better as this is a popular program and it fills up quickly.
URL:https://friendsofmoreaulake.org/event/full-moon-hike-11/
END:VEVENT
END:VCALENDAR