BEGIN:VCALENDAR
VERSION:2.0
PRODID:-//Friends of Moreau Lake State Park, Inc. - ECPv6.15.20//NONSGML v1.0//EN
CALSCALE:GREGORIAN
METHOD:PUBLISH
X-ORIGINAL-URL:https://friendsofmoreaulake.org
X-WR-CALDESC:Events for Friends of Moreau Lake State Park, Inc.
REFRESH-INTERVAL;VALUE=DURATION:PT1H
X-Robots-Tag:noindex
X-PUBLISHED-TTL:PT1H
BEGIN:VTIMEZONE
TZID:America/New_York
BEGIN:DAYLIGHT
TZOFFSETFROM:-0500
TZOFFSETTO:-0400
TZNAME:EDT
DTSTART:20240310T070000
END:DAYLIGHT
BEGIN:STANDARD
TZOFFSETFROM:-0400
TZOFFSETTO:-0500
TZNAME:EST
DTSTART:20241103T060000
END:STANDARD
BEGIN:DAYLIGHT
TZOFFSETFROM:-0500
TZOFFSETTO:-0400
TZNAME:EDT
DTSTART:20250309T070000
END:DAYLIGHT
BEGIN:STANDARD
TZOFFSETFROM:-0400
TZOFFSETTO:-0500
TZNAME:EST
DTSTART:20251102T060000
END:STANDARD
BEGIN:DAYLIGHT
TZOFFSETFROM:-0500
TZOFFSETTO:-0400
TZNAME:EDT
DTSTART:20260308T070000
END:DAYLIGHT
BEGIN:STANDARD
TZOFFSETFROM:-0400
TZOFFSETTO:-0500
TZNAME:EST
DTSTART:20261101T060000
END:STANDARD
END:VTIMEZONE
BEGIN:VEVENT
DTSTART;TZID=America/New_York:20251014T110000
DTEND;TZID=America/New_York:20251014T130000
DTSTAMP:20260419T084742
CREATED:20250928T135236Z
LAST-MODIFIED:20250928T135315Z
UID:10034459-1760439600-1760446800@friendsofmoreaulake.org
SUMMARY:Beading Class
DESCRIPTION:Join us at the nature center to explore the art of beading with an uncommon natural material\, porcupine quills! Participants will learn how to safely prepare and use quills to create either a bracelet or necklace. This beginner-friendly class highlights resourcefulness and finding beauty in materials that might otherwise be overlooked. Ages 13+. Space is limited to 8 registrants\, so please sign up as soon as possible by calling the office at 518-793-0511.\nNote: Quillwork has deep roots in Indigenous cultures across North America. This program is an introduction to basic beading techniques and is not a traditional cultural workshop.
URL:https://friendsofmoreaulake.org/event/beaging-class/
END:VEVENT
END:VCALENDAR