BEGIN:VCALENDAR
VERSION:2.0
PRODID:-//Friends of Moreau Lake State Park, Inc. - ECPv6.15.20//NONSGML v1.0//EN
CALSCALE:GREGORIAN
METHOD:PUBLISH
X-ORIGINAL-URL:https://friendsofmoreaulake.org
X-WR-CALDESC:Events for Friends of Moreau Lake State Park, Inc.
REFRESH-INTERVAL;VALUE=DURATION:PT1H
X-Robots-Tag:noindex
X-PUBLISHED-TTL:PT1H
BEGIN:VTIMEZONE
TZID:America/New_York
BEGIN:DAYLIGHT
TZOFFSETFROM:-0500
TZOFFSETTO:-0400
TZNAME:EDT
DTSTART:20240310T070000
END:DAYLIGHT
BEGIN:STANDARD
TZOFFSETFROM:-0400
TZOFFSETTO:-0500
TZNAME:EST
DTSTART:20241103T060000
END:STANDARD
BEGIN:DAYLIGHT
TZOFFSETFROM:-0500
TZOFFSETTO:-0400
TZNAME:EDT
DTSTART:20250309T070000
END:DAYLIGHT
BEGIN:STANDARD
TZOFFSETFROM:-0400
TZOFFSETTO:-0500
TZNAME:EST
DTSTART:20251102T060000
END:STANDARD
BEGIN:DAYLIGHT
TZOFFSETFROM:-0500
TZOFFSETTO:-0400
TZNAME:EDT
DTSTART:20260308T070000
END:DAYLIGHT
BEGIN:STANDARD
TZOFFSETFROM:-0400
TZOFFSETTO:-0500
TZNAME:EST
DTSTART:20261101T060000
END:STANDARD
END:VTIMEZONE
BEGIN:VEVENT
DTSTART;TZID=America/New_York:20251002T110000
DTEND;TZID=America/New_York:20251002T123000
DTSTAMP:20260421T054129
CREATED:20250928T134516Z
LAST-MODIFIED:20250928T134516Z
UID:10034451-1759402800-1759408200@friendsofmoreaulake.org
SUMMARY:Homeschool Pop-Up: Indigenous People's Day
DESCRIPTION:Join us at the nature center for a homeschool pop-up program exploring the history and meaning of Indigenous Peoples’ Day. We will discuss why this day is recognized\, learn about the rich cultures and ongoing contributions of Native peoples\, and reflect on the importance of honoring Indigenous voices in history. To complement our learning\, participants will also make a simple corn husk doll craft. This program is an introduction for homeschool families and is NOT a traditional cultural workshop. Ages 6+. Please call the office at 518-793-0511 to register.
URL:https://friendsofmoreaulake.org/event/homeschool-pop-up-indigenous-peoples-day/
END:VEVENT
END:VCALENDAR