BEGIN:VCALENDAR
VERSION:2.0
PRODID:-//Friends of Moreau Lake State Park, Inc. - ECPv6.15.20//NONSGML v1.0//EN
CALSCALE:GREGORIAN
METHOD:PUBLISH
X-WR-CALNAME:Friends of Moreau Lake State Park, Inc.
X-ORIGINAL-URL:https://friendsofmoreaulake.org
X-WR-CALDESC:Events for Friends of Moreau Lake State Park, Inc.
REFRESH-INTERVAL;VALUE=DURATION:PT1H
X-Robots-Tag:noindex
X-PUBLISHED-TTL:PT1H
BEGIN:VTIMEZONE
TZID:America/New_York
BEGIN:DAYLIGHT
TZOFFSETFROM:-0500
TZOFFSETTO:-0400
TZNAME:EDT
DTSTART:20240310T070000
END:DAYLIGHT
BEGIN:STANDARD
TZOFFSETFROM:-0400
TZOFFSETTO:-0500
TZNAME:EST
DTSTART:20241103T060000
END:STANDARD
BEGIN:DAYLIGHT
TZOFFSETFROM:-0500
TZOFFSETTO:-0400
TZNAME:EDT
DTSTART:20250309T070000
END:DAYLIGHT
BEGIN:STANDARD
TZOFFSETFROM:-0400
TZOFFSETTO:-0500
TZNAME:EST
DTSTART:20251102T060000
END:STANDARD
BEGIN:DAYLIGHT
TZOFFSETFROM:-0500
TZOFFSETTO:-0400
TZNAME:EDT
DTSTART:20260308T070000
END:DAYLIGHT
BEGIN:STANDARD
TZOFFSETFROM:-0400
TZOFFSETTO:-0500
TZNAME:EST
DTSTART:20261101T060000
END:STANDARD
END:VTIMEZONE
BEGIN:VEVENT
DTSTART;TZID=America/New_York:20250919T093000
DTEND;TZID=America/New_York:20250919T103000
DTSTAMP:20260419T120050
CREATED:20250730T140529Z
LAST-MODIFIED:20260401T212333Z
UID:10029872-1758274200-1758277800@friendsofmoreaulake.org
SUMMARY:Wiggly Wanderers
DESCRIPTION:Wiggly Wanderers is a casual and fun program that is offered to walking toddlers\, carriable babies and their caregivers. This is a beginner’s hike/wander series with not too much distance for toddlers who are ready to move and caregivers who are willing and able to baby wear and/or carry their toddler if their legs get too tired. Strollers will not work for these programs. We meet at the nature center parking lot. This program is free and does not require registration\, please tell the toll booth operator that you are there for a program.
URL:https://friendsofmoreaulake.org/event/wiggly-wanderers/2025-09-19/
END:VEVENT
BEGIN:VEVENT
DTSTART;TZID=America/New_York:20250919T110000
DTEND;TZID=America/New_York:20250919T120000
DTSTAMP:20260419T120050
CREATED:20250822T203012Z
LAST-MODIFIED:20250822T203012Z
UID:10033105-1758279600-1758283200@friendsofmoreaulake.org
SUMMARY:Birds of Play
DESCRIPTION:This program is geared toward younger children to learn the basics of size\, color\, behavior and vocalization of common birds. The program is free. Please reserve your spot in advance by calling the office at 518-793-0511.
URL:https://friendsofmoreaulake.org/event/birds-of-play-2/
END:VEVENT
BEGIN:VEVENT
DTSTART;TZID=America/New_York:20250919T190000
DTEND;TZID=America/New_York:20250919T210000
DTSTAMP:20260419T120050
CREATED:20250822T203055Z
LAST-MODIFIED:20250822T203055Z
UID:10033106-1758308400-1758315600@friendsofmoreaulake.org
SUMMARY:Movie Night on the Beach
DESCRIPTION:We will be hosting another movie night! Movie will be announced closer to the date but will be family friendly! Bring a chair\, your favorite blanket\, and a flashlight. Movie will begin when it gets dark enough. Our concessionaire\, Big Tony’s\, will be open until 9:30pm for dinner/snacks and we will have free popcorn (while supplies last). No park entry fee and the movie is free. Open to all ages of the public AND to our campers! The observatory will be open if the weather cooperates. Well-behaved dogs on a 6 foot or shorter leash are welcome. Registration is not required
URL:https://friendsofmoreaulake.org/event/movie-night-on-the-beach/
END:VEVENT
END:VCALENDAR