BEGIN:VCALENDAR
VERSION:2.0
PRODID:-//Friends of Moreau Lake State Park, Inc. - ECPv6.15.20//NONSGML v1.0//EN
CALSCALE:GREGORIAN
METHOD:PUBLISH
X-WR-CALNAME:Friends of Moreau Lake State Park, Inc.
X-ORIGINAL-URL:https://friendsofmoreaulake.org
X-WR-CALDESC:Events for Friends of Moreau Lake State Park, Inc.
REFRESH-INTERVAL;VALUE=DURATION:PT1H
X-Robots-Tag:noindex
X-PUBLISHED-TTL:PT1H
BEGIN:VTIMEZONE
TZID:America/New_York
BEGIN:DAYLIGHT
TZOFFSETFROM:-0500
TZOFFSETTO:-0400
TZNAME:EDT
DTSTART:20240310T070000
END:DAYLIGHT
BEGIN:STANDARD
TZOFFSETFROM:-0400
TZOFFSETTO:-0500
TZNAME:EST
DTSTART:20241103T060000
END:STANDARD
BEGIN:DAYLIGHT
TZOFFSETFROM:-0500
TZOFFSETTO:-0400
TZNAME:EDT
DTSTART:20250309T070000
END:DAYLIGHT
BEGIN:STANDARD
TZOFFSETFROM:-0400
TZOFFSETTO:-0500
TZNAME:EST
DTSTART:20251102T060000
END:STANDARD
BEGIN:DAYLIGHT
TZOFFSETFROM:-0500
TZOFFSETTO:-0400
TZNAME:EDT
DTSTART:20260308T070000
END:DAYLIGHT
BEGIN:STANDARD
TZOFFSETFROM:-0400
TZOFFSETTO:-0500
TZNAME:EST
DTSTART:20261101T060000
END:STANDARD
END:VTIMEZONE
BEGIN:VEVENT
DTSTART;TZID=America/New_York:20250806T130000
DTEND;TZID=America/New_York:20250806T140000
DTSTAMP:20260419T133728
CREATED:20250630T140713Z
LAST-MODIFIED:20250630T140713Z
UID:10022726-1754485200-1754488800@friendsofmoreaulake.org
SUMMARY:The Friends Kid's Craft at the Nature Center
DESCRIPTION:Join the Friends of Moreau Lake State Park at the Nature Center to make a fun craft every Wednesday from July 9th to August 13th. This program is geared toward younger children\, but everyone is welcome! This program is free\, and no registration is required. You only must pay the entry fee if you are planning on spending the day at the park.
URL:https://friendsofmoreaulake.org/event/the-friends-kids-craft-at-the-nature-center/2025-08-06/
END:VEVENT
BEGIN:VEVENT
DTSTART;TZID=America/New_York:20250806T130000
DTEND;TZID=America/New_York:20250806T140000
DTSTAMP:20260419T133728
CREATED:20250730T141341Z
LAST-MODIFIED:20250730T141341Z
UID:10029925-1754485200-1754488800@friendsofmoreaulake.org
SUMMARY:Friends Crafts at the Nature Center
DESCRIPTION:Join the Friends of Moreau Lake State Park at the Nature Center to make a fun craft every Wednesday from July 9th to August 13th. This program is geared toward younger children\, but everyone is welcome! This program is free\, and no registration is required. You only have to pay the entry fee if you are planning on spending the day at the park.
URL:https://friendsofmoreaulake.org/event/friends-crafts-at-the-nature-center/2025-08-06/
END:VEVENT
END:VCALENDAR