BEGIN:VCALENDAR
VERSION:2.0
PRODID:-//Friends of Moreau Lake State Park, Inc. - ECPv6.15.20//NONSGML v1.0//EN
CALSCALE:GREGORIAN
METHOD:PUBLISH
X-WR-CALNAME:Friends of Moreau Lake State Park, Inc.
X-ORIGINAL-URL:https://friendsofmoreaulake.org
X-WR-CALDESC:Events for Friends of Moreau Lake State Park, Inc.
REFRESH-INTERVAL;VALUE=DURATION:PT1H
X-Robots-Tag:noindex
X-PUBLISHED-TTL:PT1H
BEGIN:VTIMEZONE
TZID:America/New_York
BEGIN:DAYLIGHT
TZOFFSETFROM:-0500
TZOFFSETTO:-0400
TZNAME:EDT
DTSTART:20240310T070000
END:DAYLIGHT
BEGIN:STANDARD
TZOFFSETFROM:-0400
TZOFFSETTO:-0500
TZNAME:EST
DTSTART:20241103T060000
END:STANDARD
BEGIN:DAYLIGHT
TZOFFSETFROM:-0500
TZOFFSETTO:-0400
TZNAME:EDT
DTSTART:20250309T070000
END:DAYLIGHT
BEGIN:STANDARD
TZOFFSETFROM:-0400
TZOFFSETTO:-0500
TZNAME:EST
DTSTART:20251102T060000
END:STANDARD
BEGIN:DAYLIGHT
TZOFFSETFROM:-0500
TZOFFSETTO:-0400
TZNAME:EDT
DTSTART:20260308T070000
END:DAYLIGHT
BEGIN:STANDARD
TZOFFSETFROM:-0400
TZOFFSETTO:-0500
TZNAME:EST
DTSTART:20261101T060000
END:STANDARD
END:VTIMEZONE
BEGIN:VEVENT
DTSTART;TZID=America/New_York:20250724T203000
DTEND;TZID=America/New_York:20250724T223000
DTSTAMP:20260419T165557
CREATED:20250630T141223Z
LAST-MODIFIED:20250730T142117Z
UID:10022733-1753389000-1753396200@friendsofmoreaulake.org
SUMMARY:Movie Night
DESCRIPTION:We will be hosting another movie night! Movie will be announced closer to the date\, but will be family friendly! Bring a chair\, your favorite blanket\, and a flashlight. Movie will begin when it gets dark enough. Our concessionaire\, Big Tony’s\, will be open all night for dinner/snacks and we will have free popcorn (while supplies last). No park entry fee and the movie is free. Open to all ages of the public AND to our campers! The observatory will be open if the weather cooperates. Well-behaved dogs on a 6 foot or shorter leash are welcome. Registration is not required. If you have any questions\, call 518-793-0511.
URL:https://friendsofmoreaulake.org/event/movie-night/2025-07-24/
END:VEVENT
END:VCALENDAR