BEGIN:VCALENDAR
VERSION:2.0
PRODID:-//Friends of Moreau Lake State Park, Inc. - ECPv6.15.20//NONSGML v1.0//EN
CALSCALE:GREGORIAN
METHOD:PUBLISH
X-WR-CALNAME:Friends of Moreau Lake State Park, Inc.
X-ORIGINAL-URL:https://friendsofmoreaulake.org
X-WR-CALDESC:Events for Friends of Moreau Lake State Park, Inc.
REFRESH-INTERVAL;VALUE=DURATION:PT1H
X-Robots-Tag:noindex
X-PUBLISHED-TTL:PT1H
BEGIN:VTIMEZONE
TZID:America/New_York
BEGIN:DAYLIGHT
TZOFFSETFROM:-0500
TZOFFSETTO:-0400
TZNAME:EDT
DTSTART:20240310T070000
END:DAYLIGHT
BEGIN:STANDARD
TZOFFSETFROM:-0400
TZOFFSETTO:-0500
TZNAME:EST
DTSTART:20241103T060000
END:STANDARD
BEGIN:DAYLIGHT
TZOFFSETFROM:-0500
TZOFFSETTO:-0400
TZNAME:EDT
DTSTART:20250309T070000
END:DAYLIGHT
BEGIN:STANDARD
TZOFFSETFROM:-0400
TZOFFSETTO:-0500
TZNAME:EST
DTSTART:20251102T060000
END:STANDARD
BEGIN:DAYLIGHT
TZOFFSETFROM:-0500
TZOFFSETTO:-0400
TZNAME:EDT
DTSTART:20260308T070000
END:DAYLIGHT
BEGIN:STANDARD
TZOFFSETFROM:-0400
TZOFFSETTO:-0500
TZNAME:EST
DTSTART:20261101T060000
END:STANDARD
END:VTIMEZONE
BEGIN:VEVENT
DTSTART;TZID=America/New_York:20250717T100000
DTEND;TZID=America/New_York:20250717T120000
DTSTAMP:20260419T151710
CREATED:20250630T141120Z
LAST-MODIFIED:20250630T142642Z
UID:10022732-1752746400-1752753600@friendsofmoreaulake.org
SUMMARY:World Listening Day Hike
DESCRIPTION:We are celebrating World Listening Day (one day early) in NYS Park’s year of wellness by going on a short “listening” walk. This day is “devoted to understanding the world and its natural environment\, societies\, and cultures through the practice of listening and field recording.” We are going to open our ears to the sounds of the lake\, birds\, frogs\, the ground beneath our feet\, each other\, and so much more. We often block out a lot of sounds outside\, or put our headphones in to walk\, but we are going to embrace the sound to try to understand our world a little more. This program is free and for ages 13+. When you arrive\, please tell the toll booth operator that you are there for a program. Registration is required\, please register by calling the office at 518-793-0511.
URL:https://friendsofmoreaulake.org/event/world-listening-day-hike/
END:VEVENT
END:VCALENDAR