BEGIN:VCALENDAR
VERSION:2.0
PRODID:-//Friends of Moreau Lake State Park, Inc. - ECPv6.15.20//NONSGML v1.0//EN
CALSCALE:GREGORIAN
METHOD:PUBLISH
X-WR-CALNAME:Friends of Moreau Lake State Park, Inc.
X-ORIGINAL-URL:https://friendsofmoreaulake.org
X-WR-CALDESC:Events for Friends of Moreau Lake State Park, Inc.
REFRESH-INTERVAL;VALUE=DURATION:PT1H
X-Robots-Tag:noindex
X-PUBLISHED-TTL:PT1H
BEGIN:VTIMEZONE
TZID:America/New_York
BEGIN:DAYLIGHT
TZOFFSETFROM:-0500
TZOFFSETTO:-0400
TZNAME:EDT
DTSTART:20240310T070000
END:DAYLIGHT
BEGIN:STANDARD
TZOFFSETFROM:-0400
TZOFFSETTO:-0500
TZNAME:EST
DTSTART:20241103T060000
END:STANDARD
BEGIN:DAYLIGHT
TZOFFSETFROM:-0500
TZOFFSETTO:-0400
TZNAME:EDT
DTSTART:20250309T070000
END:DAYLIGHT
BEGIN:STANDARD
TZOFFSETFROM:-0400
TZOFFSETTO:-0500
TZNAME:EST
DTSTART:20251102T060000
END:STANDARD
BEGIN:DAYLIGHT
TZOFFSETFROM:-0500
TZOFFSETTO:-0400
TZNAME:EDT
DTSTART:20260308T070000
END:DAYLIGHT
BEGIN:STANDARD
TZOFFSETFROM:-0400
TZOFFSETTO:-0500
TZNAME:EST
DTSTART:20261101T060000
END:STANDARD
END:VTIMEZONE
BEGIN:VEVENT
DTSTART;TZID=America/New_York:20250707T100000
DTEND;TZID=America/New_York:20250707T120000
DTSTAMP:20260423T071607
CREATED:20250630T140526Z
LAST-MODIFIED:20250630T140526Z
UID:10022721-1751882400-1751889600@friendsofmoreaulake.org
SUMMARY:Big Bend: Prescribed Burn and Invasive Walk
DESCRIPTION:Join an educator and field technician on a walk at Big Bend to talk about the technique of prescribed burns\, why we are doing it\, and what the future will look like for Big Bend. Prescribed burns are a critical tool in wildfire risk reduction and ecological management and are also being implemented to create a habitat for blue lupine\, and subsequently\, Karner blue butterflies. We will be taking a walk on the trails so please where appropriate shoes and clothing and we may take some time to pull up some invasives! This is free and for ages 13+. We will meet at the park office and caravan to Big Bend together\, please tell the toll booth operator that you are there for a program. You must register by calling the office at 518-793-0511.
URL:https://friendsofmoreaulake.org/event/big-bend-prescribed-burn-and-invasive-walk/
END:VEVENT
END:VCALENDAR