BEGIN:VCALENDAR
VERSION:2.0
PRODID:-//Friends of Moreau Lake State Park, Inc. - ECPv6.15.20//NONSGML v1.0//EN
CALSCALE:GREGORIAN
METHOD:PUBLISH
X-WR-CALNAME:Friends of Moreau Lake State Park, Inc.
X-ORIGINAL-URL:https://friendsofmoreaulake.org
X-WR-CALDESC:Events for Friends of Moreau Lake State Park, Inc.
REFRESH-INTERVAL;VALUE=DURATION:PT1H
X-Robots-Tag:noindex
X-PUBLISHED-TTL:PT1H
BEGIN:VTIMEZONE
TZID:America/New_York
BEGIN:DAYLIGHT
TZOFFSETFROM:-0500
TZOFFSETTO:-0400
TZNAME:EDT
DTSTART:20240310T070000
END:DAYLIGHT
BEGIN:STANDARD
TZOFFSETFROM:-0400
TZOFFSETTO:-0500
TZNAME:EST
DTSTART:20241103T060000
END:STANDARD
BEGIN:DAYLIGHT
TZOFFSETFROM:-0500
TZOFFSETTO:-0400
TZNAME:EDT
DTSTART:20250309T070000
END:DAYLIGHT
BEGIN:STANDARD
TZOFFSETFROM:-0400
TZOFFSETTO:-0500
TZNAME:EST
DTSTART:20251102T060000
END:STANDARD
BEGIN:DAYLIGHT
TZOFFSETFROM:-0500
TZOFFSETTO:-0400
TZNAME:EDT
DTSTART:20260308T070000
END:DAYLIGHT
BEGIN:STANDARD
TZOFFSETFROM:-0400
TZOFFSETTO:-0500
TZNAME:EST
DTSTART:20261101T060000
END:STANDARD
END:VTIMEZONE
BEGIN:VEVENT
DTSTART;TZID=America/New_York:20250705T083000
DTEND;TZID=America/New_York:20250705T093000
DTSTAMP:20260419T165529
CREATED:20250630T140257Z
LAST-MODIFIED:20250730T141613Z
UID:10022663-1751704200-1751707800@friendsofmoreaulake.org
SUMMARY:Nature Flow: Morning Stretch and Stillness
DESCRIPTION:Start your day grounded and refreshed with a gentle stretching session in the natural beauty of Moreau Lake. Join an educator for a guided experience designed to awaken your body and calm your mind through breathwork\, intentional movement\, and quiet reflection. This program takes place outdoors\, please bring a mat or towel and dress comfortably. This program is free and for ages 6 and older. Limited to 15 participants. When you arrive\, please tell the toll booth operator that you are there for a program. Registration is required\, please register by calling the office at 518-793-0511.
URL:https://friendsofmoreaulake.org/event/nature-flow-morning-stretch-and-stillness/2025-07-05/
END:VEVENT
END:VCALENDAR