BEGIN:VCALENDAR
VERSION:2.0
PRODID:-//Friends of Moreau Lake State Park, Inc. - ECPv6.15.20//NONSGML v1.0//EN
CALSCALE:GREGORIAN
METHOD:PUBLISH
X-ORIGINAL-URL:https://friendsofmoreaulake.org
X-WR-CALDESC:Events for Friends of Moreau Lake State Park, Inc.
REFRESH-INTERVAL;VALUE=DURATION:PT1H
X-Robots-Tag:noindex
X-PUBLISHED-TTL:PT1H
BEGIN:VTIMEZONE
TZID:America/New_York
BEGIN:DAYLIGHT
TZOFFSETFROM:-0500
TZOFFSETTO:-0400
TZNAME:EDT
DTSTART:20240310T070000
END:DAYLIGHT
BEGIN:STANDARD
TZOFFSETFROM:-0400
TZOFFSETTO:-0500
TZNAME:EST
DTSTART:20241103T060000
END:STANDARD
BEGIN:DAYLIGHT
TZOFFSETFROM:-0500
TZOFFSETTO:-0400
TZNAME:EDT
DTSTART:20250309T070000
END:DAYLIGHT
BEGIN:STANDARD
TZOFFSETFROM:-0400
TZOFFSETTO:-0500
TZNAME:EST
DTSTART:20251102T060000
END:STANDARD
BEGIN:DAYLIGHT
TZOFFSETFROM:-0500
TZOFFSETTO:-0400
TZNAME:EDT
DTSTART:20260308T070000
END:DAYLIGHT
BEGIN:STANDARD
TZOFFSETFROM:-0400
TZOFFSETTO:-0500
TZNAME:EST
DTSTART:20261101T060000
END:STANDARD
END:VTIMEZONE
BEGIN:VEVENT
DTSTART;TZID=America/New_York:20250518T093000
DTEND;TZID=America/New_York:20250518T120000
DTSTAMP:20260421T054132
CREATED:20250429T155128Z
LAST-MODIFIED:20250429T155128Z
UID:10018854-1747560600-1747569600@friendsofmoreaulake.org
SUMMARY:Monthly Hiking Challenge
DESCRIPTION:Join the monthly hiking challenge where we will explore the wide variety of trails at Moreau Lake State Park\, if you make it to all the hikes you will get a prize! This month we will be doing our beautiful Mud Pond trail that is about 2.5 miles long with elevation gain/loss of about 155 feet. The trails will be muddy so please wear the appropriate attire for the weather with water-resistant hiking shoes\, and trekking poles if you need them. Bring a snack and plenty of water. As always\, we will meet at the park office and caravan to the trailhead. This is a free hike and for ages 13+. We have a limit of 25 people\, please register in advance by calling the office at 518-793-0511.
URL:https://friendsofmoreaulake.org/event/monthly-hiking-challenge-2/
END:VEVENT
BEGIN:VEVENT
DTSTART;TZID=America/New_York:20250518T140000
DTEND;TZID=America/New_York:20250518T153000
DTSTAMP:20260421T054132
CREATED:20250429T155209Z
LAST-MODIFIED:20250429T155209Z
UID:10018855-1747576800-1747582200@friendsofmoreaulake.org
SUMMARY:The Art of Fly Casting
DESCRIPTION:This is a small group fly casting lesson focused on the fundamentals of fly-fishing technique. Participants will practice basic casts and line handling in an open outdoor space. Depending on conditions\, we may enter the water for casting practice. Please bring waders if you have them; otherwise\, dress appropriately for being on the sandy beach. Please bring your own fly rod\, as practice rods are limited. Free and geared toward ages 6+\, limited to 5 participants. Please register in advance by calling 518-793-0511.
URL:https://friendsofmoreaulake.org/event/the-art-of-fly-casting/
END:VEVENT
END:VCALENDAR