BEGIN:VCALENDAR
VERSION:2.0
PRODID:-//Friends of Moreau Lake State Park, Inc. - ECPv6.15.20//NONSGML v1.0//EN
CALSCALE:GREGORIAN
METHOD:PUBLISH
X-ORIGINAL-URL:https://friendsofmoreaulake.org
X-WR-CALDESC:Events for Friends of Moreau Lake State Park, Inc.
REFRESH-INTERVAL;VALUE=DURATION:PT1H
X-Robots-Tag:noindex
X-PUBLISHED-TTL:PT1H
BEGIN:VTIMEZONE
TZID:America/New_York
BEGIN:DAYLIGHT
TZOFFSETFROM:-0500
TZOFFSETTO:-0400
TZNAME:EDT
DTSTART:20240310T070000
END:DAYLIGHT
BEGIN:STANDARD
TZOFFSETFROM:-0400
TZOFFSETTO:-0500
TZNAME:EST
DTSTART:20241103T060000
END:STANDARD
BEGIN:DAYLIGHT
TZOFFSETFROM:-0500
TZOFFSETTO:-0400
TZNAME:EDT
DTSTART:20250309T070000
END:DAYLIGHT
BEGIN:STANDARD
TZOFFSETFROM:-0400
TZOFFSETTO:-0500
TZNAME:EST
DTSTART:20251102T060000
END:STANDARD
BEGIN:DAYLIGHT
TZOFFSETFROM:-0500
TZOFFSETTO:-0400
TZNAME:EDT
DTSTART:20260308T070000
END:DAYLIGHT
BEGIN:STANDARD
TZOFFSETFROM:-0400
TZOFFSETTO:-0500
TZNAME:EST
DTSTART:20261101T060000
END:STANDARD
END:VTIMEZONE
BEGIN:VEVENT
DTSTART;TZID=America/New_York:20250511T110000
DTEND;TZID=America/New_York:20250511T123000
DTSTAMP:20260423T085730
CREATED:20250429T154827Z
LAST-MODIFIED:20250429T154827Z
UID:10018850-1746961200-1746966600@friendsofmoreaulake.org
SUMMARY:Home Sweet Comb: Building Bee Hotels
DESCRIPTION:Help mom pollinate the garden this Mother’s Day! This program focuses on spring pollinators and the vital role they play in our ecosystems. We will explore the different types of pollinators found in the park\, their relationships with native plants\, and how to support pollinator populations at home. As part of the program\, participants will build their own bee hotel to take home and provide habitat for solitary native bees. Free and geared toward ages 6+\, limited to 20 participants. Please register in advance by calling 518-793-0511.
URL:https://friendsofmoreaulake.org/event/home-sweet-comb-building-bee-hotels/
END:VEVENT
END:VCALENDAR