BEGIN:VCALENDAR
VERSION:2.0
PRODID:-//Friends of Moreau Lake State Park, Inc. - ECPv6.15.20//NONSGML v1.0//EN
CALSCALE:GREGORIAN
METHOD:PUBLISH
X-WR-CALNAME:Friends of Moreau Lake State Park, Inc.
X-ORIGINAL-URL:https://friendsofmoreaulake.org
X-WR-CALDESC:Events for Friends of Moreau Lake State Park, Inc.
REFRESH-INTERVAL;VALUE=DURATION:PT1H
X-Robots-Tag:noindex
X-PUBLISHED-TTL:PT1H
BEGIN:VTIMEZONE
TZID:America/New_York
BEGIN:DAYLIGHT
TZOFFSETFROM:-0500
TZOFFSETTO:-0400
TZNAME:EDT
DTSTART:20240310T070000
END:DAYLIGHT
BEGIN:STANDARD
TZOFFSETFROM:-0400
TZOFFSETTO:-0500
TZNAME:EST
DTSTART:20241103T060000
END:STANDARD
BEGIN:DAYLIGHT
TZOFFSETFROM:-0500
TZOFFSETTO:-0400
TZNAME:EDT
DTSTART:20250309T070000
END:DAYLIGHT
BEGIN:STANDARD
TZOFFSETFROM:-0400
TZOFFSETTO:-0500
TZNAME:EST
DTSTART:20251102T060000
END:STANDARD
BEGIN:DAYLIGHT
TZOFFSETFROM:-0500
TZOFFSETTO:-0400
TZNAME:EDT
DTSTART:20260308T070000
END:DAYLIGHT
BEGIN:STANDARD
TZOFFSETFROM:-0400
TZOFFSETTO:-0500
TZNAME:EST
DTSTART:20261101T060000
END:STANDARD
END:VTIMEZONE
BEGIN:VEVENT
DTSTART;TZID=America/New_York:20250427T090000
DTEND;TZID=America/New_York:20250427T120000
DTSTAMP:20260419T184657
CREATED:20250325T183957Z
LAST-MODIFIED:20250325T183957Z
UID:10016874-1745744400-1745755200@friendsofmoreaulake.org
SUMMARY:Celebrating Earth Day Hike Lake Bonita
DESCRIPTION:Come on a guided hike to appreciate what our planet has to offer. Our Nature Center educator(s) will point out and identify any life we encounter\, comment on natural processes at woodland lakes and answer nature questions as we hike. This hike is 2 miles of uneven terrain\, please dress appropriately for muddy conditions as well as possible stream crossings. Hiking poles\, gaiters and waterproof boots are recommended. Free and geared toward ages 13+. Please register in advance by calling the office at 518-793-0511.
URL:https://friendsofmoreaulake.org/event/celebrating-earth-day-hike-lake-bonita/
END:VEVENT
BEGIN:VEVENT
DTSTART;TZID=America/New_York:20250427T100000
DTEND;TZID=America/New_York:20250427T150000
DTSTAMP:20260419T184657
CREATED:20240819T134703Z
LAST-MODIFIED:20240820T140435Z
UID:10012616-1745748000-1745766000@friendsofmoreaulake.org
SUMMARY:Nature Center Open Weekends
DESCRIPTION:
URL:https://friendsofmoreaulake.org/event/nature-center-open-3/2025-04-27/
END:VEVENT
END:VCALENDAR