BEGIN:VCALENDAR
VERSION:2.0
PRODID:-//Friends of Moreau Lake State Park, Inc. - ECPv6.15.20//NONSGML v1.0//EN
CALSCALE:GREGORIAN
METHOD:PUBLISH
X-WR-CALNAME:Friends of Moreau Lake State Park, Inc.
X-ORIGINAL-URL:https://friendsofmoreaulake.org
X-WR-CALDESC:Events for Friends of Moreau Lake State Park, Inc.
REFRESH-INTERVAL;VALUE=DURATION:PT1H
X-Robots-Tag:noindex
X-PUBLISHED-TTL:PT1H
BEGIN:VTIMEZONE
TZID:America/New_York
BEGIN:DAYLIGHT
TZOFFSETFROM:-0500
TZOFFSETTO:-0400
TZNAME:EDT
DTSTART:20240310T070000
END:DAYLIGHT
BEGIN:STANDARD
TZOFFSETFROM:-0400
TZOFFSETTO:-0500
TZNAME:EST
DTSTART:20241103T060000
END:STANDARD
BEGIN:DAYLIGHT
TZOFFSETFROM:-0500
TZOFFSETTO:-0400
TZNAME:EDT
DTSTART:20250309T070000
END:DAYLIGHT
BEGIN:STANDARD
TZOFFSETFROM:-0400
TZOFFSETTO:-0500
TZNAME:EST
DTSTART:20251102T060000
END:STANDARD
BEGIN:DAYLIGHT
TZOFFSETFROM:-0500
TZOFFSETTO:-0400
TZNAME:EDT
DTSTART:20260308T070000
END:DAYLIGHT
BEGIN:STANDARD
TZOFFSETFROM:-0400
TZOFFSETTO:-0500
TZNAME:EST
DTSTART:20261101T060000
END:STANDARD
END:VTIMEZONE
BEGIN:VEVENT
DTSTART;TZID=America/New_York:20250405T100000
DTEND;TZID=America/New_York:20250405T150000
DTSTAMP:20260419T184659
CREATED:20240819T134703Z
LAST-MODIFIED:20240820T140435Z
UID:10012606-1743847200-1743865200@friendsofmoreaulake.org
SUMMARY:Nature Center Open Weekends
DESCRIPTION:
URL:https://friendsofmoreaulake.org/event/nature-center-open-3/2025-04-05/
END:VEVENT
BEGIN:VEVENT
DTSTART;TZID=America/New_York:20250405T120000
DTEND;TZID=America/New_York:20250405T133000
DTSTAMP:20260419T184659
CREATED:20250325T182514Z
LAST-MODIFIED:20250325T182600Z
UID:10016858-1743854400-1743859800@friendsofmoreaulake.org
SUMMARY:Timberdoodles: all about the American Woodcock
DESCRIPTION:The wackiest bird in our area\, American Woodcocks\, are like a long-beaked kazoo with boogie fever. Join a Nature Center educator to learn all there is to know about this odd local bird. Free and open to all ages. Please reserve your spot in advance by calling the office at 518-793-0511.
URL:https://friendsofmoreaulake.org/event/timberdoodles-all-about-the-american-woodcock/
END:VEVENT
BEGIN:VEVENT
DTSTART;TZID=America/New_York:20250405T193000
DTEND;TZID=America/New_York:20250405T203000
DTSTAMP:20260419T184659
CREATED:20250325T182654Z
LAST-MODIFIED:20250325T182654Z
UID:10016859-1743881400-1743885000@friendsofmoreaulake.org
SUMMARY:Woodcock Walk at Big Bend
DESCRIPTION:Peeeent peeeeent! In early spring woodcocks perform a beautiful sky dance and vocalize with kazoo-like calls. Come on a guided woodcock walk to see if we can hear these crazy birds. Free and open to all ages. Please reserve your spot in advance by calling the office at 518-793-0511.
URL:https://friendsofmoreaulake.org/event/woodcock-walk-at-big-bend/
END:VEVENT
END:VCALENDAR