BEGIN:VCALENDAR
VERSION:2.0
PRODID:-//Friends of Moreau Lake State Park, Inc. - ECPv6.15.20//NONSGML v1.0//EN
CALSCALE:GREGORIAN
METHOD:PUBLISH
X-ORIGINAL-URL:https://friendsofmoreaulake.org
X-WR-CALDESC:Events for Friends of Moreau Lake State Park, Inc.
REFRESH-INTERVAL;VALUE=DURATION:PT1H
X-Robots-Tag:noindex
X-PUBLISHED-TTL:PT1H
BEGIN:VTIMEZONE
TZID:America/New_York
BEGIN:DAYLIGHT
TZOFFSETFROM:-0500
TZOFFSETTO:-0400
TZNAME:EDT
DTSTART:20240310T070000
END:DAYLIGHT
BEGIN:STANDARD
TZOFFSETFROM:-0400
TZOFFSETTO:-0500
TZNAME:EST
DTSTART:20241103T060000
END:STANDARD
BEGIN:DAYLIGHT
TZOFFSETFROM:-0500
TZOFFSETTO:-0400
TZNAME:EDT
DTSTART:20250309T070000
END:DAYLIGHT
BEGIN:STANDARD
TZOFFSETFROM:-0400
TZOFFSETTO:-0500
TZNAME:EST
DTSTART:20251102T060000
END:STANDARD
BEGIN:DAYLIGHT
TZOFFSETFROM:-0500
TZOFFSETTO:-0400
TZNAME:EDT
DTSTART:20260308T070000
END:DAYLIGHT
BEGIN:STANDARD
TZOFFSETFROM:-0400
TZOFFSETTO:-0500
TZNAME:EST
DTSTART:20261101T060000
END:STANDARD
END:VTIMEZONE
BEGIN:VEVENT
DTSTART;TZID=America/New_York:20250216T100000
DTEND;TZID=America/New_York:20250216T120000
DTSTAMP:20260419T234033
CREATED:20250128T153734Z
LAST-MODIFIED:20250128T153734Z
UID:10014959-1739700000-1739707200@friendsofmoreaulake.org
SUMMARY:Kid's Ice Fishing Clinic\, Two Sessions
DESCRIPTION:Come to the boat launch to learn how to ice fish\, what kind of fish are in our lake and a little about ice safety. This program is free and weather permitting. There will be two separate sessions: 10am-12pm and 12pm-2pm with a limit of 25 kids per session. Call the park office to register 518-793-0511\, space is limited!
URL:https://friendsofmoreaulake.org/event/kids-ice-fishing-clinic-two-sessions/2025-02-16/1/
END:VEVENT
BEGIN:VEVENT
DTSTART;TZID=America/New_York:20250216T100000
DTEND;TZID=America/New_York:20250216T150000
DTSTAMP:20260419T234033
CREATED:20240819T134703Z
LAST-MODIFIED:20240820T140435Z
UID:10012586-1739700000-1739718000@friendsofmoreaulake.org
SUMMARY:Nature Center Open Weekends
DESCRIPTION:
URL:https://friendsofmoreaulake.org/event/nature-center-open-3/2025-02-16/
END:VEVENT
BEGIN:VEVENT
DTSTART;TZID=America/New_York:20250216T120000
DTEND;TZID=America/New_York:20250216T140000
DTSTAMP:20260419T234033
CREATED:20250128T153734Z
LAST-MODIFIED:20250128T153734Z
UID:10014960-1739707200-1739714400@friendsofmoreaulake.org
SUMMARY:Kid's Ice Fishing Clinic\, Two Sessions
DESCRIPTION:Come to the boat launch to learn how to ice fish\, what kind of fish are in our lake and a little about ice safety. This program is free and weather permitting. There will be two separate sessions: 10am-12pm and 12pm-2pm with a limit of 25 kids per session. Call the park office to register 518-793-0511\, space is limited!
URL:https://friendsofmoreaulake.org/event/kids-ice-fishing-clinic-two-sessions/2025-02-16/2/
END:VEVENT
END:VCALENDAR