BEGIN:VCALENDAR
VERSION:2.0
PRODID:-//Friends of Moreau Lake State Park, Inc. - ECPv6.15.20//NONSGML v1.0//EN
CALSCALE:GREGORIAN
METHOD:PUBLISH
X-ORIGINAL-URL:https://friendsofmoreaulake.org
X-WR-CALDESC:Events for Friends of Moreau Lake State Park, Inc.
REFRESH-INTERVAL;VALUE=DURATION:PT1H
X-Robots-Tag:noindex
X-PUBLISHED-TTL:PT1H
BEGIN:VTIMEZONE
TZID:America/New_York
BEGIN:DAYLIGHT
TZOFFSETFROM:-0500
TZOFFSETTO:-0400
TZNAME:EDT
DTSTART:20240310T070000
END:DAYLIGHT
BEGIN:STANDARD
TZOFFSETFROM:-0400
TZOFFSETTO:-0500
TZNAME:EST
DTSTART:20241103T060000
END:STANDARD
BEGIN:DAYLIGHT
TZOFFSETFROM:-0500
TZOFFSETTO:-0400
TZNAME:EDT
DTSTART:20250309T070000
END:DAYLIGHT
BEGIN:STANDARD
TZOFFSETFROM:-0400
TZOFFSETTO:-0500
TZNAME:EST
DTSTART:20251102T060000
END:STANDARD
BEGIN:DAYLIGHT
TZOFFSETFROM:-0500
TZOFFSETTO:-0400
TZNAME:EDT
DTSTART:20260308T070000
END:DAYLIGHT
BEGIN:STANDARD
TZOFFSETFROM:-0400
TZOFFSETTO:-0500
TZNAME:EST
DTSTART:20261101T060000
END:STANDARD
END:VTIMEZONE
BEGIN:VEVENT
DTSTART;TZID=America/New_York:20250215T100000
DTEND;TZID=America/New_York:20250215T120000
DTSTAMP:20260419T234113
CREATED:20250128T151018Z
LAST-MODIFIED:20260130T202604Z
UID:10014936-1739613600-1739620800@friendsofmoreaulake.org
SUMMARY:Therapy Dog at the Warming Hut
DESCRIPTION:Stop by the warming hut to meet a volunteer therapy dog! Bryn is a 19-month-old dog who has been training to be a therapy dog since she was 4 months old. She has been helping people feel welcome all over Saratoga and Washington county and would love to see you too!
URL:https://friendsofmoreaulake.org/event/therapy-dog-at-the-warming-hut/2025-02-15/
END:VEVENT
BEGIN:VEVENT
DTSTART;TZID=America/New_York:20250215T100000
DTEND;TZID=America/New_York:20250215T150000
DTSTAMP:20260419T234113
CREATED:20240819T134703Z
LAST-MODIFIED:20240820T140435Z
UID:10012585-1739613600-1739631600@friendsofmoreaulake.org
SUMMARY:Nature Center Open Weekends
DESCRIPTION:
URL:https://friendsofmoreaulake.org/event/nature-center-open-3/2025-02-15/
END:VEVENT
BEGIN:VEVENT
DTSTART;TZID=America/New_York:20250215T120000
DTEND;TZID=America/New_York:20250215T140000
DTSTAMP:20260419T234113
CREATED:20250128T153557Z
LAST-MODIFIED:20250128T153557Z
UID:10014958-1739620800-1739628000@friendsofmoreaulake.org
SUMMARY:Nature Gratitude Journal
DESCRIPTION:Maintaining a grateful mindset promotes emotional strength and well-being\, and luckily for us\, this planet gives us plenty to appreciate! Come to the Nature Center to build your own journal\, go for a guided nature-centric gratitude journaling session\, and walk (weather permitting). This is a free program geared toward ages 13+ but all are welcome. Please register 24-hours in advance by calling 518-793-0511.
URL:https://friendsofmoreaulake.org/event/nature-gratitude-journal/
END:VEVENT
END:VCALENDAR