BEGIN:VCALENDAR
VERSION:2.0
PRODID:-//Friends of Moreau Lake State Park, Inc. - ECPv6.15.20//NONSGML v1.0//EN
CALSCALE:GREGORIAN
METHOD:PUBLISH
X-ORIGINAL-URL:https://friendsofmoreaulake.org
X-WR-CALDESC:Events for Friends of Moreau Lake State Park, Inc.
REFRESH-INTERVAL;VALUE=DURATION:PT1H
X-Robots-Tag:noindex
X-PUBLISHED-TTL:PT1H
BEGIN:VTIMEZONE
TZID:America/New_York
BEGIN:DAYLIGHT
TZOFFSETFROM:-0500
TZOFFSETTO:-0400
TZNAME:EDT
DTSTART:20230312T070000
END:DAYLIGHT
BEGIN:STANDARD
TZOFFSETFROM:-0400
TZOFFSETTO:-0500
TZNAME:EST
DTSTART:20231105T060000
END:STANDARD
BEGIN:DAYLIGHT
TZOFFSETFROM:-0500
TZOFFSETTO:-0400
TZNAME:EDT
DTSTART:20240310T070000
END:DAYLIGHT
BEGIN:STANDARD
TZOFFSETFROM:-0400
TZOFFSETTO:-0500
TZNAME:EST
DTSTART:20241103T060000
END:STANDARD
BEGIN:DAYLIGHT
TZOFFSETFROM:-0500
TZOFFSETTO:-0400
TZNAME:EDT
DTSTART:20250309T070000
END:DAYLIGHT
BEGIN:STANDARD
TZOFFSETFROM:-0400
TZOFFSETTO:-0500
TZNAME:EST
DTSTART:20251102T060000
END:STANDARD
END:VTIMEZONE
BEGIN:VEVENT
DTSTART;TZID=America/New_York:20241230T090000
DTEND;TZID=America/New_York:20241230T120000
DTSTAMP:20260422T112833
CREATED:20240227T133208Z
LAST-MODIFIED:20250128T151958Z
UID:10013253-1735549200-1735560000@friendsofmoreaulake.org
SUMMARY:Eagle Watch
DESCRIPTION:Join a Park Educator on a convoy-style journey along the Hudson River to try to spot our local Bald Eagles. We will be getting in and out of vehicles at a few locations and\, with a little luck\, viewing the eagles through binoculars and a scope so make sure to bring your hat and gloves! If you have binoculars bring them\, we do have a couple of pair to pass around as well. To reserve your spot call 518-793-0511.
URL:https://friendsofmoreaulake.org/event/eagle-watch-2/2024-12-30/
END:VEVENT
BEGIN:VEVENT
DTSTART;TZID=America/New_York:20241230T130000
DTEND;TZID=America/New_York:20241230T150000
DTSTAMP:20260422T112833
CREATED:20241201T160241Z
LAST-MODIFIED:20241201T160241Z
UID:10013260-1735563600-1735570800@friendsofmoreaulake.org
SUMMARY:Beaver Hike
DESCRIPTION:Did you know that MLSP is home to a thriving population of North America’s largest rodent? We will walk along the Wetlands Walk and Mud Pond trails where we can view our beaver’s dam and lodges while we learn all about how they live\, love\, and learn. This program is for people of all ages\, it’s an easy-moderate hike of about 2.5 miles. Pay $1child and $5/adult (cash or check) at the office upon arrival. Please register in advance by calling 518-793-0511.
URL:https://friendsofmoreaulake.org/event/beaver-hike-3/
END:VEVENT
END:VCALENDAR