BEGIN:VCALENDAR
VERSION:2.0
PRODID:-//Friends of Moreau Lake State Park, Inc. - ECPv6.15.20//NONSGML v1.0//EN
CALSCALE:GREGORIAN
METHOD:PUBLISH
X-WR-CALNAME:Friends of Moreau Lake State Park, Inc.
X-ORIGINAL-URL:https://friendsofmoreaulake.org
X-WR-CALDESC:Events for Friends of Moreau Lake State Park, Inc.
REFRESH-INTERVAL;VALUE=DURATION:PT1H
X-Robots-Tag:noindex
X-PUBLISHED-TTL:PT1H
BEGIN:VTIMEZONE
TZID:America/New_York
BEGIN:DAYLIGHT
TZOFFSETFROM:-0500
TZOFFSETTO:-0400
TZNAME:EDT
DTSTART:20230312T070000
END:DAYLIGHT
BEGIN:STANDARD
TZOFFSETFROM:-0400
TZOFFSETTO:-0500
TZNAME:EST
DTSTART:20231105T060000
END:STANDARD
BEGIN:DAYLIGHT
TZOFFSETFROM:-0500
TZOFFSETTO:-0400
TZNAME:EDT
DTSTART:20240310T070000
END:DAYLIGHT
BEGIN:STANDARD
TZOFFSETFROM:-0400
TZOFFSETTO:-0500
TZNAME:EST
DTSTART:20241103T060000
END:STANDARD
BEGIN:DAYLIGHT
TZOFFSETFROM:-0500
TZOFFSETTO:-0400
TZNAME:EDT
DTSTART:20250309T070000
END:DAYLIGHT
BEGIN:STANDARD
TZOFFSETFROM:-0400
TZOFFSETTO:-0500
TZNAME:EST
DTSTART:20251102T060000
END:STANDARD
END:VTIMEZONE
BEGIN:VEVENT
DTSTART;TZID=America/New_York:20241222T100000
DTEND;TZID=America/New_York:20241222T150000
DTSTAMP:20260420T024853
CREATED:20240819T134703Z
LAST-MODIFIED:20240820T140435Z
UID:10012562-1734861600-1734879600@friendsofmoreaulake.org
SUMMARY:Nature Center Open Weekends
DESCRIPTION:
URL:https://friendsofmoreaulake.org/event/nature-center-open-3/2024-12-22/
END:VEVENT
BEGIN:VEVENT
DTSTART;TZID=America/New_York:20241222T120000
DTEND;TZID=America/New_York:20241222T143000
DTSTAMP:20260420T024853
CREATED:20241201T155915Z
LAST-MODIFIED:20241201T155915Z
UID:10013256-1734868800-1734877800@friendsofmoreaulake.org
SUMMARY:Walking in a Winter Wonderland
DESCRIPTION:Join a Nature Center employee for a 3 mile peaceful walk around the lake. We will ID any plants and animals we see along the path and learn about the winter activities of Moreau’s regular animal inhabitants. Open to all Ages\, just keep distance in mind. The cost is $5/adult\, $1/child payable by cash or check at the office upon your arrival. Please register in advance by calling 518-793-0511.
URL:https://friendsofmoreaulake.org/event/walking-in-a-winter-wonderland/
END:VEVENT
BEGIN:VEVENT
DTSTART;TZID=America/New_York:20241222T160000
DTEND;TZID=America/New_York:20241222T180000
DTSTAMP:20260420T024853
CREATED:20241201T160010Z
LAST-MODIFIED:20241201T160010Z
UID:10013257-1734883200-1734890400@friendsofmoreaulake.org
SUMMARY:Camping Stories by the Fire
DESCRIPTION:Sunday\, December 22nd Camping Stories by the Fire\, 4:00-5:00pm: Kid’s stories\, 5:00-6:00pm: 13+ Stories\nJoin an educator by the fire for some treats and stories! We will have some children’s books to read by the fire from 4:00-5:00pm and from 5:00-6:00pm we are encouraging people to bring their favorite camping stories to tell the group. They can be stories about camping at Moreau Lake or any New York State Park! The cost is $5/adult\, $1/child payable by cash or check at the office upon your arrival. Please register in advance by calling 518-793-0511.
URL:https://friendsofmoreaulake.org/event/camping-stories-by-the-fire/
END:VEVENT
END:VCALENDAR