BEGIN:VCALENDAR
VERSION:2.0
PRODID:-//Friends of Moreau Lake State Park, Inc. - ECPv6.15.20//NONSGML v1.0//EN
CALSCALE:GREGORIAN
METHOD:PUBLISH
X-ORIGINAL-URL:https://friendsofmoreaulake.org
X-WR-CALDESC:Events for Friends of Moreau Lake State Park, Inc.
REFRESH-INTERVAL;VALUE=DURATION:PT1H
X-Robots-Tag:noindex
X-PUBLISHED-TTL:PT1H
BEGIN:VTIMEZONE
TZID:America/New_York
BEGIN:DAYLIGHT
TZOFFSETFROM:-0500
TZOFFSETTO:-0400
TZNAME:EDT
DTSTART:20230312T070000
END:DAYLIGHT
BEGIN:STANDARD
TZOFFSETFROM:-0400
TZOFFSETTO:-0500
TZNAME:EST
DTSTART:20231105T060000
END:STANDARD
BEGIN:DAYLIGHT
TZOFFSETFROM:-0500
TZOFFSETTO:-0400
TZNAME:EDT
DTSTART:20240310T070000
END:DAYLIGHT
BEGIN:STANDARD
TZOFFSETFROM:-0400
TZOFFSETTO:-0500
TZNAME:EST
DTSTART:20241103T060000
END:STANDARD
BEGIN:DAYLIGHT
TZOFFSETFROM:-0500
TZOFFSETTO:-0400
TZNAME:EDT
DTSTART:20250309T070000
END:DAYLIGHT
BEGIN:STANDARD
TZOFFSETFROM:-0400
TZOFFSETTO:-0500
TZNAME:EST
DTSTART:20251102T060000
END:STANDARD
END:VTIMEZONE
BEGIN:VEVENT
DTSTART;TZID=America/New_York:20241215T100000
DTEND;TZID=America/New_York:20241215T150000
DTSTAMP:20260422T060752
CREATED:20240819T134703Z
LAST-MODIFIED:20240820T140435Z
UID:10012559-1734256800-1734274800@friendsofmoreaulake.org
SUMMARY:Nature Center Open Weekends
DESCRIPTION:
URL:https://friendsofmoreaulake.org/event/nature-center-open-3/2024-12-15/
END:VEVENT
BEGIN:VEVENT
DTSTART;TZID=America/New_York:20241215T110000
DTEND;TZID=America/New_York:20241215T120000
DTSTAMP:20260422T060752
CREATED:20241201T155351Z
LAST-MODIFIED:20241201T155351Z
UID:10013250-1734260400-1734264000@friendsofmoreaulake.org
SUMMARY:Ugly Sweater DIY
DESCRIPTION:Bring in an old sweater/sweatshirt OR a recently purchased one (check out local thrift shops) and join a nature center educator in making some festive clothing. Holiday adornments such as bells\, felt snow and gingerbread people\, and pompoms will be provided at the Nature Center. Open to All Ages. This program is $1 per child\, $5 for 18+. Please reserve your spot in advance by calling 518-793-0511.
URL:https://friendsofmoreaulake.org/event/ugly-sweater-diy/
END:VEVENT
BEGIN:VEVENT
DTSTART;TZID=America/New_York:20241215T170000
DTEND;TZID=America/New_York:20241215T190000
DTSTAMP:20260422T060752
CREATED:20240629T144734Z
LAST-MODIFIED:20241201T155500Z
UID:10013251-1734282000-1734289200@friendsofmoreaulake.org
SUMMARY:Full Moon Hike
DESCRIPTION:Join a park educator on a beginner hike around Moreau Lake. If the clouds cooperate\, we’ll get to enjoy the splendor of the full moon rising above the mountains! This hike is family friendly and well-behaved dogs on a 6 foot or shorter leash are welcome. $1 per child\, $5 per adult is payable by cash or check at the office upon your arrival. To reserve your spot call 518-793-0511- the earlier the better as this is a popular program and it fills up quickly.
URL:https://friendsofmoreaulake.org/event/full-moon-hike-8/2024-12-15/
END:VEVENT
END:VCALENDAR