BEGIN:VCALENDAR
VERSION:2.0
PRODID:-//Friends of Moreau Lake State Park, Inc. - ECPv6.15.20//NONSGML v1.0//EN
CALSCALE:GREGORIAN
METHOD:PUBLISH
X-WR-CALNAME:Friends of Moreau Lake State Park, Inc.
X-ORIGINAL-URL:https://friendsofmoreaulake.org
X-WR-CALDESC:Events for Friends of Moreau Lake State Park, Inc.
REFRESH-INTERVAL;VALUE=DURATION:PT1H
X-Robots-Tag:noindex
X-PUBLISHED-TTL:PT1H
BEGIN:VTIMEZONE
TZID:America/New_York
BEGIN:DAYLIGHT
TZOFFSETFROM:-0500
TZOFFSETTO:-0400
TZNAME:EDT
DTSTART:20230312T070000
END:DAYLIGHT
BEGIN:STANDARD
TZOFFSETFROM:-0400
TZOFFSETTO:-0500
TZNAME:EST
DTSTART:20231105T060000
END:STANDARD
BEGIN:DAYLIGHT
TZOFFSETFROM:-0500
TZOFFSETTO:-0400
TZNAME:EDT
DTSTART:20240310T070000
END:DAYLIGHT
BEGIN:STANDARD
TZOFFSETFROM:-0400
TZOFFSETTO:-0500
TZNAME:EST
DTSTART:20241103T060000
END:STANDARD
BEGIN:DAYLIGHT
TZOFFSETFROM:-0500
TZOFFSETTO:-0400
TZNAME:EDT
DTSTART:20250309T070000
END:DAYLIGHT
BEGIN:STANDARD
TZOFFSETFROM:-0400
TZOFFSETTO:-0500
TZNAME:EST
DTSTART:20251102T060000
END:STANDARD
END:VTIMEZONE
BEGIN:VEVENT
DTSTART;TZID=America/New_York:20241020T100000
DTEND;TZID=America/New_York:20241020T120000
DTSTAMP:20260422T231727
CREATED:20241002T193307Z
LAST-MODIFIED:20241002T193307Z
UID:10012953-1729418400-1729425600@friendsofmoreaulake.org
SUMMARY:Ghastly Crafts
DESCRIPTION:Need some friendly ghosts to “haunt” your home? Join a nature center educator to make ghastly crafts such as leaf ghost window clings\, egg carton ghost portraits and lollipop ghosts. Open to all ages. Please register in advance by calling the office at 518-793-0511\, cost is $1 per person.
URL:https://friendsofmoreaulake.org/event/ghastly-crafts/
END:VEVENT
BEGIN:VEVENT
DTSTART;TZID=America/New_York:20241020T100000
DTEND;TZID=America/New_York:20241020T150000
DTSTAMP:20260422T231727
CREATED:20240819T134703Z
LAST-MODIFIED:20240820T140435Z
UID:10012535-1729418400-1729436400@friendsofmoreaulake.org
SUMMARY:Nature Center Open Weekends
DESCRIPTION:
URL:https://friendsofmoreaulake.org/event/nature-center-open-3/2024-10-20/
END:VEVENT
BEGIN:VEVENT
DTSTART;TZID=America/New_York:20241020T130000
DTEND;TZID=America/New_York:20241020T143000
DTSTAMP:20260422T231727
CREATED:20241002T193351Z
LAST-MODIFIED:20241002T193351Z
UID:10012954-1729429200-1729434600@friendsofmoreaulake.org
SUMMARY:Spiders
DESCRIPTION:Spiders lend a helping hand (or eight) in balancing our ecosystem! Join a nature center educator to learn about spider life cycles\, native spiders and the importance of spiders in our natural communities. Open to all ages.
URL:https://friendsofmoreaulake.org/event/spiders/
END:VEVENT
END:VCALENDAR