BEGIN:VCALENDAR
VERSION:2.0
PRODID:-//Friends of Moreau Lake State Park, Inc. - ECPv6.15.20//NONSGML v1.0//EN
CALSCALE:GREGORIAN
METHOD:PUBLISH
X-WR-CALNAME:Friends of Moreau Lake State Park, Inc.
X-ORIGINAL-URL:https://friendsofmoreaulake.org
X-WR-CALDESC:Events for Friends of Moreau Lake State Park, Inc.
REFRESH-INTERVAL;VALUE=DURATION:PT1H
X-Robots-Tag:noindex
X-PUBLISHED-TTL:PT1H
BEGIN:VTIMEZONE
TZID:America/New_York
BEGIN:DAYLIGHT
TZOFFSETFROM:-0500
TZOFFSETTO:-0400
TZNAME:EDT
DTSTART:20230312T070000
END:DAYLIGHT
BEGIN:STANDARD
TZOFFSETFROM:-0400
TZOFFSETTO:-0500
TZNAME:EST
DTSTART:20231105T060000
END:STANDARD
BEGIN:DAYLIGHT
TZOFFSETFROM:-0500
TZOFFSETTO:-0400
TZNAME:EDT
DTSTART:20240310T070000
END:DAYLIGHT
BEGIN:STANDARD
TZOFFSETFROM:-0400
TZOFFSETTO:-0500
TZNAME:EST
DTSTART:20241103T060000
END:STANDARD
BEGIN:DAYLIGHT
TZOFFSETFROM:-0500
TZOFFSETTO:-0400
TZNAME:EDT
DTSTART:20250309T070000
END:DAYLIGHT
BEGIN:STANDARD
TZOFFSETFROM:-0400
TZOFFSETTO:-0500
TZNAME:EST
DTSTART:20251102T060000
END:STANDARD
END:VTIMEZONE
BEGIN:VEVENT
DTSTART;TZID=America/New_York:20240916T080000
DTEND;TZID=America/New_York:20240916T170000
DTSTAMP:20260422T182352
CREATED:20240901T140903Z
LAST-MODIFIED:20240901T141410Z
UID:10012744-1726473600-1726506000@friendsofmoreaulake.org
SUMMARY:Forest Bathing
DESCRIPTION:Coined shinrin-yoku in Japan in the 1980’s\, forest bathing is the eco therapeutic practice of spending time immersed in nature\, absorbing it with all your senses. The physiological and psychological benefits last for days afterward with the additional benefit of a new appreciation of our precious woodland and its inhabitants. This is a beginner-rated walk along the Nature Trail with long pauses to sit and enhance our awareness of our surroundings\, it is an approximately 1-hour program. A small mat is beneficial to ensure a dry seat and wear warmer clothes as we will be sitting for longer periods of time. This program is limited to those age 14 and up. Pay $5 per person (cash or check) at the office upon arrival. Please register in advance by calling 518-793-0511.
URL:https://friendsofmoreaulake.org/event/forest-bathing-7577/2024-09-16/
END:VEVENT
BEGIN:VEVENT
DTSTART;TZID=America/New_York:20240916T190000
DTEND;TZID=America/New_York:20240916T203000
DTSTAMP:20260422T182352
CREATED:20240901T141455Z
LAST-MODIFIED:20240901T141455Z
UID:10012745-1726513200-1726518600@friendsofmoreaulake.org
SUMMARY:Full Moon Hike at Big Bend
DESCRIPTION:Join a park educator on a beginner hike at the new Big Bend Preserve. If the clouds cooperate\, we’ll get to enjoy the splendor of the full “Harvest” moon rising! This hike is family friendly and well-behaved dogs on a 6 foot or shorter leash are welcome. $1 per child\, $5 per adult is payable by cash or check at the office upon your arrival. We will meet at the park office and caravan to the trailhead. To reserve your spot call 518-793-0511- the earlier the better as this is a popular program and it fills up quickly.
URL:https://friendsofmoreaulake.org/event/full-moon-hike-at-big-bend/
END:VEVENT
END:VCALENDAR