BEGIN:VCALENDAR
VERSION:2.0
PRODID:-//Friends of Moreau Lake State Park, Inc. - ECPv6.15.20//NONSGML v1.0//EN
CALSCALE:GREGORIAN
METHOD:PUBLISH
X-ORIGINAL-URL:https://friendsofmoreaulake.org
X-WR-CALDESC:Events for Friends of Moreau Lake State Park, Inc.
REFRESH-INTERVAL;VALUE=DURATION:PT1H
X-Robots-Tag:noindex
X-PUBLISHED-TTL:PT1H
BEGIN:VTIMEZONE
TZID:America/New_York
BEGIN:DAYLIGHT
TZOFFSETFROM:-0500
TZOFFSETTO:-0400
TZNAME:EDT
DTSTART:20230312T070000
END:DAYLIGHT
BEGIN:STANDARD
TZOFFSETFROM:-0400
TZOFFSETTO:-0500
TZNAME:EST
DTSTART:20231105T060000
END:STANDARD
BEGIN:DAYLIGHT
TZOFFSETFROM:-0500
TZOFFSETTO:-0400
TZNAME:EDT
DTSTART:20240310T070000
END:DAYLIGHT
BEGIN:STANDARD
TZOFFSETFROM:-0400
TZOFFSETTO:-0500
TZNAME:EST
DTSTART:20241103T060000
END:STANDARD
BEGIN:DAYLIGHT
TZOFFSETFROM:-0500
TZOFFSETTO:-0400
TZNAME:EDT
DTSTART:20250309T070000
END:DAYLIGHT
BEGIN:STANDARD
TZOFFSETFROM:-0400
TZOFFSETTO:-0500
TZNAME:EST
DTSTART:20251102T060000
END:STANDARD
END:VTIMEZONE
BEGIN:VEVENT
DTSTART;TZID=America/New_York:20240906T100000
DTEND;TZID=America/New_York:20240906T150000
DTSTAMP:20260422T182125
CREATED:20240819T134703Z
LAST-MODIFIED:20240820T140435Z
UID:10005154-1725616800-1725634800@friendsofmoreaulake.org
SUMMARY:Nature Center Open Weekends
DESCRIPTION:
URL:https://friendsofmoreaulake.org/event/nature-center-open-3/2024-09-06/
END:VEVENT
BEGIN:VEVENT
DTSTART;TZID=America/New_York:20240906T110000
DTEND;TZID=America/New_York:20240906T120000
DTSTAMP:20260422T182125
CREATED:20240901T140542Z
LAST-MODIFIED:20240901T140542Z
UID:10012734-1725620400-1725624000@friendsofmoreaulake.org
SUMMARY:Frogs and Toads of NYS
DESCRIPTION:Join a nature center educator to learn all about your local frogs and toads. We will talk about frog and toad diets\, what different frogs do to adapt with changing seasons\, the most common frogs and toads in our area (and how to ID them)\, and how you can help support your local little hoppers! Open to all ages. The program is $5 per adult and $1 per child (cash or check) at the park office when you arrive. Please reserve your spot 24-hours in advance by calling the office at 518-793-
URL:https://friendsofmoreaulake.org/event/frogs-and-toads-of-nys-2/
END:VEVENT
END:VCALENDAR