BEGIN:VCALENDAR
VERSION:2.0
PRODID:-//Friends of Moreau Lake State Park, Inc. - ECPv6.15.20//NONSGML v1.0//EN
CALSCALE:GREGORIAN
METHOD:PUBLISH
X-WR-CALNAME:Friends of Moreau Lake State Park, Inc.
X-ORIGINAL-URL:https://friendsofmoreaulake.org
X-WR-CALDESC:Events for Friends of Moreau Lake State Park, Inc.
REFRESH-INTERVAL;VALUE=DURATION:PT1H
X-Robots-Tag:noindex
X-PUBLISHED-TTL:PT1H
BEGIN:VTIMEZONE
TZID:America/New_York
BEGIN:DAYLIGHT
TZOFFSETFROM:-0500
TZOFFSETTO:-0400
TZNAME:EDT
DTSTART:20230312T070000
END:DAYLIGHT
BEGIN:STANDARD
TZOFFSETFROM:-0400
TZOFFSETTO:-0500
TZNAME:EST
DTSTART:20231105T060000
END:STANDARD
BEGIN:DAYLIGHT
TZOFFSETFROM:-0500
TZOFFSETTO:-0400
TZNAME:EDT
DTSTART:20240310T070000
END:DAYLIGHT
BEGIN:STANDARD
TZOFFSETFROM:-0400
TZOFFSETTO:-0500
TZNAME:EST
DTSTART:20241103T060000
END:STANDARD
BEGIN:DAYLIGHT
TZOFFSETFROM:-0500
TZOFFSETTO:-0400
TZNAME:EDT
DTSTART:20250309T070000
END:DAYLIGHT
BEGIN:STANDARD
TZOFFSETFROM:-0400
TZOFFSETTO:-0500
TZNAME:EST
DTSTART:20251102T060000
END:STANDARD
END:VTIMEZONE
BEGIN:VEVENT
DTSTART;TZID=America/New_York:20240904T093000
DTEND;TZID=America/New_York:20240904T113000
DTSTAMP:20260422T182353
CREATED:20240901T140236Z
LAST-MODIFIED:20240901T140236Z
UID:10012728-1725442200-1725449400@friendsofmoreaulake.org
SUMMARY:Big Bend "River Walk" Hike
DESCRIPTION:Join an educator on this flat hike of about 6 miles at our beautiful new space with great birding and wildlife viewing\, and gorgeous views of mountains and the Hudson River. Better for ages 14+. Please dress appropriately for the weather with hiking shoes\, plenty of water and a lunch or snack. We will meet at the park office and caravan to the new trailhead. Program is $5 per adult\, $1 for under 18 (cash or check). Please reserve your spot 24-hours in advance by calling the office at 518-793-0511.
URL:https://friendsofmoreaulake.org/event/big-bend-river-walk-hike/
END:VEVENT
BEGIN:VEVENT
DTSTART;TZID=America/New_York:20240904T100000
DTEND;TZID=America/New_York:20240904T113000
DTSTAMP:20260422T182353
CREATED:20240901T140324Z
LAST-MODIFIED:20240901T140324Z
UID:10012729-1725444000-1725449400@friendsofmoreaulake.org
SUMMARY:Kids Porcupine Adventure
DESCRIPTION:Come along on the short (3/4 mile) and fairly steep hike to find some porcupine dens and see if we can spot one napping in the trees. This hike is not stroller friendly\, but carriers are suggested for the smaller kids. We will meet at the office parking lot and then drive to the trail head together. Please dress for the weather. The cost is $1 per child (cash or check) at the office upon arrival. Please reserve your spot 24-hours in advance by calling the office at 518-793-0511.
URL:https://friendsofmoreaulake.org/event/kids-porcupine-adventure/
END:VEVENT
END:VCALENDAR