BEGIN:VCALENDAR
VERSION:2.0
PRODID:-//Friends of Moreau Lake State Park, Inc. - ECPv6.15.20//NONSGML v1.0//EN
CALSCALE:GREGORIAN
METHOD:PUBLISH
X-WR-CALNAME:Friends of Moreau Lake State Park, Inc.
X-ORIGINAL-URL:https://friendsofmoreaulake.org
X-WR-CALDESC:Events for Friends of Moreau Lake State Park, Inc.
REFRESH-INTERVAL;VALUE=DURATION:PT1H
X-Robots-Tag:noindex
X-PUBLISHED-TTL:PT1H
BEGIN:VTIMEZONE
TZID:America/New_York
BEGIN:DAYLIGHT
TZOFFSETFROM:-0500
TZOFFSETTO:-0400
TZNAME:EDT
DTSTART:20230312T070000
END:DAYLIGHT
BEGIN:STANDARD
TZOFFSETFROM:-0400
TZOFFSETTO:-0500
TZNAME:EST
DTSTART:20231105T060000
END:STANDARD
BEGIN:DAYLIGHT
TZOFFSETFROM:-0500
TZOFFSETTO:-0400
TZNAME:EDT
DTSTART:20240310T070000
END:DAYLIGHT
BEGIN:STANDARD
TZOFFSETFROM:-0400
TZOFFSETTO:-0500
TZNAME:EST
DTSTART:20241103T060000
END:STANDARD
BEGIN:DAYLIGHT
TZOFFSETFROM:-0500
TZOFFSETTO:-0400
TZNAME:EDT
DTSTART:20250309T070000
END:DAYLIGHT
BEGIN:STANDARD
TZOFFSETFROM:-0400
TZOFFSETTO:-0500
TZNAME:EST
DTSTART:20251102T060000
END:STANDARD
END:VTIMEZONE
BEGIN:VEVENT
DTSTART;TZID=America/New_York:20240831T100000
DTEND;TZID=America/New_York:20240831T150000
DTSTAMP:20260422T231731
CREATED:20240529T135639Z
LAST-MODIFIED:20240820T140242Z
UID:10005195-1725098400-1725116400@friendsofmoreaulake.org
SUMMARY:Nature Center Open
DESCRIPTION:
URL:https://friendsofmoreaulake.org/event/nature-center-open-2/2024-08-31/
END:VEVENT
BEGIN:VEVENT
DTSTART;TZID=America/New_York:20240831T110000
DTEND;TZID=America/New_York:20240831T130000
DTSTAMP:20260422T231731
CREATED:20240730T154050Z
LAST-MODIFIED:20240730T154050Z
UID:10012324-1725102000-1725109200@friendsofmoreaulake.org
SUMMARY:Friendship Bracelets
DESCRIPTION:Drop into the nature center to make friendship bracelets on this nice long weekend\, we have plenty of floss in all different colors. You do not need to register for this\, drop in any time\, park fees apply ($8). For any questions call 518-793-0511.
URL:https://friendsofmoreaulake.org/event/friendship-bracelets/
END:VEVENT
END:VCALENDAR