BEGIN:VCALENDAR
VERSION:2.0
PRODID:-//Friends of Moreau Lake State Park, Inc. - ECPv6.15.20//NONSGML v1.0//EN
CALSCALE:GREGORIAN
METHOD:PUBLISH
X-WR-CALNAME:Friends of Moreau Lake State Park, Inc.
X-ORIGINAL-URL:https://friendsofmoreaulake.org
X-WR-CALDESC:Events for Friends of Moreau Lake State Park, Inc.
REFRESH-INTERVAL;VALUE=DURATION:PT1H
X-Robots-Tag:noindex
X-PUBLISHED-TTL:PT1H
BEGIN:VTIMEZONE
TZID:America/New_York
BEGIN:DAYLIGHT
TZOFFSETFROM:-0500
TZOFFSETTO:-0400
TZNAME:EDT
DTSTART:20230312T070000
END:DAYLIGHT
BEGIN:STANDARD
TZOFFSETFROM:-0400
TZOFFSETTO:-0500
TZNAME:EST
DTSTART:20231105T060000
END:STANDARD
BEGIN:DAYLIGHT
TZOFFSETFROM:-0500
TZOFFSETTO:-0400
TZNAME:EDT
DTSTART:20240310T070000
END:DAYLIGHT
BEGIN:STANDARD
TZOFFSETFROM:-0400
TZOFFSETTO:-0500
TZNAME:EST
DTSTART:20241103T060000
END:STANDARD
BEGIN:DAYLIGHT
TZOFFSETFROM:-0500
TZOFFSETTO:-0400
TZNAME:EDT
DTSTART:20250309T070000
END:DAYLIGHT
BEGIN:STANDARD
TZOFFSETFROM:-0400
TZOFFSETTO:-0500
TZNAME:EST
DTSTART:20251102T060000
END:STANDARD
END:VTIMEZONE
BEGIN:VEVENT
DTSTART;TZID=America/New_York:20240826T100000
DTEND;TZID=America/New_York:20240826T150000
DTSTAMP:20260422T231730
CREATED:20240529T135639Z
LAST-MODIFIED:20240820T140242Z
UID:10011091-1724666400-1724684400@friendsofmoreaulake.org
SUMMARY:Nature Center Open
DESCRIPTION:
URL:https://friendsofmoreaulake.org/event/nature-center-open-2/2024-08-26/
END:VEVENT
BEGIN:VEVENT
DTSTART;TZID=America/New_York:20240826T110000
DTEND;TZID=America/New_York:20240826T123000
DTSTAMP:20260422T231730
CREATED:20240730T153433Z
LAST-MODIFIED:20240730T153433Z
UID:10012319-1724670000-1724675400@friendsofmoreaulake.org
SUMMARY:Reptile Profile
DESCRIPTION:Join an educator in the nature center to meet our resident reptiles! We at Moreau take care of six New York native turtles and three snakes that cannot be released into the wild and are wonderful little educators. Learn about their exciting lives\, what they like to eat\, and what they use for shell-ter at the Nature Center. This program is for all ages. The cost is $5 for adults\, $1 for children (cash or check) at the office upon arrival. Park tollbooth fees are waived in lieu of program fees\, be sure to call 24 hours in advance to reserve your spot by calling the office at 518-793-0511.
URL:https://friendsofmoreaulake.org/event/reptile-profile-6/
END:VEVENT
BEGIN:VEVENT
DTSTART;TZID=America/New_York:20240826T130000
DTEND;TZID=America/New_York:20240826T143000
DTSTAMP:20260422T231730
CREATED:20240730T153522Z
LAST-MODIFIED:20240730T153522Z
UID:10012320-1724677200-1724682600@friendsofmoreaulake.org
SUMMARY:Shapes and Colors Walk
DESCRIPTION:Join an educator on a fun and easy hike to look for shapes and colors in nature. We’ll talk about what we see and where we found it with the opportunity to write things down if they can. Geared toward 2-7 year olds\, but everyone is welcome! The cost is $5 for adults and $1 for children (cash or check) Please reserve your spot in advance by calling the office at 518-793-0511.
URL:https://friendsofmoreaulake.org/event/shapes-and-colors-walk/
END:VEVENT
END:VCALENDAR