BEGIN:VCALENDAR
VERSION:2.0
PRODID:-//Friends of Moreau Lake State Park, Inc. - ECPv6.15.20//NONSGML v1.0//EN
CALSCALE:GREGORIAN
METHOD:PUBLISH
X-ORIGINAL-URL:https://friendsofmoreaulake.org
X-WR-CALDESC:Events for Friends of Moreau Lake State Park, Inc.
REFRESH-INTERVAL;VALUE=DURATION:PT1H
X-Robots-Tag:noindex
X-PUBLISHED-TTL:PT1H
BEGIN:VTIMEZONE
TZID:America/New_York
BEGIN:DAYLIGHT
TZOFFSETFROM:-0500
TZOFFSETTO:-0400
TZNAME:EDT
DTSTART:20230312T070000
END:DAYLIGHT
BEGIN:STANDARD
TZOFFSETFROM:-0400
TZOFFSETTO:-0500
TZNAME:EST
DTSTART:20231105T060000
END:STANDARD
BEGIN:DAYLIGHT
TZOFFSETFROM:-0500
TZOFFSETTO:-0400
TZNAME:EDT
DTSTART:20240310T070000
END:DAYLIGHT
BEGIN:STANDARD
TZOFFSETFROM:-0400
TZOFFSETTO:-0500
TZNAME:EST
DTSTART:20241103T060000
END:STANDARD
BEGIN:DAYLIGHT
TZOFFSETFROM:-0500
TZOFFSETTO:-0400
TZNAME:EDT
DTSTART:20250309T070000
END:DAYLIGHT
BEGIN:STANDARD
TZOFFSETFROM:-0400
TZOFFSETTO:-0500
TZNAME:EST
DTSTART:20251102T060000
END:STANDARD
END:VTIMEZONE
BEGIN:VEVENT
DTSTART;TZID=America/New_York:20240824T090000
DTEND;TZID=America/New_York:20240824T110000
DTSTAMP:20260422T231957
CREATED:20240730T152631Z
LAST-MODIFIED:20240730T152631Z
UID:10012315-1724490000-1724497200@friendsofmoreaulake.org
SUMMARY:Moreau Lake Birding Kayak Trip
DESCRIPTION:Bring your binoculars and join an educator on a peaceful morning paddle around Moreau Lake and look for birds! Limited rentals are available or bring your own kayak. This program is for people aged 18 and older if you need to rent a kayak or 13+ if you have your own kayak. The cost is $5 (or $15 including kayak rental). Check in and pay (cash or check) at the office upon arrival. Park tollbooth fees are waved in lieu of program fees\, be sure to call 24-hours in advance to reserve your spot by calling the office at 518-793-0511.
URL:https://friendsofmoreaulake.org/event/moreau-lake-birding-kayak-trip-2/
END:VEVENT
BEGIN:VEVENT
DTSTART;TZID=America/New_York:20240824T100000
DTEND;TZID=America/New_York:20240824T150000
DTSTAMP:20260422T231957
CREATED:20240529T135639Z
LAST-MODIFIED:20240820T140242Z
UID:10005192-1724493600-1724511600@friendsofmoreaulake.org
SUMMARY:Nature Center Open
DESCRIPTION:
URL:https://friendsofmoreaulake.org/event/nature-center-open-2/2024-08-24/
END:VEVENT
BEGIN:VEVENT
DTSTART;TZID=America/New_York:20240824T110000
DTEND;TZID=America/New_York:20240824T123000
DTSTAMP:20260422T231957
CREATED:20240730T152716Z
LAST-MODIFIED:20240730T152716Z
UID:10012316-1724497200-1724502600@friendsofmoreaulake.org
SUMMARY:Duck\, Duck\, Goose
DESCRIPTION:Join a nature center educator to learn about all of the ducks and geese you may see out and about in New York State waterbodies. We will talk about the 10 most common waterfowl in Saratoga County and how to identify the in the wild\, waterfowl diets and behavior\, and tips on supporting your local waterfowl. Open to all ages. The program is $5 per adult and $1 per child (cash or check) at the park office when you arrive. PLEASE RESERVE your spot 24-hours in advance by calling the office at 518-793-0511.
URL:https://friendsofmoreaulake.org/event/duck-duck-goose/
END:VEVENT
END:VCALENDAR