BEGIN:VCALENDAR
VERSION:2.0
PRODID:-//Friends of Moreau Lake State Park, Inc. - ECPv6.15.20//NONSGML v1.0//EN
CALSCALE:GREGORIAN
METHOD:PUBLISH
X-WR-CALNAME:Friends of Moreau Lake State Park, Inc.
X-ORIGINAL-URL:https://friendsofmoreaulake.org
X-WR-CALDESC:Events for Friends of Moreau Lake State Park, Inc.
REFRESH-INTERVAL;VALUE=DURATION:PT1H
X-Robots-Tag:noindex
X-PUBLISHED-TTL:PT1H
BEGIN:VTIMEZONE
TZID:America/New_York
BEGIN:DAYLIGHT
TZOFFSETFROM:-0500
TZOFFSETTO:-0400
TZNAME:EDT
DTSTART:20230312T070000
END:DAYLIGHT
BEGIN:STANDARD
TZOFFSETFROM:-0400
TZOFFSETTO:-0500
TZNAME:EST
DTSTART:20231105T060000
END:STANDARD
BEGIN:DAYLIGHT
TZOFFSETFROM:-0500
TZOFFSETTO:-0400
TZNAME:EDT
DTSTART:20240310T070000
END:DAYLIGHT
BEGIN:STANDARD
TZOFFSETFROM:-0400
TZOFFSETTO:-0500
TZNAME:EST
DTSTART:20241103T060000
END:STANDARD
BEGIN:DAYLIGHT
TZOFFSETFROM:-0500
TZOFFSETTO:-0400
TZNAME:EDT
DTSTART:20250309T070000
END:DAYLIGHT
BEGIN:STANDARD
TZOFFSETFROM:-0400
TZOFFSETTO:-0500
TZNAME:EST
DTSTART:20251102T060000
END:STANDARD
END:VTIMEZONE
BEGIN:VEVENT
DTSTART;TZID=America/New_York:20240819T093000
DTEND;TZID=America/New_York:20240819T113000
DTSTAMP:20260422T213044
CREATED:20240730T152230Z
LAST-MODIFIED:20240730T152230Z
UID:10012310-1724059800-1724067000@friendsofmoreaulake.org
SUMMARY:Baker to Moreau Overlook
DESCRIPTION:Join an educator on a moderate 2.5 mile hike from Baker Trail to Moreau Overlook with a beautiful view of our lake from above. Please wear the appropriate attire for the weather- sunscreen\, bug spray and water-resistant hiking shoes. Bring a snack and plenty of water. We will meet at the park office and caravan to the trailhead. This hike is for people 15+. The cost is $5 for adults (cash or check). Park tollbooth fees are waived in lieu of program fees\, be sure to call 24-hours in advance to reserve your spot by calling the office at 518-793-0511.
URL:https://friendsofmoreaulake.org/event/baker-to-moreau-overlook/
END:VEVENT
BEGIN:VEVENT
DTSTART;TZID=America/New_York:20240819T100000
DTEND;TZID=America/New_York:20240819T150000
DTSTAMP:20260422T213044
CREATED:20240529T135639Z
LAST-MODIFIED:20240820T140242Z
UID:10011088-1724061600-1724079600@friendsofmoreaulake.org
SUMMARY:Nature Center Open
DESCRIPTION:
URL:https://friendsofmoreaulake.org/event/nature-center-open-2/2024-08-19/
END:VEVENT
END:VCALENDAR