BEGIN:VCALENDAR
VERSION:2.0
PRODID:-//Friends of Moreau Lake State Park, Inc. - ECPv6.15.20//NONSGML v1.0//EN
CALSCALE:GREGORIAN
METHOD:PUBLISH
X-WR-CALNAME:Friends of Moreau Lake State Park, Inc.
X-ORIGINAL-URL:https://friendsofmoreaulake.org
X-WR-CALDESC:Events for Friends of Moreau Lake State Park, Inc.
REFRESH-INTERVAL;VALUE=DURATION:PT1H
X-Robots-Tag:noindex
X-PUBLISHED-TTL:PT1H
BEGIN:VTIMEZONE
TZID:America/New_York
BEGIN:DAYLIGHT
TZOFFSETFROM:-0500
TZOFFSETTO:-0400
TZNAME:EDT
DTSTART:20230312T070000
END:DAYLIGHT
BEGIN:STANDARD
TZOFFSETFROM:-0400
TZOFFSETTO:-0500
TZNAME:EST
DTSTART:20231105T060000
END:STANDARD
BEGIN:DAYLIGHT
TZOFFSETFROM:-0500
TZOFFSETTO:-0400
TZNAME:EDT
DTSTART:20240310T070000
END:DAYLIGHT
BEGIN:STANDARD
TZOFFSETFROM:-0400
TZOFFSETTO:-0500
TZNAME:EST
DTSTART:20241103T060000
END:STANDARD
BEGIN:DAYLIGHT
TZOFFSETFROM:-0500
TZOFFSETTO:-0400
TZNAME:EDT
DTSTART:20250309T070000
END:DAYLIGHT
BEGIN:STANDARD
TZOFFSETFROM:-0400
TZOFFSETTO:-0500
TZNAME:EST
DTSTART:20251102T060000
END:STANDARD
END:VTIMEZONE
BEGIN:VEVENT
DTSTART;TZID=America/New_York:20240721T100000
DTEND;TZID=America/New_York:20240721T113000
DTSTAMP:20260422T231726
CREATED:20240629T144816Z
LAST-MODIFIED:20240629T145157Z
UID:10012083-1721556000-1721561400@friendsofmoreaulake.org
SUMMARY:Moth Week Celebration
DESCRIPTION:Join an educator at the nature center to observe\, survey and learn about the moths of MLSP! We are celebrating National Moth Week by identifying moths\, instructing you on how to make your own safe DIY moth trap\, and learning about the life activities and ecology of moths. Moth surveying and ID will take place at 10am outside the nature center\, but you can stop by all day to learn about moths! Open to all ages with engaging activities for all. $1 per child and $5 per adult (cash or check) at the office upon arrival. Please register in advance by calling 518-793-0511.
URL:https://friendsofmoreaulake.org/event/moth-week-celebration/2024-07-21/
END:VEVENT
BEGIN:VEVENT
DTSTART;TZID=America/New_York:20240721T100000
DTEND;TZID=America/New_York:20240721T150000
DTSTAMP:20260422T231726
CREATED:20240529T135639Z
LAST-MODIFIED:20240820T140242Z
UID:10005178-1721556000-1721574000@friendsofmoreaulake.org
SUMMARY:Nature Center Open
DESCRIPTION:
URL:https://friendsofmoreaulake.org/event/nature-center-open-2/2024-07-21/
END:VEVENT
END:VCALENDAR