BEGIN:VCALENDAR
VERSION:2.0
PRODID:-//Friends of Moreau Lake State Park, Inc. - ECPv6.15.20//NONSGML v1.0//EN
CALSCALE:GREGORIAN
METHOD:PUBLISH
X-WR-CALNAME:Friends of Moreau Lake State Park, Inc.
X-ORIGINAL-URL:https://friendsofmoreaulake.org
X-WR-CALDESC:Events for Friends of Moreau Lake State Park, Inc.
REFRESH-INTERVAL;VALUE=DURATION:PT1H
X-Robots-Tag:noindex
X-PUBLISHED-TTL:PT1H
BEGIN:VTIMEZONE
TZID:America/New_York
BEGIN:DAYLIGHT
TZOFFSETFROM:-0500
TZOFFSETTO:-0400
TZNAME:EDT
DTSTART:20230312T070000
END:DAYLIGHT
BEGIN:STANDARD
TZOFFSETFROM:-0400
TZOFFSETTO:-0500
TZNAME:EST
DTSTART:20231105T060000
END:STANDARD
BEGIN:DAYLIGHT
TZOFFSETFROM:-0500
TZOFFSETTO:-0400
TZNAME:EDT
DTSTART:20240310T070000
END:DAYLIGHT
BEGIN:STANDARD
TZOFFSETFROM:-0400
TZOFFSETTO:-0500
TZNAME:EST
DTSTART:20241103T060000
END:STANDARD
BEGIN:DAYLIGHT
TZOFFSETFROM:-0500
TZOFFSETTO:-0400
TZNAME:EDT
DTSTART:20250309T070000
END:DAYLIGHT
BEGIN:STANDARD
TZOFFSETFROM:-0400
TZOFFSETTO:-0500
TZNAME:EST
DTSTART:20251102T060000
END:STANDARD
END:VTIMEZONE
BEGIN:VEVENT
DTSTART;TZID=America/New_York:20240707T083000
DTEND;TZID=America/New_York:20240707T100000
DTSTAMP:20260425T080546
CREATED:20240629T143826Z
LAST-MODIFIED:20240629T143826Z
UID:10012071-1720341000-1720346400@friendsofmoreaulake.org
SUMMARY:Beginner Bird Watching
DESCRIPTION:Calling all beginner birders ages 14+\, join us on a guided hike to search for birds! Bring binoculars if you have them. The hike will be a start and stop walk for less than two miles. Class is $5 per adult\, $1 for under 18 (cash or check). Park tollbooth fees are waved in lieu of program fees\, be sure to call 24-hours in advance to reserve your spot by calling the office at 518-793-0511.
URL:https://friendsofmoreaulake.org/event/beginner-bird-watching/
END:VEVENT
BEGIN:VEVENT
DTSTART;TZID=America/New_York:20240707T100000
DTEND;TZID=America/New_York:20240707T113000
DTSTAMP:20260425T080546
CREATED:20240629T143906Z
LAST-MODIFIED:20240629T143906Z
UID:10012072-1720346400-1720351800@friendsofmoreaulake.org
SUMMARY:Reptile Profile
DESCRIPTION:Join an educator in the nature center to meet our resident reptiles! We at Moreau take care of six New York native turtles and three snakes that cannot be released into the wild and are wonderful little educators. Learn about their exciting lives\, what they like to eat\, and what they use for shell-ter at the Nature Center. The cost is $5 for adults\, $1 for children (cash or check) at the office upon arrival. Park tollbooth fees are waved in lieu of program fees\, be sure to call 24 hours in advance to reserve your spot by calling the office at 518-793-0511.
URL:https://friendsofmoreaulake.org/event/reptile-profile-5/
END:VEVENT
BEGIN:VEVENT
DTSTART;TZID=America/New_York:20240707T100000
DTEND;TZID=America/New_York:20240707T150000
DTSTAMP:20260425T080546
CREATED:20240529T135639Z
LAST-MODIFIED:20240820T140242Z
UID:10005172-1720346400-1720364400@friendsofmoreaulake.org
SUMMARY:Nature Center Open
DESCRIPTION:
URL:https://friendsofmoreaulake.org/event/nature-center-open-2/2024-07-07/
END:VEVENT
END:VCALENDAR