BEGIN:VCALENDAR
VERSION:2.0
PRODID:-//Friends of Moreau Lake State Park, Inc. - ECPv6.15.20//NONSGML v1.0//EN
CALSCALE:GREGORIAN
METHOD:PUBLISH
X-ORIGINAL-URL:https://friendsofmoreaulake.org
X-WR-CALDESC:Events for Friends of Moreau Lake State Park, Inc.
REFRESH-INTERVAL;VALUE=DURATION:PT1H
X-Robots-Tag:noindex
X-PUBLISHED-TTL:PT1H
BEGIN:VTIMEZONE
TZID:America/New_York
BEGIN:DAYLIGHT
TZOFFSETFROM:-0500
TZOFFSETTO:-0400
TZNAME:EDT
DTSTART:20230312T070000
END:DAYLIGHT
BEGIN:STANDARD
TZOFFSETFROM:-0400
TZOFFSETTO:-0500
TZNAME:EST
DTSTART:20231105T060000
END:STANDARD
BEGIN:DAYLIGHT
TZOFFSETFROM:-0500
TZOFFSETTO:-0400
TZNAME:EDT
DTSTART:20240310T070000
END:DAYLIGHT
BEGIN:STANDARD
TZOFFSETFROM:-0400
TZOFFSETTO:-0500
TZNAME:EST
DTSTART:20241103T060000
END:STANDARD
BEGIN:DAYLIGHT
TZOFFSETFROM:-0500
TZOFFSETTO:-0400
TZNAME:EDT
DTSTART:20250309T070000
END:DAYLIGHT
BEGIN:STANDARD
TZOFFSETFROM:-0400
TZOFFSETTO:-0500
TZNAME:EST
DTSTART:20251102T060000
END:STANDARD
END:VTIMEZONE
BEGIN:VEVENT
DTSTART;TZID=America/New_York:20240623T100000
DTEND;TZID=America/New_York:20240623T150000
DTSTAMP:20260422T203959
CREATED:20240529T135639Z
LAST-MODIFIED:20240820T140242Z
UID:10005166-1719136800-1719154800@friendsofmoreaulake.org
SUMMARY:Nature Center Open
DESCRIPTION:
URL:https://friendsofmoreaulake.org/event/nature-center-open-2/2024-06-23/
END:VEVENT
BEGIN:VEVENT
DTSTART;TZID=America/New_York:20240623T110000
DTEND;TZID=America/New_York:20240623T120000
DTSTAMP:20260422T203959
CREATED:20240529T134813Z
LAST-MODIFIED:20240529T134813Z
UID:10011049-1719140400-1719144000@friendsofmoreaulake.org
SUMMARY:Reptile Profile
DESCRIPTION:Join an educator in the nature center to meet our resident reptiles! We at Moreau take care of six New York native turtles and three snakes that cannot be released into the wild and are wonderful little educators. Learn about their exciting lives\, what they like to eat\, and what they use for shell-ter at the Nature Center. The cost is $5 for adults\, $1 for children (cash or check) at the office upon arrival. ). Park tollbooth fees are waved in lieu of program fees\, be sure to call 24 hours in advance to reserve your spot by calling the office at 518-793-0511.
URL:https://friendsofmoreaulake.org/event/reptile-profile-4/
END:VEVENT
BEGIN:VEVENT
DTSTART;TZID=America/New_York:20240623T130000
DTEND;TZID=America/New_York:20240623T143000
DTSTAMP:20260422T203959
CREATED:20240529T135314Z
LAST-MODIFIED:20250429T153918Z
UID:10011053-1719147600-1719153000@friendsofmoreaulake.org
SUMMARY:Trail Steward Meeting
DESCRIPTION:A meeting to introduce the trail steward program to newcomers. The duties of a trail steward include walking the trails of Moreau Lake State Park to identify and report maintenance needs\, light trail maintenance including cutting back branches with supplied hand saws and loppers and hanging trail signs when necessary. This meeting will provide crucial information on what to look for on the trails. Established trail stewards are welcome to come\, but it is not mandatory. This meeting is free. ). Park tollbooth fees are waved in lieu of program fees\, for questions call the office at 518-793-0511.
URL:https://friendsofmoreaulake.org/event/trail-steward-meeting-2/2024-06-23/
END:VEVENT
END:VCALENDAR