BEGIN:VCALENDAR
VERSION:2.0
PRODID:-//Friends of Moreau Lake State Park, Inc. - ECPv6.15.20//NONSGML v1.0//EN
CALSCALE:GREGORIAN
METHOD:PUBLISH
X-WR-CALNAME:Friends of Moreau Lake State Park, Inc.
X-ORIGINAL-URL:https://friendsofmoreaulake.org
X-WR-CALDESC:Events for Friends of Moreau Lake State Park, Inc.
REFRESH-INTERVAL;VALUE=DURATION:PT1H
X-Robots-Tag:noindex
X-PUBLISHED-TTL:PT1H
BEGIN:VTIMEZONE
TZID:America/New_York
BEGIN:DAYLIGHT
TZOFFSETFROM:-0500
TZOFFSETTO:-0400
TZNAME:EDT
DTSTART:20230312T070000
END:DAYLIGHT
BEGIN:STANDARD
TZOFFSETFROM:-0400
TZOFFSETTO:-0500
TZNAME:EST
DTSTART:20231105T060000
END:STANDARD
BEGIN:DAYLIGHT
TZOFFSETFROM:-0500
TZOFFSETTO:-0400
TZNAME:EDT
DTSTART:20240310T070000
END:DAYLIGHT
BEGIN:STANDARD
TZOFFSETFROM:-0400
TZOFFSETTO:-0500
TZNAME:EST
DTSTART:20241103T060000
END:STANDARD
BEGIN:DAYLIGHT
TZOFFSETFROM:-0500
TZOFFSETTO:-0400
TZNAME:EDT
DTSTART:20250309T070000
END:DAYLIGHT
BEGIN:STANDARD
TZOFFSETFROM:-0400
TZOFFSETTO:-0500
TZNAME:EST
DTSTART:20251102T060000
END:STANDARD
END:VTIMEZONE
BEGIN:VEVENT
DTSTART;TZID=America/New_York:20240606T100000
DTEND;TZID=America/New_York:20240606T150000
DTSTAMP:20260423T071605
CREATED:20240529T135639Z
LAST-MODIFIED:20240820T140242Z
UID:10011057-1717668000-1717686000@friendsofmoreaulake.org
SUMMARY:Nature Center Open
DESCRIPTION:
URL:https://friendsofmoreaulake.org/event/nature-center-open-2/2024-06-06/
END:VEVENT
BEGIN:VEVENT
DTSTART;TZID=America/New_York:20240606T140000
DTEND;TZID=America/New_York:20240606T160000
DTSTAMP:20260423T071605
CREATED:20240529T133751Z
LAST-MODIFIED:20240529T133751Z
UID:10011035-1717682400-1717689600@friendsofmoreaulake.org
SUMMARY:Mud Pond Hike
DESCRIPTION:Join an Educator on a beginner 2.1 mile hike from Nature Trail to Mud Pond. We might just see some beaver lodges. Please wear the appropriate attire for the weather- sunscreen\, bug spray and water-resistant hiking shoes. Bring a snack and plenty of water. The cost is $5 for adults (cash or check). Park tollbooth fees are waved in lieu of program fees\, be sure to call 24-hours in advance to reserve your spot by calling the office at 518-793-0511.
URL:https://friendsofmoreaulake.org/event/mud-pond-hike-4/
END:VEVENT
BEGIN:VEVENT
DTSTART;TZID=America/New_York:20240606T160000
DTEND;TZID=America/New_York:20240606T190000
DTSTAMP:20260423T071605
CREATED:20240529T143406Z
LAST-MODIFIED:20240529T143512Z
UID:10011904-1717689600-1717700400@friendsofmoreaulake.org
SUMMARY:*Members ONLY* HWA survey at Big Bend
DESCRIPTION:Join Kris Williams on a hike and HWA survey at the newly acquired big bend property. This experience will not only give you a sneak peek at the parcel you will also learn how to do HWA surveys on your own and be an advocate for the hemlock trees. Kris will also be touching on other invasives and using all the awesome things you see to share with you his vast knowledge of the natural world in our own backyards. Spaces are limited so please register HERE
URL:https://friendsofmoreaulake.org/event/members-only-hwa-survey-at-big-bend/
END:VEVENT
END:VCALENDAR