BEGIN:VCALENDAR
VERSION:2.0
PRODID:-//Friends of Moreau Lake State Park, Inc. - ECPv6.15.20//NONSGML v1.0//EN
CALSCALE:GREGORIAN
METHOD:PUBLISH
X-ORIGINAL-URL:https://friendsofmoreaulake.org
X-WR-CALDESC:Events for Friends of Moreau Lake State Park, Inc.
REFRESH-INTERVAL;VALUE=DURATION:PT1H
X-Robots-Tag:noindex
X-PUBLISHED-TTL:PT1H
BEGIN:VTIMEZONE
TZID:America/New_York
BEGIN:DAYLIGHT
TZOFFSETFROM:-0500
TZOFFSETTO:-0400
TZNAME:EDT
DTSTART:20230312T070000
END:DAYLIGHT
BEGIN:STANDARD
TZOFFSETFROM:-0400
TZOFFSETTO:-0500
TZNAME:EST
DTSTART:20231105T060000
END:STANDARD
BEGIN:DAYLIGHT
TZOFFSETFROM:-0500
TZOFFSETTO:-0400
TZNAME:EDT
DTSTART:20240310T070000
END:DAYLIGHT
BEGIN:STANDARD
TZOFFSETFROM:-0400
TZOFFSETTO:-0500
TZNAME:EST
DTSTART:20241103T060000
END:STANDARD
BEGIN:DAYLIGHT
TZOFFSETFROM:-0500
TZOFFSETTO:-0400
TZNAME:EDT
DTSTART:20250309T070000
END:DAYLIGHT
BEGIN:STANDARD
TZOFFSETFROM:-0400
TZOFFSETTO:-0500
TZNAME:EST
DTSTART:20251102T060000
END:STANDARD
END:VTIMEZONE
BEGIN:VEVENT
DTSTART;TZID=America/New_York:20240519T080000
DTEND;TZID=America/New_York:20240523T170000
DTSTAMP:20260425T064036
CREATED:20240515T190842Z
LAST-MODIFIED:20240515T190842Z
UID:10009976-1716105600-1716483600@friendsofmoreaulake.org
SUMMARY:Drawdown Scheduled for Sherman Island Hydropower Facility
DESCRIPTION:Brookfield Renewable U.S. will commence with a drawdown of the headpond at the Sherman Island Hydropower facility in Queensbury\, NY. The drawdown is scheduled to begin on Sunday May 19th and conclude on May 23rd. The water will be restored to current level after the work is complete. This drawdown will impact the water level at the public access in Town of Moreau. \nDue to weather conditions\, the schedule is subject to change without prior notice. \nPlease use caution and wear a personal flotation device when recreating on or near water. Pay close attention to your surroundings and respect all signage\, sirens and barriers. For questions regarding this matter\, please contact us at: \n Inquiries.Newyork@brookfieldrenewable.com
URL:https://friendsofmoreaulake.org/event/drawdown-scheduled-for-sherman-island-hydropower-facility/
END:VEVENT
BEGIN:VEVENT
DTSTART;TZID=America/New_York:20240519T113000
DTEND;TZID=America/New_York:20240519T153000
DTSTAMP:20260425T064036
CREATED:20240318T193150Z
LAST-MODIFIED:20240318T193235Z
UID:10007729-1716118200-1716132600@friendsofmoreaulake.org
SUMMARY:North Country Wildcare Spring Gala
DESCRIPTION:https://wp.me/p9rK3M-4c8
URL:https://friendsofmoreaulake.org/event/north-country-wildcare-spring-gala/
END:VEVENT
BEGIN:VEVENT
DTSTART;TZID=America/New_York:20240519T120000
DTEND;TZID=America/New_York:20240519T140000
DTSTAMP:20260425T064036
CREATED:20240428T141550Z
LAST-MODIFIED:20240428T141550Z
UID:10009911-1716120000-1716127200@friendsofmoreaulake.org
SUMMARY:Who weighs how much?
DESCRIPTION:This program is new and will include a little meet and greet with each animal in the nature center. Afterwards we will work together to guess the weight of each animal and put them in order according of our guesses. We will use some weighted items to help us make guesses and have some fun in the process. This program is ideal for kids 7+ but siblings are welcome to join. This program requires 24 advance sign up and will cost $1 per child. Please call 518-793-0511 to reserve your spot.
URL:https://friendsofmoreaulake.org/event/who-weighs-how-much/
END:VEVENT
END:VCALENDAR