BEGIN:VCALENDAR
VERSION:2.0
PRODID:-//Friends of Moreau Lake State Park, Inc. - ECPv6.15.20//NONSGML v1.0//EN
CALSCALE:GREGORIAN
METHOD:PUBLISH
X-WR-CALNAME:Friends of Moreau Lake State Park, Inc.
X-ORIGINAL-URL:https://friendsofmoreaulake.org
X-WR-CALDESC:Events for Friends of Moreau Lake State Park, Inc.
REFRESH-INTERVAL;VALUE=DURATION:PT1H
X-Robots-Tag:noindex
X-PUBLISHED-TTL:PT1H
BEGIN:VTIMEZONE
TZID:America/New_York
BEGIN:DAYLIGHT
TZOFFSETFROM:-0500
TZOFFSETTO:-0400
TZNAME:EDT
DTSTART:20230312T070000
END:DAYLIGHT
BEGIN:STANDARD
TZOFFSETFROM:-0400
TZOFFSETTO:-0500
TZNAME:EST
DTSTART:20231105T060000
END:STANDARD
BEGIN:DAYLIGHT
TZOFFSETFROM:-0500
TZOFFSETTO:-0400
TZNAME:EDT
DTSTART:20240310T070000
END:DAYLIGHT
BEGIN:STANDARD
TZOFFSETFROM:-0400
TZOFFSETTO:-0500
TZNAME:EST
DTSTART:20241103T060000
END:STANDARD
BEGIN:DAYLIGHT
TZOFFSETFROM:-0500
TZOFFSETTO:-0400
TZNAME:EDT
DTSTART:20250309T070000
END:DAYLIGHT
BEGIN:STANDARD
TZOFFSETFROM:-0400
TZOFFSETTO:-0500
TZNAME:EST
DTSTART:20251102T060000
END:STANDARD
END:VTIMEZONE
BEGIN:VEVENT
DTSTART;TZID=America/New_York:20240504T100000
DTEND;TZID=America/New_York:20240504T130000
DTSTAMP:20260423T102549
CREATED:20240428T140742Z
LAST-MODIFIED:20240428T140742Z
UID:10009901-1714816800-1714827600@friendsofmoreaulake.org
SUMMARY:I Love My Park Day
DESCRIPTION:Join Parks & Trails New York – and thousands of volunteers across the state – on Saturday\, May 4 in celebrating and enhancing New York’s parks\, historic sites\, greenway trails and other public lands. \nI Love My Park Day–the largest single-day volunteer event in NYS–presents a perfect opportunity to clean up our favorite parks and shorelines\, plant trees and gardens\, restore trails and wildlife habitat\, remove invasive species\, and work on various site improvement projects–all which help to prepare our iconic state park system and public lands for the start of the season. \nRegister HERE \nDownload FLYER HERE
URL:https://friendsofmoreaulake.org/event/i-love-my-park-day/
END:VEVENT
END:VCALENDAR